BEGIN:VCALENDAR
VERSION:2.0
PRODID:-//Berlin Jazz - ECPv6.15.11//NONSGML v1.0//EN
CALSCALE:GREGORIAN
METHOD:PUBLISH
X-WR-CALNAME:Berlin Jazz
X-ORIGINAL-URL:https://jazz-in-berlin.net
X-WR-CALDESC:Veranstaltungen für Berlin Jazz
REFRESH-INTERVAL;VALUE=DURATION:PT1H
X-Robots-Tag:noindex
X-PUBLISHED-TTL:PT1H
BEGIN:VTIMEZONE
TZID:Europe/Berlin
BEGIN:DAYLIGHT
TZOFFSETFROM:+0100
TZOFFSETTO:+0200
TZNAME:CEST
DTSTART:20230326T010000
END:DAYLIGHT
BEGIN:STANDARD
TZOFFSETFROM:+0200
TZOFFSETTO:+0100
TZNAME:CET
DTSTART:20231029T010000
END:STANDARD
BEGIN:DAYLIGHT
TZOFFSETFROM:+0100
TZOFFSETTO:+0200
TZNAME:CEST
DTSTART:20240331T010000
END:DAYLIGHT
BEGIN:STANDARD
TZOFFSETFROM:+0200
TZOFFSETTO:+0100
TZNAME:CET
DTSTART:20241027T010000
END:STANDARD
BEGIN:DAYLIGHT
TZOFFSETFROM:+0100
TZOFFSETTO:+0200
TZNAME:CEST
DTSTART:20250330T010000
END:DAYLIGHT
BEGIN:STANDARD
TZOFFSETFROM:+0200
TZOFFSETTO:+0100
TZNAME:CET
DTSTART:20251026T010000
END:STANDARD
END:VTIMEZONE
BEGIN:VEVENT
DTSTART;TZID=Europe/Berlin:20241028T183000
DTEND;TZID=Europe/Berlin:20241028T235900
DTSTAMP:20260425T174930
CREATED:20240929T050600Z
LAST-MODIFIED:20240928T111202Z
UID:7306-1730140200-1730159940@jazz-in-berlin.net
SUMMARY:Chief Adjuah (Christian Scott)
DESCRIPTION:Doppelkonzert: 18:30 und 21:00Chief Xian aTunde Adjuah – saxophoneBand siehe Zig Zag \n\n\n\nchiefadjuah.com \n\n\n\n\n\nChief Adjuah (Christian Scott)\n\n\n\n\n\n\n\n\n\n\n\n\n\nBark Out Thunder Roar Out Lightningvon Chief Adjuah\n\n\n\n\n\n\n\n\n\nChief Adjuah (Christian Scott)
URL:https://jazz-in-berlin.net/event/chief-adjuah-christian-scott/
LOCATION:Zig Zag\, Hauptstraße 89\, Berlin\, 12159
ATTACH;FMTTYPE=image/jpeg:https://images.squarespace-cdn.com/content/v1/55146be5e4b0392be71840b6/1431516196750-KT8J11AC198OTFSL66PV/ZZ+full+burgundy+transparent.png?format=1500w
END:VEVENT
BEGIN:VEVENT
DTSTART;TZID=Europe/Berlin:20241028T200000
DTEND;TZID=Europe/Berlin:20241028T220000
DTSTAMP:20260425T174930
CREATED:20240929T054400Z
LAST-MODIFIED:20240928T134558Z
UID:7358-1730145600-1730152800@jazz-in-berlin.net
SUMMARY:Hypersurface
DESCRIPTION:Drew Wesely – guitar\, objectsLester St. Louis – celloCarlo Costa – percussion \n\n\n\n\n\nHypersurface\n\n\n\n\n\n\n\nHypersurface
URL:https://jazz-in-berlin.net/event/hypersurface/
LOCATION:Kühlspot Social Club\, Lehderstraße 74\, Berlin\, 13086
ATTACH;FMTTYPE=:
END:VEVENT
BEGIN:VEVENT
DTSTART;TZID=Europe/Berlin:20241028T200000
DTEND;TZID=Europe/Berlin:20241028T223000
DTSTAMP:20260425T174930
CREATED:20240928T154021Z
LAST-MODIFIED:20241014T121707Z
UID:7412-1730145600-1730154600@jazz-in-berlin.net
SUMMARY:Conny Bauer & Jon Raskin
DESCRIPTION:Veranstaltung des Jazzkeller 69 e.V.Conny Bauer – tromboneJon Raskin – alto saxophone \n\n\n\nfindet im Terzo MondostattGrolmanstraße 28Berlin\, 10623 \n\n\n\n\n\nConny Bauer & Jon Raskin\n\n\n\n\n\n\n\n\n\n\n\n\n\n\n\n\n\nConny Bauer & Jon Raskin
URL:https://jazz-in-berlin.net/event/conny-bauer-jon-raskin/
LOCATION:Industriesalon Schöneweide\, Reinbeckstraße 9\, Berlin\, 12459
ATTACH;FMTTYPE=:
END:VEVENT
BEGIN:VEVENT
DTSTART;TZID=Europe/Berlin:20241028T200000
DTEND;TZID=Europe/Berlin:20241028T230000
DTSTAMP:20260425T174930
CREATED:20241028T062810Z
LAST-MODIFIED:20241028T062945Z
UID:8308-1730145600-1730156400@jazz-in-berlin.net
SUMMARY:Rebekka Bakken Solo
DESCRIPTION:KammermusiksaalRebekka Bakken SoloRebekka Bakken – vocals\, piano \n\n\n\n\n\nRebekka Bakken Solo\n\n\n\n\n\n\n\nRebekka Bakken Solo
URL:https://jazz-in-berlin.net/event/rebekka-bakken-solo/
LOCATION:Philharmonie\, Herbert-von-Karajan-Straße 1\, Berlin\, 10785
ATTACH;FMTTYPE=image/jpeg:https://upload.wikimedia.org/wikipedia/commons/thumb/b/bc/Berliner_Philharmoniker_logo.svg/2560px-Berliner_Philharmoniker_logo.svg.png
END:VEVENT
BEGIN:VEVENT
DTSTART;TZID=Europe/Berlin:20241028T210000
DTEND;TZID=Europe/Berlin:20241028T230000
DTSTAMP:20260425T174930
CREATED:20241006T112251Z
LAST-MODIFIED:20241006T112252Z
UID:7556-1730149200-1730156400@jazz-in-berlin.net
SUMMARY:special event: Black Veil + Scarlett Cook
DESCRIPTION:Dalai Cellai – cello Damian Murdoch – guitarSupport Act: Scarlett Cook – piano\, vocals \n\n\n\nscarlettcook.com \n\n\n\nspecial event: Black Veil + Scarlett Cook\n\n\n\n\n\n\n\n\n\n\n\nRequiem for the Earthvon Scarlett Cook\n\n\n\n\n\n\n\n\n\n\n\n\n\nspecial event: Black Veil + Scarlett Cook
URL:https://jazz-in-berlin.net/event/special-event-black-veil-scarlett-cook/
LOCATION:B-Flat\, Dircksenstraße 40\, Berlin\, 10178
ATTACH;FMTTYPE=:
END:VEVENT
BEGIN:VEVENT
DTSTART;TZID=Europe/Berlin:20241028T210000
DTEND;TZID=Europe/Berlin:20241028T233000
DTSTAMP:20260425T174930
CREATED:20241006T144420Z
LAST-MODIFIED:20241006T144421Z
UID:7374-1730149200-1730158200@jazz-in-berlin.net
SUMMARY:Dizzy Dodo
DESCRIPTION:Lisa Buchholz – TrompeteGaetan Fournet-Fayas – AltsaxofonNiko Zeidler – TenorsaxofonOscar Genter – KlavierPelle Buschmann – KontrabassJonas Friese – Schlagzeug \n\n\n\nlisabuchholz.com | nikozeidler.com \n\n\n\n\n\nDizzy Dodo\n\n\n\n\n\n\n\n\n\nNIOKAT // Anti Gravity Januar 2023 YOUTUBE\n\n\n\n\n\nMTJQ\, Kenneth Berkel\, Niko ZeidlerPerfection 2022\n\n\n\n\n\nDizzy Dodo
URL:https://jazz-in-berlin.net/event/dizzy-dodo-2/
LOCATION:Kunstfabrik Schlot\, Invalidenstraße 117\, Berlin\, 10115
ATTACH;FMTTYPE=:
END:VEVENT
END:VCALENDAR