BEGIN:VCALENDAR
VERSION:2.0
PRODID:-//Berlin Jazz - ECPv6.15.11//NONSGML v1.0//EN
CALSCALE:GREGORIAN
METHOD:PUBLISH
X-ORIGINAL-URL:https://jazz-in-berlin.net
X-WR-CALDESC:Veranstaltungen für Berlin Jazz
REFRESH-INTERVAL;VALUE=DURATION:PT1H
X-Robots-Tag:noindex
X-PUBLISHED-TTL:PT1H
BEGIN:VTIMEZONE
TZID:Europe/Berlin
BEGIN:DAYLIGHT
TZOFFSETFROM:+0100
TZOFFSETTO:+0200
TZNAME:CEST
DTSTART:20230326T010000
END:DAYLIGHT
BEGIN:STANDARD
TZOFFSETFROM:+0200
TZOFFSETTO:+0100
TZNAME:CET
DTSTART:20231029T010000
END:STANDARD
BEGIN:DAYLIGHT
TZOFFSETFROM:+0100
TZOFFSETTO:+0200
TZNAME:CEST
DTSTART:20240331T010000
END:DAYLIGHT
BEGIN:STANDARD
TZOFFSETFROM:+0200
TZOFFSETTO:+0100
TZNAME:CET
DTSTART:20241027T010000
END:STANDARD
BEGIN:DAYLIGHT
TZOFFSETFROM:+0100
TZOFFSETTO:+0200
TZNAME:CEST
DTSTART:20250330T010000
END:DAYLIGHT
BEGIN:STANDARD
TZOFFSETFROM:+0200
TZOFFSETTO:+0100
TZNAME:CET
DTSTART:20251026T010000
END:STANDARD
END:VTIMEZONE
BEGIN:VEVENT
DTSTART;TZID=Europe/Berlin:20241101T170000
DTEND;TZID=Europe/Berlin:20241101T233000
DTSTAMP:20260425T174606
CREATED:20241101T065517Z
LAST-MODIFIED:20241101T065829Z
UID:8434-1730480400-1730503800@jazz-in-berlin.net
SUMMARY:Jazzfest Berlin - Goran Kajfeš Tropiques // Kris Davis // Trio Tapestry
DESCRIPTION:Jazzfest Berlin – Goran Kajfeš Tropiques // Kris Davis // Trio Tapestry\n\n\n\nGoran Kajfeš Tropiques: „Tell us“Goran Kajfeš – Trompete\, SynthesizerAlex Zethson – Klavier\, Orgel\, SynthesizerJohan Berthling – KontrabassJohan Holmegard – SchlagzeugJosefin Runsteen – ViolineLeo Svensson Sander – Cello \n\n\n\nKris Davis: „Diatom Ribbons“Kris Davis – KlavierVal Jeanty – Turntable\, ElektronikNick Dunston – KontrabassTerri Lyne Carrington – Schlagzeug \n\n\n\nJoe Lovano Trio TapestryJoe Lovano – Tenorsaxofon\, Tárogató\, GongsMarilyn Crispell – KlavierCarmen Castaldi – Schlagzeug\, Perkussion \n\n\n\n\n\n\n\n\n\n\nJazzfest Berlin 2024\n\n\n\n\nJazzfest Berlin – Goran Kajfeš Tropiques // Kris Davis // Trio Tapestry
URL:https://jazz-in-berlin.net/event/jazzfest-berlin-goran-kajfes-tropiques-kris-davis-trio-tapestry/
LOCATION:Festspielhaus\, Schaperstraße 24\, Berlin\, 10719
ATTACH;FMTTYPE=image/jpeg:https://jazz-in-berlin.net/wp-content/uploads/2024/11/IMG_7477-scaled.jpg
END:VEVENT
BEGIN:VEVENT
DTSTART;TZID=Europe/Berlin:20241101T200000
DTEND;TZID=Europe/Berlin:20241101T220000
DTSTAMP:20260425T174606
CREATED:20241031T064829Z
LAST-MODIFIED:20241031T064829Z
UID:8357-1730491200-1730498400@jazz-in-berlin.net
SUMMARY:DELIUS / ÄLEKLINT / EGBERTH / RÖSSLER / NAYLOR
DESCRIPTION:Tobias Delius – saxophone\, clarinetMats Äleklint – tromboneDennis Egberth – drumsIsabel Rößler – bass \n\n\n\n\n\nDELIUS / ÄLEKLINT / EGBERTH / RÖSSLER / NAYLOR\n\n\n\n\n\n\n\nDELIUS / ÄLEKLINT / EGBERTH / RÖSSLER / NAYLOR
URL:https://jazz-in-berlin.net/event/delius-aeleklint-egberth-roessler-naylor/
LOCATION:Kühlspot Social Club\, Lehderstraße 74\, Berlin\, 13086
ATTACH;FMTTYPE=:
END:VEVENT
BEGIN:VEVENT
DTSTART;TZID=Europe/Berlin:20241101T200000
DTEND;TZID=Europe/Berlin:20241101T223000
DTSTAMP:20260425T174606
CREATED:20241031T083142Z
LAST-MODIFIED:20241031T083758Z
UID:8389-1730491200-1730500200@jazz-in-berlin.net
SUMMARY:XJAZZ Super Silent - Korhan Erel | Philo Tsoungui
DESCRIPTION:Spam Victim – PoemsKorhan Erel – electronics \n\n\n\n Philo Tsoungui – drums \n\n\n\nXJAZZ Super Silent  – Korhan Erel | Philo Tsoungui\n\n\n\n\n\n\n\n\n\nXJAZZ Super Silent  – Korhan Erel | Philo Tsoungui
URL:https://jazz-in-berlin.net/event/super-silent-korhan-erel-philo-tsoungui/
LOCATION:Emmauskirche\, Lausitzer Platz 8 A\, Berlin\, 10997
ATTACH;FMTTYPE=image/jpeg:https://www.evkgk.de/uploads/DMu44dyW/768x175_879x201/briefkopf_evang_kg_kreuzberg__msi___jpg.webp
END:VEVENT
BEGIN:VEVENT
DTSTART;TZID=Europe/Berlin:20241101T200000
DTEND;TZID=Europe/Berlin:20241101T230000
DTSTAMP:20260425T174606
CREATED:20241002T054200Z
LAST-MODIFIED:20241014T112217Z
UID:7212-1730491200-1730502000@jazz-in-berlin.net
SUMMARY:Amphitrio - Livestream
DESCRIPTION:Andrei Petrache – pianoMike Alex – double bass Philip Goron – drums \n\n\n\namphitrio.com \n\n\n\n\n\nAmphitrio\n\n\n\n\n\n\n\n\n\n\n\n\n\n\n\nSEASONSvon AMPHITRIO\n\n\n\n\n\nPOINTSvon AMPHITRIO\n\n\n\n\n\nLivestream \n\n\n\nPeppi Guggenheim Berlin Live Concert: Amphitrio YOUTUBE\n\n\n\nAmphitrio
URL:https://jazz-in-berlin.net/event/amphitrio/
LOCATION:Peppi Guggenheim\, Weichselstrasse 7\, Berlin\, 12043
ATTACH;FMTTYPE=:
END:VEVENT
BEGIN:VEVENT
DTSTART;TZID=Europe/Berlin:20241101T200000
DTEND;TZID=Europe/Berlin:20241101T233000
DTSTAMP:20260425T174606
CREATED:20241019T121147Z
LAST-MODIFIED:20241019T121749Z
UID:7977-1730491200-1730503800@jazz-in-berlin.net
SUMMARY:Trophy Cousin | Recoil
DESCRIPTION:Trophy CousinKenny Warren – trumpet Jeremy Viner – tenor sax\, clarinet Lukas Akintaya – drums  \n\n\n\nRecoil  Brad Henkel – trumpet\, effects Dustin Carlson – guitar Samuel Hall – percussion\, electronics \n\n\n\nTrophy Cousin | Recoil\n\n\n\n \n\n\n\n\n\n\n\n\n\nTrophy Cousin | Recoil
URL:https://jazz-in-berlin.net/event/trophy-cousin-recoil/
LOCATION:Sowieso\, Weisestraße 24\, Berlin\, 12049
ATTACH;FMTTYPE=:
END:VEVENT
BEGIN:VEVENT
DTSTART;TZID=Europe/Berlin:20241101T200000
DTEND;TZID=Europe/Berlin:20241101T235900
DTSTAMP:20260425T174606
CREATED:20241002T054700Z
LAST-MODIFIED:20241027T082618Z
UID:6999-1730491200-1730505540@jazz-in-berlin.net
SUMMARY:The Chilkats
DESCRIPTION:Hendrik – guitarJol – blues harpGianni Pace – bassBoris Borisov – drums \n\n\n\nThe Chilkats\n\n\n\n\n\n\n\nThe Chilkats – Twist on the Moon (live at Blues Baltica) YOUTUBE\n\n\n\nThe Chilkats
URL:https://jazz-in-berlin.net/event/the-chilkats/
LOCATION:Yorckschlösschen\, Yorckstraße 15\, Berlin\, 10965
ATTACH;FMTTYPE=image/jpeg:https://jazz-in-berlin.net/wp-content/uploads/2024/06/Yorckschloesschen-Logo-30.jpg
END:VEVENT
BEGIN:VEVENT
DTSTART;TZID=Europe/Berlin:20241101T201500
DTEND;TZID=Europe/Berlin:20241101T230000
DTSTAMP:20260425T174606
CREATED:20240606T150258Z
LAST-MODIFIED:20241019T084447Z
UID:2650-1730492100-1730502000@jazz-in-berlin.net
SUMMARY:Will Jacobs & Breezy Rodio
DESCRIPTION:Will Jacobs – Guitar/VocalsBreezy Rodio – GuitarBrian Sauls – DrumsMatthias Falkenau – KeysArne Imig – BassBand kann abweichen \n\n\n\n\n\nWill Jacobs & Breezy Rodio\n\n\n\n\n\n\n\n\n\nUnderground BluesBreezy Rodio\n\n\n\n\n\n\n\n\n\n\nWILL JACOBS Chicago Blues Band\n\n\n\n\nWill Jacobs & Breezy Rodio
URL:https://jazz-in-berlin.net/event/will-jacobs-chicago-blues-band/
LOCATION:Badenscher Hof\, Badensche Straße 29\, Berlin\, 10715
ATTACH;FMTTYPE=image/jpeg:https://lirp.cdn-website.com/d05763ec/dms3rep/multi/opt/Logo_banner_new-5e2a17ee-1920w.png
END:VEVENT
BEGIN:VEVENT
DTSTART;TZID=Europe/Berlin:20241101T203000
DTEND;TZID=Europe/Berlin:20241101T230000
DTSTAMP:20260425T174606
CREATED:20241020T104307Z
LAST-MODIFIED:20241020T104338Z
UID:8043-1730493000-1730502000@jazz-in-berlin.net
SUMMARY:Bruno Bode Quartet
DESCRIPTION:Bruno Bode – Alto saxophone\, compositionValentin Gerhardus – PianoFelix Henkelhausen – BassMarius Wankel – Drums \n\n\n\nsoundcloud.com \n\n\n\n\n\nBruno Bode Quartet\n\n\n\n\n\n\n\n\n\n\n\n\n\n\n\n\n\nBruno Bode Quartet
URL:https://jazz-in-berlin.net/event/bruno-bode-quartet/
LOCATION:Donau 115\, Donaustrasse 115\, Berlin\, 12043
ATTACH;FMTTYPE=:
END:VEVENT
BEGIN:VEVENT
DTSTART;TZID=Europe/Berlin:20241101T203000
DTEND;TZID=Europe/Berlin:20241101T230000
DTSTAMP:20260425T174606
CREATED:20241020T110356Z
LAST-MODIFIED:20241020T110356Z
UID:8049-1730493000-1730502000@jazz-in-berlin.net
SUMMARY:dj sniff | Ignaz Schick
DESCRIPTION:dj sniff\, solo set for turntables \n\n\n\nIgnaz Schick\, solo set for objects & motors \n\n\n\n\n\ndj sniff | Ignaz Schick\n\n\n\n\n\n\n\n\n\n\n\n\n\n\n\n\n\ndj sniff | Ignaz Schick
URL:https://jazz-in-berlin.net/event/dj-sniff-ignaz-schick/
LOCATION:KM 28\, Karl-Marx-Straße 28\, Berlin\, 12043
ATTACH;FMTTYPE=image/jpeg:https://jazz-in-berlin.net/wp-content/uploads/2023/06/KM-28-Logo-20.jpg
END:VEVENT
BEGIN:VEVENT
DTSTART;TZID=Europe/Berlin:20241101T203000
DTEND;TZID=Europe/Berlin:20241101T230000
DTSTAMP:20260425T174606
CREATED:20241031T095243Z
LAST-MODIFIED:20241031T095243Z
UID:8426-1730493000-1730502000@jazz-in-berlin.net
SUMMARY:Julius Rodriguez (Verve/US) *live*
DESCRIPTION:Sean Steinfeger (Opening DJ-Set/D) \n\n\n\nJulius Rodriguez – bass\, piano\, synthesizer\, drums \n\n\n\njuliusrodriguez.com \n\n\n\n\n\nJulius Rodriguez (Verve/US) *live*\n\n\n\n\n\n\n\nEvergreenJulius RodriguezGuests: Keyon Harrold\, Nate Mercereau und Georgia Anne Muldrow\n\n\n\nJulius Rodriguez (Verve/US) *live*
URL:https://jazz-in-berlin.net/event/julius-rodriguez-verve-us-live/
LOCATION:Gretchen\, Obentrautstraße 19-21\, Berlin\, 10963
ATTACH;FMTTYPE=image/jpeg:https://www.gretchen-club.de/css/images/logo.png
END:VEVENT
BEGIN:VEVENT
DTSTART;TZID=Europe/Berlin:20241101T210000
DTEND;TZID=Europe/Berlin:20241101T233000
DTSTAMP:20260425T174606
CREATED:20240608T144554Z
LAST-MODIFIED:20241006T145220Z
UID:3162-1730494800-1730503800@jazz-in-berlin.net
SUMMARY:JAZZORCHESTER PROKOPÄTZ BERLIN
DESCRIPTION:Trompeten: Frank Lange\, Tobias Zerbe\, Steve Fish\, Johannes MoesPosaunen: Joachim Suckert\, Julius Hopf\, Manfred EckesSaxophone: Daniel Franke\, Yu-Mi RyangRainer Mehlhorn\, Jörn Scheele\,Johanna Hessenberg\, Sigmund DrexlerBaßklarinette: Friederike Jenssen-Faller\,Gitarre: Dirk TöpperE-Baß: Frank MüllerSchlagzeug: Nils WernerPiano und Leitung: Hannes Zerbe \n\n\n\nprokopaetz.de \n\n\n\n\n\nJAZZORCHESTER PROKOPÄTZ BERLIN\n\n\n\n\n\n\n\nJAZZORCHESTER PROKOPÄTZ BERLIN
URL:https://jazz-in-berlin.net/event/jazzorchester-prokopaetz-berlin/
LOCATION:Kunstfabrik Schlot\, Invalidenstraße 117\, Berlin\, 10115
ATTACH;FMTTYPE=image/jpeg:https://jazz-in-berlin.net/wp-content/uploads/2024/07/Kunstfabrink-Logo-20.jpg
END:VEVENT
BEGIN:VEVENT
DTSTART;TZID=Europe/Berlin:20241101T210000
DTEND;TZID=Europe/Berlin:20241101T233000
DTSTAMP:20260425T174606
CREATED:20241006T094029Z
LAST-MODIFIED:20241006T094140Z
UID:7521-1730494800-1730503800@jazz-in-berlin.net
SUMMARY:Donald Harrison Quartet
DESCRIPTION:Donald Harrison – saxophoneDan Kaufman – pianoNori Naraoka – bassJoe Dyson – drums \n\n\n\ndonaldharrison.com \n\n\n\n\n\nDonald Harrison Quartet\n\n\n\n\n\n\n\n\n\n\n\n\n\nCongo Square Suitevon Big Chief Donald Harrison Jr.Donald Harrison\, alto saxophoneMax Moran\, acoustic bassJoe Dyson\, drumsZaccai Curtis\, pianoThe Congo Square Nation Afro-New Orleans Cultural Group\n\n\n\n\n\nThis Is JazzDonald Harrison\, Ron Carter\, Bill Cobham\n\n\n\n\n\nFree To BeDonald Harrison\n\n\n\n\n\nDonald Harrison Quartet
URL:https://jazz-in-berlin.net/event/donald-harrison-quartet/
LOCATION:Zig Zag\, Hauptstraße 89\, Berlin\, 12159
ATTACH;FMTTYPE=image/jpeg:https://images.squarespace-cdn.com/content/v1/55146be5e4b0392be71840b6/1431516196750-KT8J11AC198OTFSL66PV/ZZ+full+burgundy+transparent.png?format=1500w
END:VEVENT
BEGIN:VEVENT
DTSTART;TZID=Europe/Berlin:20241101T210000
DTEND;TZID=Europe/Berlin:20241101T235900
DTSTAMP:20260425T174606
CREATED:20241006T112912Z
LAST-MODIFIED:20241006T120334Z
UID:7558-1730494800-1730505540@jazz-in-berlin.net
SUMMARY:The „B-flat All-Stars“present Mrs. Simona de Rosa
DESCRIPTION:Simoa de Rosa  – vocalKenneth Berkel – pianoHendrik Nehls – bassDexter Stanley-Tauvao – drums \n\n\n\nsimonaderosa.com \n\n\n\nThe „B-flat All-Stars“present Mrs. Simona de Rosa\n\n\n\n\n\n\n\n\n\n\n\nDjenubSimona De Rosa\n\n\n\n\n\n\n\n\n\n\n\n\n\n\n\nThe „B-flat All-Stars“present Mrs. Simona de Rosa
URL:https://jazz-in-berlin.net/event/the-b-flat-all-starspresent-mrs-simona-de-rosa-2/
LOCATION:B-Flat\, Dircksenstraße 40\, Berlin\, 10178
ATTACH;FMTTYPE=image/jpeg:https://jazz-in-berlin.net/wp-content/uploads/2024/08/B-Flat-Logo-50.jpg
END:VEVENT
BEGIN:VEVENT
DTSTART;TZID=Europe/Berlin:20241101T223000
DTEND;TZID=Europe/Berlin:20241101T235900
DTSTAMP:20260425T174606
CREATED:20241003T152325Z
LAST-MODIFIED:20241003T152452Z
UID:7471-1730500200-1730505540@jazz-in-berlin.net
SUMMARY:Jazzfest Berlin - The Sleep of Reason Produces Monsters
DESCRIPTION:Mariam Rezaei – turntablesMette Rasmussen – altsaxophoneGabriele Mitelli – piccolotrumpet\, electronicLukas König – drums\, elektronic \n\n\n\n\n\nJazzfest Berlin – The Sleep of Reason Produces Monsters\n\n\n\n\n\n\n\n\n\nBOWNby Mariam Rezaei\n\n\n\n\n\nMEDEAby STAR SPLITTER Gabriele Mitelli\, Rob Mazurek\n\n\n\n\n\nTexas EditionMette Rasmussen\, Julien Desprez\, THE HATCH EXPANSION\n\n\n\n\n\nJazzfest Berlin – The Sleep of Reason Produces Monsters
URL:https://jazz-in-berlin.net/event/jazzfest-berlin-the-sleep-of-reason-produces-monsters/
LOCATION:Quasimodo\, Kantstrasse 12a\, Berlin\, 10623
ATTACH;FMTTYPE=image/jpeg:https://quasimodo.club/wp-content/uploads/2018/07/Quasimodo_Logo.png
END:VEVENT
END:VCALENDAR