BEGIN:VCALENDAR
VERSION:2.0
PRODID:-//Berlin Jazz - ECPv6.15.11//NONSGML v1.0//EN
CALSCALE:GREGORIAN
METHOD:PUBLISH
X-WR-CALNAME:Berlin Jazz
X-ORIGINAL-URL:https://jazz-in-berlin.net
X-WR-CALDESC:Veranstaltungen für Berlin Jazz
REFRESH-INTERVAL;VALUE=DURATION:PT1H
X-Robots-Tag:noindex
X-PUBLISHED-TTL:PT1H
BEGIN:VTIMEZONE
TZID:Europe/Berlin
BEGIN:DAYLIGHT
TZOFFSETFROM:+0100
TZOFFSETTO:+0200
TZNAME:CEST
DTSTART:20230326T010000
END:DAYLIGHT
BEGIN:STANDARD
TZOFFSETFROM:+0200
TZOFFSETTO:+0100
TZNAME:CET
DTSTART:20231029T010000
END:STANDARD
BEGIN:DAYLIGHT
TZOFFSETFROM:+0100
TZOFFSETTO:+0200
TZNAME:CEST
DTSTART:20240331T010000
END:DAYLIGHT
BEGIN:STANDARD
TZOFFSETFROM:+0200
TZOFFSETTO:+0100
TZNAME:CET
DTSTART:20241027T010000
END:STANDARD
BEGIN:DAYLIGHT
TZOFFSETFROM:+0100
TZOFFSETTO:+0200
TZNAME:CEST
DTSTART:20250330T010000
END:DAYLIGHT
BEGIN:STANDARD
TZOFFSETFROM:+0200
TZOFFSETTO:+0100
TZNAME:CET
DTSTART:20251026T010000
END:STANDARD
END:VTIMEZONE
BEGIN:VEVENT
DTSTART;TZID=Europe/Berlin:20241108T153000
DTEND;TZID=Europe/Berlin:20241108T173000
DTSTAMP:20260425T174908
CREATED:20241009T054800Z
LAST-MODIFIED:20240928T155058Z
UID:7416-1731079800-1731087000@jazz-in-berlin.net
SUMMARY:HIBY | KELLERS | ASKARI
DESCRIPTION:Hans-Peter Hiby – saxophoneWilli Kellers – drumsReza Askari – bass \n\n\n\nhanspeterhiby.comwillikellers.dereza-askari.com \n\n\n\n\n\nHIBY | KELLERS | ASKARI\n\n\n\n\n\n\n\nHIBY | KELLERS | ASKARI
URL:https://jazz-in-berlin.net/event/hiby-kellers-askari/
LOCATION:Jazz am Kaisersteg\, Alte Kita Hasselwerderstraße 22A\, Berlin\, 12439
ATTACH;FMTTYPE=:
END:VEVENT
BEGIN:VEVENT
DTSTART;TZID=Europe/Berlin:20241108T200000
DTEND;TZID=Europe/Berlin:20241108T220000
DTSTAMP:20260425T174908
CREATED:20241031T065203Z
LAST-MODIFIED:20241031T065203Z
UID:8361-1731096000-1731103200@jazz-in-berlin.net
SUMMARY:OCEANS ROAR 1000
DESCRIPTION:Todd Capp – drumsAndrew Lafkas – bassBryan Eubanks – saxophone\, electronicsXavier Lopez – synth+ special guest Derek Shirley \n\n\n\n\n\nOCEANS ROAR 1000\n\n\n\n\n\n\n\nOCEANS ROAR 1000
URL:https://jazz-in-berlin.net/event/oceans-roar-1000/
LOCATION:Kühlspot Social Club\, Lehderstraße 74\, Berlin\, 13086
ATTACH;FMTTYPE=:
END:VEVENT
BEGIN:VEVENT
DTSTART;TZID=Europe/Berlin:20241108T200000
DTEND;TZID=Europe/Berlin:20241108T223000
DTSTAMP:20260425T174908
CREATED:20241009T052600Z
LAST-MODIFIED:20241006T103012Z
UID:7546-1731096000-1731105000@jazz-in-berlin.net
SUMMARY:Mikhail Pochekin Simon Tetzlaff Georgy Tchaidze
DESCRIPTION:Mikhail Pochekin – Violine Simon Tetzlaff – Cello Georgy Tchaidze – Klavier \n\n\n\nBeethoven – Sonate in g-Moll op.5\,No.2 für Cello und KlavierBrahms – Sonate in d-Moll op.108\, No.3 für Violine und KlavierSchubert – Klaviertrio in Es-Dur D.929\, No.2 \n\n\n\n\n\nMikhail Pochekin Simon Tetzlaff Georgy Tchaidze\n\n\n\n\n\n\n\n\nMikhail Pochekin Georgy Tchaidze\n\n\n\n\nMikhail Pochekin Simon Tetzlaff Georgy Tchaidze
URL:https://jazz-in-berlin.net/event/mikhail-pochekin-simon-tetzlaff-georgy-tchaidze/
LOCATION:Piano Salon Christophori\, Uferstr.8\, Berlin\, 13357
ATTACH;FMTTYPE=:
END:VEVENT
BEGIN:VEVENT
DTSTART;TZID=Europe/Berlin:20241108T200000
DTEND;TZID=Europe/Berlin:20241108T230000
DTSTAMP:20260425T174908
CREATED:20241028T063326Z
LAST-MODIFIED:20241028T063327Z
UID:8311-1731096000-1731106800@jazz-in-berlin.net
SUMMARY:David Hermlin Trio
DESCRIPTION:KammermusiksaalDavid Hermlin TrioDavid Hermlin – Drums/VocalsLorenzo Baldasso – ClarinetSascha Kommer – Piano \n\n\n\n\n\nDavid Hermlin Trio\n\n\n\n\n\n\n\nDavid Hermlin Trio
URL:https://jazz-in-berlin.net/event/david-hermlin-trio/
LOCATION:Philharmonie\, Herbert-von-Karajan-Straße 1\, Berlin\, 10785
ATTACH;FMTTYPE=image/jpeg:https://upload.wikimedia.org/wikipedia/commons/thumb/b/bc/Berliner_Philharmoniker_logo.svg/2560px-Berliner_Philharmoniker_logo.svg.png
END:VEVENT
BEGIN:VEVENT
DTSTART;TZID=Europe/Berlin:20241108T200000
DTEND;TZID=Europe/Berlin:20241108T233000
DTSTAMP:20260425T174908
CREATED:20241019T124123Z
LAST-MODIFIED:20241019T124243Z
UID:7987-1731096000-1731108600@jazz-in-berlin.net
SUMMARY:Kaufmann Pitsiokos Henkelhausen Ber
DESCRIPTION:Achim Kaufmann – pianoChris Pitsiokos – alto saxFelix Henkelhausen – double bassSamuel Ber – drums \n\n\n\nKaufmann Pitsiokos Henkelhausen Ber\n\n\n\n \n\n\n\n\n\n\n\n\n\nKaufmann Pitsiokos Henkelhausen Ber
URL:https://jazz-in-berlin.net/event/kaufmann-pitsiokos-henkelhausen-ber/
LOCATION:Sowieso\, Weisestraße 24\, Berlin\, 12049
ATTACH;FMTTYPE=:
END:VEVENT
BEGIN:VEVENT
DTSTART;TZID=Europe/Berlin:20241108T200000
DTEND;TZID=Europe/Berlin:20241108T235900
DTSTAMP:20260425T174908
CREATED:20241027T145736Z
LAST-MODIFIED:20241027T145737Z
UID:8247-1731096000-1731110340@jazz-in-berlin.net
SUMMARY:SCHIKANE
DESCRIPTION:Raumerweiterungshalle[Kopenhagener Str. 17\, 10437 Berlin]Jörg Schippa – guitarNikolaus Neuser – trumpetDenis Stilke – drums \n\n\n\nSCHIKANE\n\n\n\n\n\n\n\n\n\n\n\n\n\nSCHIKANE
URL:https://jazz-in-berlin.net/event/schikane/
ATTACH;FMTTYPE=:
END:VEVENT
BEGIN:VEVENT
DTSTART;TZID=Europe/Berlin:20241108T201500
DTEND;TZID=Europe/Berlin:20241108T230000
DTSTAMP:20260425T174908
CREATED:20241009T051800Z
LAST-MODIFIED:20241019T084721Z
UID:7516-1731096900-1731106800@jazz-in-berlin.net
SUMMARY:Special Choice - Alexander von Schlippenbach
DESCRIPTION:Alexander von Schlippenbach – pianoWalter Gauchel – saxophoneRudy Mahall – bassclarinetJan Roder – bassJohn Schröder – drums \n\n\n\n\n\nSpecial Choice – Alexander von Schlippenbach\n\n\n\n\n\n\n\n\n\nSpecial Choice – Alexander von Schlippenbach
URL:https://jazz-in-berlin.net/event/special-choice-alexander-von-schlippenbach/
LOCATION:Badenscher Hof\, Badensche Straße 29\, Berlin\, 10715
ATTACH;FMTTYPE=image/jpeg:https://lirp.cdn-website.com/d05763ec/dms3rep/multi/opt/Logo_banner_new-5e2a17ee-1920w.png
END:VEVENT
BEGIN:VEVENT
DTSTART;TZID=Europe/Berlin:20241108T203000
DTEND;TZID=Europe/Berlin:20241108T223000
DTSTAMP:20260425T174908
CREATED:20241027T144420Z
LAST-MODIFIED:20241027T144421Z
UID:8241-1731097800-1731105000@jazz-in-berlin.net
SUMMARY:Ant Law & Alex Hitchcock 1|2
DESCRIPTION:Ant Law – Guitar & CompositionsAlex Hitchcock – Tenor Saxophone & CompositionsNiklas Lukassen – BassFabian Arends – Drums \n\n\n\n\n\nAnt Law & Alex Hitchcock 1|2\n\n\n\n\n\n\n\n\n\n\n\n\n\nSame Moon In The Same WorldAnt Law\, Alex Hitchcock\n\n\n\n\n\n\n\n\n\nAnt Law & Alex Hitchcock 1|2
URL:https://jazz-in-berlin.net/event/ant-law-alex-hitchcock-12/
LOCATION:A-Trane\, Bleibtreustraße 1\, Berlin\, 10625
ATTACH;FMTTYPE=:
END:VEVENT
BEGIN:VEVENT
DTSTART;TZID=Europe/Berlin:20241108T203000
DTEND;TZID=Europe/Berlin:20241108T230000
DTSTAMP:20260425T174908
CREATED:20241020T105319Z
LAST-MODIFIED:20241020T105340Z
UID:8047-1731097800-1731106800@jazz-in-berlin.net
SUMMARY:Bye Parula
DESCRIPTION:Sebastian Riquelme – guitar\, vocalsSergio D’Isanto – drumsLoïc Calatayud – vocal\, bass \n\n\n\nmichaelattias.com \n\n\n\n\n\nBye Parula\n\n\n\n\n\n\n\n\n\n\n\n\n\n\n\n\n\n\n\nIvon Bye Parula\n\n\n\n\n\n\n\n\n\nBye Parula
URL:https://jazz-in-berlin.net/event/bye-parula/
LOCATION:Donau 115\, Donaustrasse 115\, Berlin\, 12043
ATTACH;FMTTYPE=:
END:VEVENT
BEGIN:VEVENT
DTSTART;TZID=Europe/Berlin:20241108T203000
DTEND;TZID=Europe/Berlin:20241108T230000
DTSTAMP:20260425T174908
CREATED:20241027T142843Z
LAST-MODIFIED:20241027T142844Z
UID:8237-1731097800-1731106800@jazz-in-berlin.net
SUMMARY:Adrián de Alfonso | Siri Salminen & André Vida
DESCRIPTION:Adrián de Alfonso  – voice and collective radio diffusion \n\n\n\nSiri Salminen  – dancer\, choreographerAndré Vida – saxophone \n\n\n\n\n\nAdrián de Alfonso | Siri Salminen & André Vida\n\n\n\n\n\n\n\n\n\n\n\n\n\n\n\n\n\nAdrián de Alfonso | Siri Salminen & André Vida
URL:https://jazz-in-berlin.net/event/adrian-de-alfonso-siri-salminen-andre-vida/
LOCATION:KM 28\, Karl-Marx-Straße 28\, Berlin\, 12043
ATTACH;FMTTYPE=image/jpeg:https://jazz-in-berlin.net/wp-content/uploads/2023/06/KM-28-Logo-20.jpg
END:VEVENT
BEGIN:VEVENT
DTSTART;TZID=Europe/Berlin:20241108T210000
DTEND;TZID=Europe/Berlin:20241108T230000
DTSTAMP:20260425T174908
CREATED:20241009T050400Z
LAST-MODIFIED:20241013T075628Z
UID:7572-1731099600-1731106800@jazz-in-berlin.net
SUMMARY:Karl Seglem Band CD-release concert 1|2
DESCRIPTION:Karl Seglem – saxophone\, horns\, voice  Erlend Viken – violin Hallvard Gaardlös – ebassKåre Opheim – drumsIngar Hunskaar – sound \n\n\n\nkarlseglem.no \n\n\n\n\n\nKarl Seglem Band CD-release concert\n\n\n\n\n\n\n\n\nKarl Seglem Mytevegar | path.hope.myth\n\n\n\n\nKarl Seglem Band CD-release concert
URL:https://jazz-in-berlin.net/event/karl-seglem-band-cd-release-concert/
LOCATION:B-Flat\, Dircksenstraße 40\, Berlin\, 10178
ATTACH;FMTTYPE=:
END:VEVENT
BEGIN:VEVENT
DTSTART;TZID=Europe/Berlin:20241108T210000
DTEND;TZID=Europe/Berlin:20241108T230000
DTSTAMP:20260425T174908
CREATED:20241013T073932Z
LAST-MODIFIED:20241013T073932Z
UID:7728-1731099600-1731106800@jazz-in-berlin.net
SUMMARY:Alex Sipiagin Quintet
DESCRIPTION:Alex Sipiagin – trumpetWill Vinson – saxophoneJohn Escreet – keyboardMakar Novikov – bassDonald Edwards – drums \n\n\n\nalexsipiagin.com \n\n\n\n\n\nAlex Sipiagin Quintet\n\n\n\n\n\n\n\n\n\n\n\n\nAlex Sipiagin – Horizons\n\n\n\n\nAlex Sipiagin Quintet
URL:https://jazz-in-berlin.net/event/alex-sipiagin-quintet/
LOCATION:Zig Zag\, Hauptstraße 89\, Berlin\, 12159
ATTACH;FMTTYPE=image/jpeg:https://images.squarespace-cdn.com/content/v1/55146be5e4b0392be71840b6/1431516196750-KT8J11AC198OTFSL66PV/ZZ+full+burgundy+transparent.png?format=1500w
END:VEVENT
BEGIN:VEVENT
DTSTART;TZID=Europe/Berlin:20241108T210000
DTEND;TZID=Europe/Berlin:20241108T233000
DTSTAMP:20260425T174908
CREATED:20241009T052900Z
LAST-MODIFIED:20240925T093538Z
UID:7261-1731099600-1731108600@jazz-in-berlin.net
SUMMARY:SOFIA BORGES // ILIA GOROVITZ // PEDRO MELO ALVES
DESCRIPTION:Sofia Borges – drums  \n\n\n\nIlia Gorovitz – drums  \n\n\n\nPedro Melo Alves – drums  \n\n\n\nsofiaborges.com | iliagorovitz.bandcamp | pedromeloalves.com \n\n\n\nSOFIA BORGES // ILIA GOROVITZ // PEDRO MELO ALVES\n\n\n\n\n\n\n\n\n\nSOFIA BORGES // ILIA GOROVITZ // PEDRO MELO ALVES
URL:https://jazz-in-berlin.net/event/sofia-borges-ilia-gorovitz-pedro-melo-alves/
LOCATION:ausland\, lychener str 60\, Berlin\, 10437
ATTACH;FMTTYPE=image/jpeg:https://jazz-in-berlin.net/wp-content/uploads/2024/09/ausland_logo.jpg
END:VEVENT
END:VCALENDAR