BEGIN:VCALENDAR
VERSION:2.0
PRODID:-//Berlin Jazz - ECPv6.15.11//NONSGML v1.0//EN
CALSCALE:GREGORIAN
METHOD:PUBLISH
X-WR-CALNAME:Berlin Jazz
X-ORIGINAL-URL:https://jazz-in-berlin.net
X-WR-CALDESC:Veranstaltungen für Berlin Jazz
REFRESH-INTERVAL;VALUE=DURATION:PT1H
X-Robots-Tag:noindex
X-PUBLISHED-TTL:PT1H
BEGIN:VTIMEZONE
TZID:Europe/Berlin
BEGIN:DAYLIGHT
TZOFFSETFROM:+0100
TZOFFSETTO:+0200
TZNAME:CEST
DTSTART:20230326T010000
END:DAYLIGHT
BEGIN:STANDARD
TZOFFSETFROM:+0200
TZOFFSETTO:+0100
TZNAME:CET
DTSTART:20231029T010000
END:STANDARD
BEGIN:DAYLIGHT
TZOFFSETFROM:+0100
TZOFFSETTO:+0200
TZNAME:CEST
DTSTART:20240331T010000
END:DAYLIGHT
BEGIN:STANDARD
TZOFFSETFROM:+0200
TZOFFSETTO:+0100
TZNAME:CET
DTSTART:20241027T010000
END:STANDARD
BEGIN:DAYLIGHT
TZOFFSETFROM:+0100
TZOFFSETTO:+0200
TZNAME:CEST
DTSTART:20250330T010000
END:DAYLIGHT
BEGIN:STANDARD
TZOFFSETFROM:+0200
TZOFFSETTO:+0100
TZNAME:CET
DTSTART:20251026T010000
END:STANDARD
END:VTIMEZONE
BEGIN:VEVENT
DTSTART;TZID=Europe/Berlin:20241110T153000
DTEND;TZID=Europe/Berlin:20241110T173000
DTSTAMP:20260425T174930
CREATED:20241011T054100Z
LAST-MODIFIED:20241006T155037Z
UID:7651-1731252600-1731259800@jazz-in-berlin.net
SUMMARY:AGNEL / ZERANG & CROSSLAND / FRANGENHEIM
DESCRIPTION:first set:Sophie Agnel – pianoMichael Zerang – drums \n\n\n\nsecond set:Alexander Frangenheim – bassPatrick Crossland – trombone \n\n\n\n\n\nAGNEL / ZERANG & CROSSLAND / FRANGENHEIM\n\n\n\n\n\n\n\nAGNEL / ZERANG & CROSSLAND / FRANGENHEIM
URL:https://jazz-in-berlin.net/event/agnel-zerang-crossland-frangenheim/
LOCATION:Industriesalon Schöneweide\, Reinbeckstraße 9\, Berlin\, 12459
ATTACH;FMTTYPE=:
END:VEVENT
BEGIN:VEVENT
DTSTART;TZID=Europe/Berlin:20241110T200000
DTEND;TZID=Europe/Berlin:20241110T220000
DTSTAMP:20260425T174930
CREATED:20241031T065325Z
LAST-MODIFIED:20241031T065326Z
UID:8363-1731268800-1731276000@jazz-in-berlin.net
SUMMARY:DIE HOCHSTAPLER
DESCRIPTION:Louis Laurain – trumpetPierre Borel – alto saxophoneAntonio Borghini – bassHannes Lingens – drums \n\n\n\n\n\nDIE HOCHSTAPLER\n\n\n\n\n\n\n\nDIE HOCHSTAPLER
URL:https://jazz-in-berlin.net/event/die-hochstapler-2/
LOCATION:Kühlspot Social Club\, Lehderstraße 74\, Berlin\, 13086
ATTACH;FMTTYPE=:
END:VEVENT
BEGIN:VEVENT
DTSTART;TZID=Europe/Berlin:20241110T200000
DTEND;TZID=Europe/Berlin:20241110T223000
DTSTAMP:20260425T174930
CREATED:20241011T053300Z
LAST-MODIFIED:20241006T103703Z
UID:7548-1731268800-1731277800@jazz-in-berlin.net
SUMMARY:Klaviertrio - Im Preat Tamborini
DESCRIPTION:Anna Im – Violine1st Prize International Michael Hill Competition Antoine Preat – KlavierFrancesco Tamborini – Cello \n\n\n\nantoinepreat.com \n\n\n\n\n\nKlaviertrio – Im Preat Tamborini\n\n\n\n\n\n\n\nKlaviertrio – Im Preat Tamborini
URL:https://jazz-in-berlin.net/event/klaviertrio-im-preat-tamborini/
LOCATION:Piano Salon Christophori\, Uferstr.8\, Berlin\, 13357
ATTACH;FMTTYPE=:
END:VEVENT
BEGIN:VEVENT
DTSTART;TZID=Europe/Berlin:20241110T200000
DTEND;TZID=Europe/Berlin:20241110T223000
DTSTAMP:20260425T174930
CREATED:20241104T114039Z
LAST-MODIFIED:20241104T135300Z
UID:8661-1731268800-1731277800@jazz-in-berlin.net
SUMMARY:Jazz & Lyrics: Blue Note Records 2|2
DESCRIPTION:Jazz & Lyrics: Blue Note Records 2|2\n\n\n\nDie Fusion von Jazz mit Lyrik in der TischlereiReinhard Krol – TexteChristian Meyers – TumpetOliver Link – SaxophoneSebastian Krol – TromboneKenneth Berkel – PianoIgor Spallati – Double BassRüdiger Ruppert – DrumsCurator: Sebastian Krol Rüdiger Ruppert \n\n\n\n\n\n\n\n\n\nJazz & Lyrics: Blue Note Records 2|2
URL:https://jazz-in-berlin.net/event/jazz-lyrics-blue-note-records-22/
LOCATION:Deutsche Oper Berlin\, Richard-Wagner-Str. 10\, Berlin\, 10627
ATTACH;FMTTYPE=image/jpeg:https://www.ci-portal.de/wp-content/uploads/dob.jpg
END:VEVENT
BEGIN:VEVENT
DTSTART;TZID=Europe/Berlin:20241110T200000
DTEND;TZID=Europe/Berlin:20241110T230000
DTSTAMP:20260425T174930
CREATED:20240614T103703Z
LAST-MODIFIED:20240916T060412Z
UID:3496-1731268800-1731279600@jazz-in-berlin.net
SUMMARY:Jazz at Berlin Philharmonic: World Jazz
DESCRIPTION:Jazz at Berlin Philharmonic: World Jazz \n\n\n\nMajid Bekkas – Gimbri\, Oud und GesangNguyên Lê – GitarreHamid Drake – SchlagzeugJoel Lyssarides – KlavierGeorge Prokopiou – Bouzouki und Saz
URL:https://jazz-in-berlin.net/event/jazz-at-berlin-philharmonic-world-jazz/
LOCATION:Philharmonie\, Herbert-von-Karajan-Straße 1\, Berlin\, 10785
ATTACH;FMTTYPE=image/jpeg:https://upload.wikimedia.org/wikipedia/commons/thumb/b/bc/Berliner_Philharmoniker_logo.svg/2560px-Berliner_Philharmoniker_logo.svg.png
END:VEVENT
BEGIN:VEVENT
DTSTART;TZID=Europe/Berlin:20241110T203000
DTEND;TZID=Europe/Berlin:20241110T230000
DTSTAMP:20260425T174930
CREATED:20241027T170534Z
LAST-MODIFIED:20241027T170855Z
UID:8298-1731270600-1731279600@jazz-in-berlin.net
SUMMARY:Nour Sokhon / Aidan Baker and Stefan Christoff with Andy Aquarius
DESCRIPTION:20:30Nour Sokhon \n\n\n\n21:15Aidan Baker and Stefan Christoff with Andy Aquarius \n\n\n\naidanbaker.bandcamp.com | andyaquarius.com \n\n\n\n\n\nNour Sokhon / Aidan Baker and Stefan Christoff with Andy Aquarius\n\n\n\n\n\n\n\n\n\n\n\n\n\n\n\n\n\n\n\n\n\n\n\n\n\n\n\nNour Sokhon / Aidan Baker and Stefan Christoff with Andy Aquarius
URL:https://jazz-in-berlin.net/event/nour-sokhon-aidan-baker-and-stefan-christoff-with-andy-aquarius/
LOCATION:Morphine Raum\, Köpenicker Straße 147\, Berlin\, 10997
ATTACH;FMTTYPE=:
END:VEVENT
BEGIN:VEVENT
DTSTART;TZID=Europe/Berlin:20241110T210000
DTEND;TZID=Europe/Berlin:20241110T230000
DTSTAMP:20260425T174930
CREATED:20241013T080252Z
LAST-MODIFIED:20241013T080252Z
UID:7737-1731272400-1731279600@jazz-in-berlin.net
SUMMARY:Brasil Jazz Quartet
DESCRIPTION:Christof Griese – saxophone\, fluteTal Balshai – pianoGuilherme Castro – bassJavier Reyes – drums \n\n\n\nsaxart.de \n\n\n\n\n\nBrasil Jazz Quartet\n\n\n\n\n\n\n\n\n\nBrasil Jazz QuartetBrasil Jazz Quartet\n\n\n\n\n\n\n\n\n\nBrasil Jazz Quartet
URL:https://jazz-in-berlin.net/event/brasil-jazz-quartet/
LOCATION:B-Flat\, Dircksenstraße 40\, Berlin\, 10178
ATTACH;FMTTYPE=:
END:VEVENT
BEGIN:VEVENT
DTSTART;TZID=Europe/Berlin:20241110T210000
DTEND;TZID=Europe/Berlin:20241110T230000
DTSTAMP:20260425T174930
CREATED:20241019T091542Z
LAST-MODIFIED:20241019T091543Z
UID:7934-1731272400-1731279600@jazz-in-berlin.net
SUMMARY:Zelia Fonseca & Magdalena Matthey
DESCRIPTION:Zelia Fonseca – vocals\, guitarMagdalena Matthey – vocals\, drumsJohannes Stange – trumpetAngela Fontera – drums\, percussion \n\n\n\n\n\nZelia Fonseca & Magdalena Matthey\n\n\n\n\n\n\n\n\n\n\n\n\n\nUni Versosvon Zelia Fonseca & Magdalena Matthey\n\n\n\n\n\n\n\n\n\nZelia Fonseca & Magdalena Matthey
URL:https://jazz-in-berlin.net/event/zelia-fonseca-magdalena-matthey/
LOCATION:Zig Zag\, Hauptstraße 89\, Berlin\, 12159
ATTACH;FMTTYPE=image/jpeg:https://images.squarespace-cdn.com/content/v1/55146be5e4b0392be71840b6/1431516196750-KT8J11AC198OTFSL66PV/ZZ+full+burgundy+transparent.png?format=1500w
END:VEVENT
END:VCALENDAR