BEGIN:VCALENDAR
VERSION:2.0
PRODID:-//Berlin Jazz - ECPv6.15.11//NONSGML v1.0//EN
CALSCALE:GREGORIAN
METHOD:PUBLISH
X-ORIGINAL-URL:https://jazz-in-berlin.net
X-WR-CALDESC:Veranstaltungen für Berlin Jazz
REFRESH-INTERVAL;VALUE=DURATION:PT1H
X-Robots-Tag:noindex
X-PUBLISHED-TTL:PT1H
BEGIN:VTIMEZONE
TZID:Europe/Berlin
BEGIN:DAYLIGHT
TZOFFSETFROM:+0100
TZOFFSETTO:+0200
TZNAME:CEST
DTSTART:20230326T010000
END:DAYLIGHT
BEGIN:STANDARD
TZOFFSETFROM:+0200
TZOFFSETTO:+0100
TZNAME:CET
DTSTART:20231029T010000
END:STANDARD
BEGIN:DAYLIGHT
TZOFFSETFROM:+0100
TZOFFSETTO:+0200
TZNAME:CEST
DTSTART:20240331T010000
END:DAYLIGHT
BEGIN:STANDARD
TZOFFSETFROM:+0200
TZOFFSETTO:+0100
TZNAME:CET
DTSTART:20241027T010000
END:STANDARD
BEGIN:DAYLIGHT
TZOFFSETFROM:+0100
TZOFFSETTO:+0200
TZNAME:CEST
DTSTART:20250330T010000
END:DAYLIGHT
BEGIN:STANDARD
TZOFFSETFROM:+0200
TZOFFSETTO:+0100
TZNAME:CET
DTSTART:20251026T010000
END:STANDARD
END:VTIMEZONE
BEGIN:VEVENT
DTSTART;TZID=Europe/Berlin:20241112T200000
DTEND;TZID=Europe/Berlin:20241112T230000
DTSTAMP:20260425T175307
CREATED:20241013T055200Z
LAST-MODIFIED:20241112T063556Z
UID:7530-1731441600-1731452400@jazz-in-berlin.net
SUMMARY:Crosscurrents Trio feat. Potter Holland Gilmore
DESCRIPTION:dieses Konzert findet in Kooperation mit der jazzwerkstatt statt : in der Passionskirche Kreuzberg\, Marheinekeplatz 1-2\, 10961 Berlin \n\n\n\nChris Potter – saxophoneDave Holland – bassMarcus Gilmore – drums percussion \n\n\n\n\n\nCrosscurrents Trio feat. Potter Holland Gilmore\n\n\n\n\n\n\n\n\n\n\n\n\nDave Holland – Another Land\n\n\n\n\nCrosscurrents Trio feat. Potter Holland Gilmore
URL:https://jazz-in-berlin.net/event/crosscurrents-trio-feat-potter-holland-hussan/
LOCATION:Zig Zag\, Hauptstraße 89\, Berlin\, 12159
ATTACH;FMTTYPE=image/jpeg:https://jazz-in-berlin.net/wp-content/uploads/2024/10/jazzwerkstatt.jpg
END:VEVENT
BEGIN:VEVENT
DTSTART;TZID=Europe/Berlin:20241112T200000
DTEND;TZID=Europe/Berlin:20241112T235900
DTSTAMP:20260425T175307
CREATED:20241112T070521Z
LAST-MODIFIED:20241112T070522Z
UID:8846-1731441600-1731455940@jazz-in-berlin.net
SUMMARY:Steyer Nexus | Pitch Shifting | Takahashi Liberatori Rößler
DESCRIPTION:Raumerweiterungshalle[Kopenhagener Str. 17\, 10437 Berlin]\n\n\n\nEdith Steyer – Saxophon/KlarinetteDr. Nexus – Voice \n\n\n\nPitch ShiftingSanja Star – Klang IllustrationGrugr Savic – Saxophon\, Objekte \n\n\n\nMarie Takahashi – ViolaLigia Liberatori – Stimme/PreparationsIsabel Rößler – Kontrabass \n\n\n\nverification : Facebook  \n\n\n\nSteyer Nexus | Pitch Shifting | Takahashi Liberatori Rößler\n\n\n\n\n\n\n\n\n\n\n\n\n\nSteyer Nexus | Pitch Shifting | Takahashi Liberatori Rößler
URL:https://jazz-in-berlin.net/event/steyer-nexus-pitch-shifting-takahashi-liberatori-roessler/
LOCATION:Raumerweiterungshalle REH\, Kopenhagener Straße 17\, Berlin\, 10437
ATTACH;FMTTYPE=:
END:VEVENT
BEGIN:VEVENT
DTSTART;TZID=Europe/Berlin:20241112T203000
DTEND;TZID=Europe/Berlin:20241112T223000
DTSTAMP:20260425T175307
CREATED:20241013T052900Z
LAST-MODIFIED:20241006T143454Z
UID:7611-1731443400-1731450600@jazz-in-berlin.net
SUMMARY:Kat Eaton - Honestly
DESCRIPTION:Kat Eaton – VocalJoseph Glossop – KeysNicholas Aktinson – GuitarDaniel Drury  – BassAlasdair Mcdouga – Drums \n\n\n\n\n\nKat Eaton – Honestly\n\n\n\n\n\n\n\n\n\n\n\n\n\nHonestlyvon Kat Eaton\n\n\n\n\n\nTalk To Mevon Kat Eaton\n\n\n\n\n\nKat Eaton – Honestly
URL:https://jazz-in-berlin.net/event/kat-eaton-honestly/
LOCATION:A-Trane\, Bleibtreustraße 1\, Berlin\, 10625
ATTACH;FMTTYPE=:
END:VEVENT
BEGIN:VEVENT
DTSTART;TZID=Europe/Berlin:20241112T203000
DTEND;TZID=Europe/Berlin:20241112T230000
DTSTAMP:20260425T175307
CREATED:20241103T133655Z
LAST-MODIFIED:20241103T133656Z
UID:8531-1731443400-1731452400@jazz-in-berlin.net
SUMMARY:Joseph Houston | Felicity Mangan
DESCRIPTION:Joseph Houston plays Bryn Harrison’s Vessels for solo piano \n\n\n\nFelicity Mangan\, solo electronics set \n\n\n\n\n\nJoseph Houston | Felicity Mangan\n\n\n\n\n\n\n\n\n\n\n\n\n\n\n\n\n\nJoseph Houston | Felicity Mangan
URL:https://jazz-in-berlin.net/event/joseph-houston-felicity-mangan/
LOCATION:KM 28\, Karl-Marx-Straße 28\, Berlin\, 12043
ATTACH;FMTTYPE=image/jpeg:https://jazz-in-berlin.net/wp-content/uploads/2023/06/KM-28-Logo-20.jpg
END:VEVENT
BEGIN:VEVENT
DTSTART;TZID=Europe/Berlin:20241112T210000
DTEND;TZID=Europe/Berlin:20241112T230000
DTSTAMP:20260425T175307
CREATED:20241103T152808Z
LAST-MODIFIED:20241103T152809Z
UID:8592-1731445200-1731452400@jazz-in-berlin.net
SUMMARY:David Soyza and Friends
DESCRIPTION:Lisa Buchholz – trompete/flugelhornRobin Danaher – saxophoneElias Weber – double bassStevie Moser – drumsDavid Soyza – vibes & composition \n\n\n\n\n\nDavid Soyza and Friends\n\n\n\n\n\n\n\nDavid Soyza and Friends
URL:https://jazz-in-berlin.net/event/david-soyza-and-friends/
LOCATION:Kunstfabrik Schlot\, Invalidenstraße 117\, Berlin\, 10115
ATTACH;FMTTYPE=:
END:VEVENT
BEGIN:VEVENT
DTSTART;TZID=Europe/Berlin:20241112T210000
DTEND;TZID=Europe/Berlin:20241112T230000
DTSTAMP:20260425T175307
CREATED:20241112T064833Z
LAST-MODIFIED:20241112T064834Z
UID:8842-1731445200-1731452400@jazz-in-berlin.net
SUMMARY:Hannes Zerbe Quintett
DESCRIPTION:Jürgen Kupke – Klarinette Nico Lohmann – Altsaxophon Hannes Zerbe – Piano Horst Nonnenmacher – Kontrabaß Christian Marien – Schlagzeug \n\n\n\nhanneszerbe.de \n\n\n\n\n\nHannes Zerbe Quintett\n\n\n\n\n\n\n\n\nHannes Zerbe Jazz Orchester\n\n\n\n\nHannes Zerbe Quintett
URL:https://jazz-in-berlin.net/event/hannes-zerbe-quintett/
LOCATION:B-Flat\, Dircksenstraße 40\, Berlin\, 10178
ATTACH;FMTTYPE=:
END:VEVENT
END:VCALENDAR