BEGIN:VCALENDAR
VERSION:2.0
PRODID:-//Berlin Jazz - ECPv6.15.11//NONSGML v1.0//EN
CALSCALE:GREGORIAN
METHOD:PUBLISH
X-ORIGINAL-URL:https://jazz-in-berlin.net
X-WR-CALDESC:Veranstaltungen für Berlin Jazz
REFRESH-INTERVAL;VALUE=DURATION:PT1H
X-Robots-Tag:noindex
X-PUBLISHED-TTL:PT1H
BEGIN:VTIMEZONE
TZID:Europe/Berlin
BEGIN:DAYLIGHT
TZOFFSETFROM:+0100
TZOFFSETTO:+0200
TZNAME:CEST
DTSTART:20230326T010000
END:DAYLIGHT
BEGIN:STANDARD
TZOFFSETFROM:+0200
TZOFFSETTO:+0100
TZNAME:CET
DTSTART:20231029T010000
END:STANDARD
BEGIN:DAYLIGHT
TZOFFSETFROM:+0100
TZOFFSETTO:+0200
TZNAME:CEST
DTSTART:20240331T010000
END:DAYLIGHT
BEGIN:STANDARD
TZOFFSETFROM:+0200
TZOFFSETTO:+0100
TZNAME:CET
DTSTART:20241027T010000
END:STANDARD
BEGIN:DAYLIGHT
TZOFFSETFROM:+0100
TZOFFSETTO:+0200
TZNAME:CEST
DTSTART:20250330T010000
END:DAYLIGHT
BEGIN:STANDARD
TZOFFSETFROM:+0200
TZOFFSETTO:+0100
TZNAME:CET
DTSTART:20251026T010000
END:STANDARD
END:VTIMEZONE
BEGIN:VEVENT
DTSTART;TZID=Europe/Berlin:20241116T190000
DTEND;TZID=Europe/Berlin:20241116T223000
DTSTAMP:20260425T195504
CREATED:20241104T112715Z
LAST-MODIFIED:20241104T112715Z
UID:8648-1731783600-1731796200@jazz-in-berlin.net
SUMMARY:Ishmael Ensemble
DESCRIPTION:Ishmael Ensemble\n\n\n\nPete Cunningham – synthHolysses Fly – piano\, vocalsGeorgie Ward – synthJake Spurgeon – bassDanny Keane – celloStephen Mullins – guitarTom Pigott-Smith – violinOli Langford – violinRachel Robson – viola \n\n\n\n\n\n\n\n\n\n\n\nRitualsvon Ishmael Ensemble\n\n\n\n\n\nVisions Of Lightvon Ishmael Ensemble\n\n\n\n\n\nIshmael Ensemble
URL:https://jazz-in-berlin.net/event/ishmael-ensemble/
LOCATION:Badehaus Berlin\, Revaler Straße 99\, Berlin\, 10245
END:VEVENT
BEGIN:VEVENT
DTSTART;TZID=Europe/Berlin:20241116T200000
DTEND;TZID=Europe/Berlin:20241116T220000
DTSTAMP:20260425T195504
CREATED:20241031T065634Z
LAST-MODIFIED:20241031T065635Z
UID:8367-1731787200-1731794400@jazz-in-berlin.net
SUMMARY:TAKATSUKI TRIO QUARTETT #6 FEAT. ELENA KAKALIAGOU
DESCRIPTION:Elena Kakaliagou – hornJoshua Weitzel – guitar\, shamisenRieko Okuda – piano\, samplersAntti Virtaranta – contrabass \n\n\n\n\n\nTAKATSUKI TRIO QUARTETT #6 FEAT. ELENA KAKALIAGOU\n\n\n\n\n\n\n\nTAKATSUKI TRIO QUARTETT #6 FEAT. ELENA KAKALIAGOU
URL:https://jazz-in-berlin.net/event/takatsuki-trio-quartett-6-feat-elena-kakaliagou/
LOCATION:Kühlspot Social Club\, Lehderstraße 74\, Berlin\, 13086
ATTACH;FMTTYPE=:
END:VEVENT
BEGIN:VEVENT
DTSTART;TZID=Europe/Berlin:20241116T200000
DTEND;TZID=Europe/Berlin:20241116T233000
DTSTAMP:20260425T195504
CREATED:20241027T112245Z
LAST-MODIFIED:20241027T112246Z
UID:8213-1731787200-1731799800@jazz-in-berlin.net
SUMMARY:Niescier & Takase
DESCRIPTION:Angelika Niescier – saxophones Aki Takase – piano \n\n\n\nNiescier & Takase\n\n\n\n\n\n\n\n\n\nNiescier & Takase
URL:https://jazz-in-berlin.net/event/niescier-takase/
LOCATION:Sowieso\, Weisestraße 24\, Berlin\, 12049
ATTACH;FMTTYPE=image/jpeg:https://cortex.persona.co/w/696/q/67/i/ef08edefeaf2227488ee7ad85924c3612b27dea492d11a9145417efdc766b789/wallpaper-green.jpg
END:VEVENT
BEGIN:VEVENT
DTSTART;TZID=Europe/Berlin:20241116T200000
DTEND;TZID=Europe/Berlin:20241116T235900
DTSTAMP:20260425T195504
CREATED:20241020T072546Z
LAST-MODIFIED:20241020T072832Z
UID:8010-1731787200-1731801540@jazz-in-berlin.net
SUMMARY:Jakkle Spaghetti Swing
DESCRIPTION:Bruno De Sanctis  – Vocal\, BassGiancarlo Mura – DrumsHan Sato  – SaxMattia Silli  – Guitar \n\n\n\njakkle.com | soundcloud/jakkle \n\n\n\nJakkle Spaghetti Swing\n\n\n\n\n\n\n\n\n\nJakkle Spaghetti Swing
URL:https://jazz-in-berlin.net/event/jakkle-spaghetti-swing/
LOCATION:Yorckschlösschen\, Yorckstraße 15\, Berlin\, 10965
ATTACH;FMTTYPE=:
END:VEVENT
BEGIN:VEVENT
DTSTART;TZID=Europe/Berlin:20241116T203000
DTEND;TZID=Europe/Berlin:20241116T203000
DTSTAMP:20260425T195504
CREATED:20241017T054300Z
LAST-MODIFIED:20241006T154953Z
UID:7653-1731789000-1731789000@jazz-in-berlin.net
SUMMARY:MANFRED SCHULZE 90
DESCRIPTION:Jürgen Kupke – clarinetHilery Jeffery – trombonePaul Schwingenschlögl – trumpetSimon Rose – baritone sax\, alto sax \n\n\n\n&Simon Rose – baritone sax\, alto sax \n\n\n\n\n\nMANFRED SCHULZE 90\n\n\n\n\n\n\n\nMANFRED SCHULZE 90
URL:https://jazz-in-berlin.net/event/manfred-schulze-90/
LOCATION:Industriesalon Schöneweide\, Reinbeckstraße 9\, Berlin\, 12459
ATTACH;FMTTYPE=:
END:VEVENT
BEGIN:VEVENT
DTSTART;TZID=Europe/Berlin:20241116T203000
DTEND;TZID=Europe/Berlin:20241116T230000
DTSTAMP:20260425T195504
CREATED:20241020T095557Z
LAST-MODIFIED:20241020T103216Z
UID:8025-1731789000-1731798000@jazz-in-berlin.net
SUMMARY:Astrup Donkin Wankel
DESCRIPTION:Jakob Astrup – Guitar\, compositionPhil Donkin – DoublebassMarius Wankel – Drums \n\n\n\n\n\nAstrup Donkin Wankel\n\n\n\n\n\n\n\n\n\n\n\n\n\n\n\n\n\nAstrup Donkin Wankel
URL:https://jazz-in-berlin.net/event/astrup-donkin-wankel-2/
LOCATION:Donau 115\, Donaustrasse 115\, Berlin\, 12043
ATTACH;FMTTYPE=:
END:VEVENT
BEGIN:VEVENT
DTSTART;TZID=Europe/Berlin:20241116T210000
DTEND;TZID=Europe/Berlin:20241116T230000
DTSTAMP:20260425T195504
CREATED:20241019T094010Z
LAST-MODIFIED:20241019T094011Z
UID:7938-1731790800-1731798000@jazz-in-berlin.net
SUMMARY:Or Bareket Quartet
DESCRIPTION:Or Bareket – bassGodwin Louis – saxophoneJeremy Corren – pianoSavannah Harris – drums \n\n\n\norbareket.com \n\n\n\n\n\nOr Bareket Quartet\n\n\n\n\n\n\n\n\n\n\n\n\n\nYomOr BareketOr Bareket\, double bassGodwin Louis\, alto saxophoneJeremy Corren\, pianoSavannah Harris\, drums2024\n\n\n\n\n\nSaharvon Or Bareket – bassJeremy Corren – piano\,keyboardsOr Bareket – bassSavannah Harris – drums‚Morgan Guerin – saxophone Joel Ross – perc2022\n\n\n\n\n\nOb1Or Bareket – bassShachar Elnatan – guitarGadi Lehavi – pianoZiv Ravitz – drumsVitor Goncalves – pianoKeita Ogawa – percussion2017\n\n\n\n\n\nOr Bareket Quartet
URL:https://jazz-in-berlin.net/event/or-bareket-quartet/
LOCATION:Zig Zag\, Hauptstraße 89\, Berlin\, 12159
ATTACH;FMTTYPE=image/jpeg:https://images.squarespace-cdn.com/content/v1/55146be5e4b0392be71840b6/1431516196750-KT8J11AC198OTFSL66PV/ZZ+full+burgundy+transparent.png?format=1500w
END:VEVENT
BEGIN:VEVENT
DTSTART;TZID=Europe/Berlin:20241116T210000
DTEND;TZID=Europe/Berlin:20241116T230000
DTSTAMP:20260425T195504
CREATED:20241019T114124Z
LAST-MODIFIED:20241019T114124Z
UID:7969-1731790800-1731798000@jazz-in-berlin.net
SUMMARY:Jacqui Naylor Quartet - day 2
DESCRIPTION:Jacqui Naylor – vocalsArt Khu – pianoPhil Steen – bassKai Bussenius – drums \n\n\n\njacquinaylor.com \n\n\n\n\n\nJacqui Naylor Quartet – day 2\n\n\n\n\n\n\n\n\n\nTreasures Of The HeartJacqui Naylor\n\n\n\n\n\nThe Long GameJacqui Naylor\n\n\n\n\n\nJacqui Naylor Quartet – day 2
URL:https://jazz-in-berlin.net/event/jacqui-naylor-quartet-day-2/
LOCATION:B-Flat\, Dircksenstraße 40\, Berlin\, 10178
ATTACH;FMTTYPE=:
END:VEVENT
BEGIN:VEVENT
DTSTART;TZID=Europe/Berlin:20241116T210000
DTEND;TZID=Europe/Berlin:20241116T233000
DTSTAMP:20260425T195504
CREATED:20241017T050800Z
LAST-MODIFIED:20241013T111033Z
UID:7768-1731790800-1731799800@jazz-in-berlin.net
SUMMARY:Andrea Marcelli & Kurkuma Quintett feat. Tino Derado
DESCRIPTION:Christoph Titz – trumpetThomas Hähnlein – saxophoneTino Derado – pianoCarmelo Leotta – bassAndrea Marcelli – drums \n\n\n\n \n\n\n\n\n\nAndrea Marcelli & Kurkuma Quintett feat. Tino Derado\n\n\n\n\n\n\n\n\n\n\nAndrea Marcelli drums\n\n\n\n\n\n\nAndrea Marcelli & Kurkuma Quintett feat. Tino Derado
URL:https://jazz-in-berlin.net/event/andrea-marcelli-kurkuma-quintett-feat-tino-derado/
LOCATION:Kunstfabrik Schlot\, Invalidenstraße 117\, Berlin\, 10115
ATTACH;FMTTYPE=image/jpeg:https://jazz-in-berlin.net/wp-content/uploads/2024/07/Kunstfabrink-Logo-20.jpg
END:VEVENT
END:VCALENDAR