BEGIN:VCALENDAR
VERSION:2.0
PRODID:-//Berlin Jazz - ECPv6.15.11//NONSGML v1.0//EN
CALSCALE:GREGORIAN
METHOD:PUBLISH
X-ORIGINAL-URL:https://jazz-in-berlin.net
X-WR-CALDESC:Veranstaltungen für Berlin Jazz
REFRESH-INTERVAL;VALUE=DURATION:PT1H
X-Robots-Tag:noindex
X-PUBLISHED-TTL:PT1H
BEGIN:VTIMEZONE
TZID:Europe/Berlin
BEGIN:DAYLIGHT
TZOFFSETFROM:+0100
TZOFFSETTO:+0200
TZNAME:CEST
DTSTART:20230326T010000
END:DAYLIGHT
BEGIN:STANDARD
TZOFFSETFROM:+0200
TZOFFSETTO:+0100
TZNAME:CET
DTSTART:20231029T010000
END:STANDARD
BEGIN:DAYLIGHT
TZOFFSETFROM:+0100
TZOFFSETTO:+0200
TZNAME:CEST
DTSTART:20240331T010000
END:DAYLIGHT
BEGIN:STANDARD
TZOFFSETFROM:+0200
TZOFFSETTO:+0100
TZNAME:CET
DTSTART:20241027T010000
END:STANDARD
BEGIN:DAYLIGHT
TZOFFSETFROM:+0100
TZOFFSETTO:+0200
TZNAME:CEST
DTSTART:20250330T010000
END:DAYLIGHT
BEGIN:STANDARD
TZOFFSETFROM:+0200
TZOFFSETTO:+0100
TZNAME:CET
DTSTART:20251026T010000
END:STANDARD
END:VTIMEZONE
BEGIN:VEVENT
DTSTART;TZID=Europe/Berlin:20241118T203000
DTEND;TZID=Europe/Berlin:20241118T230000
DTSTAMP:20260425T175308
CREATED:20241019T051700Z
LAST-MODIFIED:20241118T064147Z
UID:6189-1731961800-1731970800@jazz-in-berlin.net
SUMMARY:Svaneborg Kardyb (Gondwana Records/DK) *live*
DESCRIPTION:Nikolaj Svaneborg – wurlitzer\, pianoJonas Kardyb – drums\, percussion \n\n\n\n\n\nSvaneborg Kardyb (Gondwana Records/DK) *live*\n\n\n\n\n\n\n\n\n\n\n\n\n\nSuperkilenby Svaneborg Kardyb\n\n\n\n\n\nOver Tageby Svaneborg Kardyb\n\n\n\n\n\nSvaneborg Kardyb (Gondwana Records/DK) *live*
URL:https://jazz-in-berlin.net/event/svaneborg-kardyb-gondwana-records-dk-live/
LOCATION:Gretchen\, Obentrautstraße 19-21\, Berlin\, 10963
ATTACH;FMTTYPE=image/jpeg:https://www.gretchen-club.de/css/images/logo.png
END:VEVENT
BEGIN:VEVENT
DTSTART;TZID=Europe/Berlin:20241118T210000
DTEND;TZID=Europe/Berlin:20241118T233000
DTSTAMP:20260425T175308
CREATED:20241019T051100Z
LAST-MODIFIED:20241013T111303Z
UID:7770-1731963600-1731972600@jazz-in-berlin.net
SUMMARY:Eskil und Aaron
DESCRIPTION:Eskil Roos – pianoAaron Klenke – saxophone \n\n\n\n \n\n\n\n\n\nEskil und Aaron\n\n\n\n\n\n\n\n\n\n\n\n\n\nEskil und Aaron
URL:https://jazz-in-berlin.net/event/eskil-und-aaron/
LOCATION:Kunstfabrik Schlot\, Invalidenstraße 117\, Berlin\, 10115
ATTACH;FMTTYPE=image/jpeg:https://jazz-in-berlin.net/wp-content/uploads/2024/07/Kunstfabrink-Logo-20.jpg
END:VEVENT
END:VCALENDAR