BEGIN:VCALENDAR
VERSION:2.0
PRODID:-//Berlin Jazz - ECPv6.15.11//NONSGML v1.0//EN
CALSCALE:GREGORIAN
METHOD:PUBLISH
X-ORIGINAL-URL:https://jazz-in-berlin.net
X-WR-CALDESC:Veranstaltungen für Berlin Jazz
REFRESH-INTERVAL;VALUE=DURATION:PT1H
X-Robots-Tag:noindex
X-PUBLISHED-TTL:PT1H
BEGIN:VTIMEZONE
TZID:Europe/Berlin
BEGIN:DAYLIGHT
TZOFFSETFROM:+0100
TZOFFSETTO:+0200
TZNAME:CEST
DTSTART:20230326T010000
END:DAYLIGHT
BEGIN:STANDARD
TZOFFSETFROM:+0200
TZOFFSETTO:+0100
TZNAME:CET
DTSTART:20231029T010000
END:STANDARD
BEGIN:DAYLIGHT
TZOFFSETFROM:+0100
TZOFFSETTO:+0200
TZNAME:CEST
DTSTART:20240331T010000
END:DAYLIGHT
BEGIN:STANDARD
TZOFFSETFROM:+0200
TZOFFSETTO:+0100
TZNAME:CET
DTSTART:20241027T010000
END:STANDARD
BEGIN:DAYLIGHT
TZOFFSETFROM:+0100
TZOFFSETTO:+0200
TZNAME:CEST
DTSTART:20250330T010000
END:DAYLIGHT
BEGIN:STANDARD
TZOFFSETFROM:+0200
TZOFFSETTO:+0100
TZNAME:CET
DTSTART:20251026T010000
END:STANDARD
END:VTIMEZONE
BEGIN:VEVENT
DTSTART;TZID=Europe/Berlin:20241125T200000
DTEND;TZID=Europe/Berlin:20241125T220000
DTSTAMP:20260425T161214
CREATED:20241116T124102Z
LAST-MODIFIED:20241116T124103Z
UID:8895-1732564800-1732572000@jazz-in-berlin.net
SUMMARY:NOWHERE DENSE
DESCRIPTION:Jeremy Viner – saxophoneIgnaz Schick – turntables\, samplerMax Arsava – pianoAlex Bayer – double bassFlo Fischer – drums \n\n\n\n\n\nNOWHERE DENSE\n\n\n\n\n\n\n\nNOWHERE DENSE
URL:https://jazz-in-berlin.net/event/nowhere-dense/
LOCATION:Kühlspot Social Club\, Lehderstraße 74\, Berlin\, 13086
ATTACH;FMTTYPE=:
END:VEVENT
BEGIN:VEVENT
DTSTART;TZID=Europe/Berlin:20241125T200000
DTEND;TZID=Europe/Berlin:20241125T223000
DTSTAMP:20260425T161214
CREATED:20241026T053300Z
LAST-MODIFIED:20241109T081045Z
UID:7958-1732564800-1732573800@jazz-in-berlin.net
SUMMARY:Ekaterina Derzhavina
DESCRIPTION:Der Olymp des Klavierspiels  \n\n\n\nEkaterina Derzhavina – Klavier \n\n\n\nHAYDN Sonate Es Dur Hob.XVI:52MOZART Sonate c moll K.457TSCHAIKOVSKY Jahreszeiten:Januar (Am Kamin)Februar (Karneval)März (Lied der Lerche)April (Schneeglöckchen)Mai (Weiße Nächte)Juni (Barcarole)Juli (Lied der Schnitter)August (Die Ernte)September (Jagdlied)Oktober (Herbstlied)November (Troika)Dezember (Weihnachten) \n\n\n\n\n\nEkaterina Derzhavina\n\n\n\n\n\n\n\n\nEkaterina Derzhavina im Piano Salon\n\n\n\n\nEkaterina Derzhavina
URL:https://jazz-in-berlin.net/event/ekaterina-derzhavina-2/
LOCATION:Piano Salon Christophori\, Uferstr.8\, Berlin\, 13357
ATTACH;FMTTYPE=:
END:VEVENT
BEGIN:VEVENT
DTSTART;TZID=Europe/Berlin:20241125T200000
DTEND;TZID=Europe/Berlin:20241125T223000
DTSTAMP:20260425T161214
CREATED:20241104T110833Z
LAST-MODIFIED:20241125T063513Z
UID:8640-1732564800-1732573800@jazz-in-berlin.net
SUMMARY:Lady Blackbird - Tour 2024
DESCRIPTION:Lady Blackbird – Tour 2024\n\n\n\nLady Blackbird – vocalstickets \n\n\n\nladyblackbird.com \n\n\n\n\n\n\n\n\n\nLady Blackbird – Tour 2024
URL:https://jazz-in-berlin.net/event/lady-blackbird-tour-2024/
LOCATION:Großer Sendesaal des RBB\, Masurenallee 8-14\, Berlin\, 14057
ATTACH;FMTTYPE=image/jpeg:https://www.berlinstadtservice.de/images/Grosser_Sendesaal_RBB_bss.png
END:VEVENT
BEGIN:VEVENT
DTSTART;TZID=Europe/Berlin:20241125T203000
DTEND;TZID=Europe/Berlin:20241125T230000
DTSTAMP:20260425T161214
CREATED:20241026T052400Z
LAST-MODIFIED:20241014T083943Z
UID:7809-1732566600-1732575600@jazz-in-berlin.net
SUMMARY:Sote presents Sound System Persepolis
DESCRIPTION:20:30Behrooz Moosavi \n\n\n\n21:30Sote – Sound System PersepolisAta Ebtekar  \n\n\n\nOrnamentalism : Sote / Ata Ebtekar and the Iranian Orchestra \n\n\n\n\n\nSote presents Sound System Persepolis\n\n\n\n\n\n\n\nSote presents Sound System Persepolis
URL:https://jazz-in-berlin.net/event/sote-presents-sound-system-persepolis/
LOCATION:Morphine Raum\, Köpenicker Straße 147\, Berlin\, 10997
ATTACH;FMTTYPE=image/jpeg:https://jazz-in-berlin.net/wp-content/uploads/2024/10/Morphine-Raum-02.jpg
END:VEVENT
BEGIN:VEVENT
DTSTART;TZID=Europe/Berlin:20241125T203000
DTEND;TZID=Europe/Berlin:20241125T233000
DTSTAMP:20260425T161214
CREATED:20241109T120322Z
LAST-MODIFIED:20241109T120323Z
UID:8760-1732566600-1732577400@jazz-in-berlin.net
SUMMARY:Schlot Session 4/4 - Julia Hülsmann Quartett
DESCRIPTION:Julia Hülsmann – pianoMarc Müllbauer – bassUli Kempendorff – saxophoneHeinrich Köbberling – drums \n\n\n\nSchlot Session 4/4 – Julia Hülsmann Quartett\n\n\n\n\n\n\n\n\n\n\n\n\n\n\n\n\nJulia Hülsmann piano\n\n\n\n\nSchlot Session 4/4 – Julia Hülsmann Quartett
URL:https://jazz-in-berlin.net/event/schlot-session-4-4-julia-huelsmann-quartett/
LOCATION:Kunstfabrik Schlot\, Invalidenstraße 117\, Berlin\, 10115
ATTACH;FMTTYPE=image/jpeg:https://jazz-in-berlin.net/wp-content/uploads/2024/07/Kunstfabrink-Logo-20.jpg
END:VEVENT
END:VCALENDAR