BEGIN:VCALENDAR
VERSION:2.0
PRODID:-//Berlin Jazz - ECPv6.15.11//NONSGML v1.0//EN
CALSCALE:GREGORIAN
METHOD:PUBLISH
X-ORIGINAL-URL:https://jazz-in-berlin.net
X-WR-CALDESC:Veranstaltungen für Berlin Jazz
REFRESH-INTERVAL;VALUE=DURATION:PT1H
X-Robots-Tag:noindex
X-PUBLISHED-TTL:PT1H
BEGIN:VTIMEZONE
TZID:Europe/Berlin
BEGIN:DAYLIGHT
TZOFFSETFROM:+0100
TZOFFSETTO:+0200
TZNAME:CEST
DTSTART:20230326T010000
END:DAYLIGHT
BEGIN:STANDARD
TZOFFSETFROM:+0200
TZOFFSETTO:+0100
TZNAME:CET
DTSTART:20231029T010000
END:STANDARD
BEGIN:DAYLIGHT
TZOFFSETFROM:+0100
TZOFFSETTO:+0200
TZNAME:CEST
DTSTART:20240331T010000
END:DAYLIGHT
BEGIN:STANDARD
TZOFFSETFROM:+0200
TZOFFSETTO:+0100
TZNAME:CET
DTSTART:20241027T010000
END:STANDARD
BEGIN:DAYLIGHT
TZOFFSETFROM:+0100
TZOFFSETTO:+0200
TZNAME:CEST
DTSTART:20250330T010000
END:DAYLIGHT
BEGIN:STANDARD
TZOFFSETFROM:+0200
TZOFFSETTO:+0100
TZNAME:CET
DTSTART:20251026T010000
END:STANDARD
END:VTIMEZONE
BEGIN:VEVENT
DTSTART;TZID=Europe/Berlin:20241207T200000
DTEND;TZID=Europe/Berlin:20241207T233000
DTSTAMP:20260425T174606
CREATED:20241123T155936Z
LAST-MODIFIED:20241123T155936Z
UID:8992-1733601600-1733614200@jazz-in-berlin.net
SUMMARY:Takase Erdmann Reich Striffler
DESCRIPTION:Aki Takase – piano Daniel Erdmann – saxophonesMaria Reich – violin Fabiana Striffler – violin   \n\n\n\nDiamond Eberhard Grip Reed \n\n\n\n\n\n\n\n\n\nDiamond Eberhard Grip Reed 
URL:https://jazz-in-berlin.net/event/takase-erdmann-reich-striffler/
LOCATION:Sowieso\, Weisestraße 24\, Berlin\, 12049
ATTACH;FMTTYPE=image/jpeg:https://cortex.persona.co/w/696/q/67/i/ef08edefeaf2227488ee7ad85924c3612b27dea492d11a9145417efdc766b789/wallpaper-green.jpg
END:VEVENT
BEGIN:VEVENT
DTSTART;TZID=Europe/Berlin:20241207T203000
DTEND;TZID=Europe/Berlin:20241207T230000
DTSTAMP:20260425T174606
CREATED:20241201T082608Z
LAST-MODIFIED:20241201T082609Z
UID:9149-1733603400-1733612400@jazz-in-berlin.net
SUMMARY:David Grubbs / Jules Reidy / Jan St. Werner - Day 1
DESCRIPTION:20:30David Grubbs / Jules Reidy / Jan St. Werner \n\n\n\n\n\nDavid Grubbs / Jules Reidy / Jan St. Werner – Day 1\n\n\n\n\n\n\n\n\n\nTranslation from Unspecifiedvon David Grubbs & Jan St. Werner\n\n\n\n\n\n\n\n\n\nDavid Grubbs / Jules Reidy / Jan St. Werner – Day 1
URL:https://jazz-in-berlin.net/event/david-grubbs-jules-reidy-jan-st-werner-day-1/
LOCATION:Morphine Raum\, Köpenicker Straße 147\, Berlin\, 10997
ATTACH;FMTTYPE=image/jpeg:https://jazz-in-berlin.net/wp-content/uploads/2024/10/Morphine-Raum-02.jpg
END:VEVENT
BEGIN:VEVENT
DTSTART;TZID=Europe/Berlin:20241207T203000
DTEND;TZID=Europe/Berlin:20241207T233000
DTSTAMP:20260425T174606
CREATED:20241123T135245Z
LAST-MODIFIED:20241123T135445Z
UID:8951-1733603400-1733614200@jazz-in-berlin.net
SUMMARY:TETRATON // The MINTON-BEYER DUO
DESCRIPTION:TETRATONLiz AllbeeSabine Ercklentz \n\n\n\nThe MINTON–BEYER DUOPhil MintonKriton Beyerphilminton.co.uk/ | kritonbeyer.com/ \n\n\n\nTETRATON // The MINTON-BEYER DUO\n\n\n\n\n\n\n\n\n\nTETRATON // The MINTON-BEYER DUO
URL:https://jazz-in-berlin.net/event/tetraton-the-minton-beyer-duo/
LOCATION:ausland\, lychener str 60\, Berlin\, 10437
ATTACH;FMTTYPE=image/jpeg:https://jazz-in-berlin.net/wp-content/uploads/2024/09/ausland_logo.jpg
END:VEVENT
BEGIN:VEVENT
DTSTART;TZID=Europe/Berlin:20241207T203000
DTEND;TZID=Europe/Berlin:20241207T235900
DTSTAMP:20260425T174606
CREATED:20241116T115846Z
LAST-MODIFIED:20241123T174001Z
UID:8888-1733603400-1733615940@jazz-in-berlin.net
SUMMARY:SENSOR
DESCRIPTION:Mark Weschenfelder – SaxophoneHendrik Marin – SaxophoneNoah Punkt – Double BassFlorian Lauer – Drums \n\n\n\nsensorjazz.com \n\n\n\nSENSOR\n\n\n\n\n\n\n\n\n\n\n\nSENSORby SENSOR\n\n\n\n\n\n\n\n\n\nSENSOR
URL:https://jazz-in-berlin.net/event/sensor/
LOCATION:Donau 115\, Donaustrasse 115\, Berlin\, 12043
ATTACH;FMTTYPE=:
END:VEVENT
BEGIN:VEVENT
DTSTART;TZID=Europe/Berlin:20241207T210000
DTEND;TZID=Europe/Berlin:20241207T235900
DTSTAMP:20260425T174606
CREATED:20241110T083804Z
LAST-MODIFIED:20241110T084007Z
UID:8775-1733605200-1733615940@jazz-in-berlin.net
SUMMARY:The „B-flat All-Stars“present Emil Wahlgren
DESCRIPTION:Emil Wahlgren – vocalsKenneth Berkel – piano Hendrik Nehls – bass Dexter Stanley-Tauvao – drums \n\n\n\nhendriknehls.de \n\n\n\nThe „B-flat All-Stars“present Emil Wahlgren\n\n\n\n\n\n\n\n\n\n\n\n\n\n\n\n\n\n\n\n\n\n\n\n\n\nThe „B-flat All-Stars“present Emil Wahlgren
URL:https://jazz-in-berlin.net/event/the-b-flat-all-starspresent-emil-wahlgren/
LOCATION:B-Flat\, Dircksenstraße 40\, Berlin\, 10178
ATTACH;FMTTYPE=image/jpeg:https://jazz-in-berlin.net/wp-content/uploads/2024/08/B-Flat-Logo-50.jpg
END:VEVENT
BEGIN:VEVENT
DTSTART;TZID=Europe/Berlin:20241207T210000
DTEND;TZID=Europe/Berlin:20241207T235900
DTSTAMP:20260425T174606
CREATED:20241116T084120Z
LAST-MODIFIED:20241116T084121Z
UID:8852-1733605200-1733615940@jazz-in-berlin.net
SUMMARY:Tal Arditi Quartet - Full House
DESCRIPTION:Tal Arditi – guitarGianni Gagliardi – saxophoneChristian Müller – bassNathan Ott – drumsStav Goldberg – piano \n\n\n\nTal Arditi Quartet – Full House\n\n\n\n \n\n\n\n\n\n\n\n\n\n\n\n\nTal Arditi & Donata\n\n\n\n\nTal Arditi Quartet – Full House
URL:https://jazz-in-berlin.net/event/tal-arditi-quartet-full-house/
LOCATION:Zig Zag\, Hauptstraße 89\, Berlin\, 12159
ATTACH;FMTTYPE=:
END:VEVENT
END:VCALENDAR