BEGIN:VCALENDAR
VERSION:2.0
PRODID:-//Berlin Jazz - ECPv6.15.11//NONSGML v1.0//EN
CALSCALE:GREGORIAN
METHOD:PUBLISH
X-WR-CALNAME:Berlin Jazz
X-ORIGINAL-URL:https://jazz-in-berlin.net
X-WR-CALDESC:Veranstaltungen für Berlin Jazz
REFRESH-INTERVAL;VALUE=DURATION:PT1H
X-Robots-Tag:noindex
X-PUBLISHED-TTL:PT1H
BEGIN:VTIMEZONE
TZID:Europe/Berlin
BEGIN:DAYLIGHT
TZOFFSETFROM:+0100
TZOFFSETTO:+0200
TZNAME:CEST
DTSTART:20230326T010000
END:DAYLIGHT
BEGIN:STANDARD
TZOFFSETFROM:+0200
TZOFFSETTO:+0100
TZNAME:CET
DTSTART:20231029T010000
END:STANDARD
BEGIN:DAYLIGHT
TZOFFSETFROM:+0100
TZOFFSETTO:+0200
TZNAME:CEST
DTSTART:20240331T010000
END:DAYLIGHT
BEGIN:STANDARD
TZOFFSETFROM:+0200
TZOFFSETTO:+0100
TZNAME:CET
DTSTART:20241027T010000
END:STANDARD
BEGIN:DAYLIGHT
TZOFFSETFROM:+0100
TZOFFSETTO:+0200
TZNAME:CEST
DTSTART:20250330T010000
END:DAYLIGHT
BEGIN:STANDARD
TZOFFSETFROM:+0200
TZOFFSETTO:+0100
TZNAME:CET
DTSTART:20251026T010000
END:STANDARD
END:VTIMEZONE
BEGIN:VEVENT
DTSTART;TZID=Europe/Berlin:20241208T153000
DTEND;TZID=Europe/Berlin:20241208T180000
DTSTAMP:20260425T160300
CREATED:20241109T062300Z
LAST-MODIFIED:20241208T070410Z
UID:8265-1733671800-1733680800@jazz-in-berlin.net
SUMMARY:GRATKOWSKI / NABATOV
DESCRIPTION:Simon Nabatov – pianoFrank Gratkowski – clarinet\, flute\, alto saxophone \n\n\n\n\n\nGRATKOWSKI / NABATOV\n\n\n\n\n\n\n\nGRATKOWSKI / NABATOV
URL:https://jazz-in-berlin.net/event/gratkowski-nabatov/
LOCATION:Industriesalon Schöneweide\, Reinbeckstraße 9\, Berlin\, 12459
ATTACH;FMTTYPE=image/jpeg:https://jazz-in-berlin.net/wp-content/uploads/2024/09/Jazzkeller-69-EV-Logo.jpg
END:VEVENT
BEGIN:VEVENT
DTSTART;TZID=Europe/Berlin:20241208T200000
DTEND;TZID=Europe/Berlin:20241208T220000
DTSTAMP:20260425T160300
CREATED:20241130T143254Z
LAST-MODIFIED:20241130T143255Z
UID:9125-1733688000-1733695200@jazz-in-berlin.net
SUMMARY:Banck Erdmann Rößler Hall
DESCRIPTION:the tension between digital painting and improvised music \n\n\n\nSascha Banck – iPad-MalereiDaniel Erdmann – TenorsaxophonIsabel Rößler – KontrabassSamuel Hall – Drums/Percussion \n\n\n\n\n\n Banck Erdmann Rößler Hall\n\n\n\n\n\n\n\n Banck Erdmann Rößler Hall
URL:https://jazz-in-berlin.net/event/banck-erdmann-roessler-hall/
LOCATION:Kühlspot Social Club\, Lehderstraße 74\, Berlin\, 13086
ATTACH;FMTTYPE=:
END:VEVENT
BEGIN:VEVENT
DTSTART;TZID=Europe/Berlin:20241208T200000
DTEND;TZID=Europe/Berlin:20241208T223000
DTSTAMP:20260425T160300
CREATED:20241109T061400Z
LAST-MODIFIED:20241130T125954Z
UID:8479-1733688000-1733697000@jazz-in-berlin.net
SUMMARY:David Stromberg Han-Wen Jennifer Yu
DESCRIPTION:David Stromberg – CelloHan-Wen Jennifer Yu – Klavier \n\n\n\nBach  – Gambensonate G-Dur Strauss – Cellosonate Emanuel  – Moór Sonate op 53 Brahms  – Cellosonate-moll \n\n\n\ndavidstromberg.de \n\n\n\n\n\nDavid Stromberg Han-Wen Jennifer Yu\n\n\n\n\n\n\n\n\n\n\n\n\n\n\n\n\n\n\n\nSonatas for Cello and Duplex PianoFlorian Uhlig\, David Stromberg\n\n\n\n\n\nTransitionDavid Stromberg\n\n\n\n\n\nDavid Stromberg Han-Wen Jennifer Yu
URL:https://jazz-in-berlin.net/event/david-stromberg-han-wen-jennifer-yu/
LOCATION:Piano Salon Christophori\, Uferstr.8\, Berlin\, 13357
ATTACH;FMTTYPE=:
END:VEVENT
BEGIN:VEVENT
DTSTART;TZID=Europe/Berlin:20241208T203000
DTEND;TZID=Europe/Berlin:20241208T230000
DTSTAMP:20260425T160300
CREATED:20241201T082633Z
LAST-MODIFIED:20241201T082720Z
UID:9151-1733689800-1733698800@jazz-in-berlin.net
SUMMARY:David Grubbs / Jules Reidy / Jan St. Werner - Day 2
DESCRIPTION:20:30David Grubbs / Jules Reidy / Jan St. Werner \n\n\n\n\n\nDavid Grubbs / Jules Reidy / Jan St. Werner – Day 2\n\n\n\n\n\n\n\n\n\nTranslation from Unspecifiedvon David Grubbs & Jan St. Werner\n\n\n\n\n\n\n\n\n\nDavid Grubbs / Jules Reidy / Jan St. Werner – Day 2
URL:https://jazz-in-berlin.net/event/david-grubbs-jules-reidy-jan-st-werner-day-2/
LOCATION:Morphine Raum\, Köpenicker Straße 147\, Berlin\, 10997
ATTACH;FMTTYPE=image/jpeg:https://jazz-in-berlin.net/wp-content/uploads/2024/10/Morphine-Raum-02.jpg
END:VEVENT
BEGIN:VEVENT
DTSTART;TZID=Europe/Berlin:20241208T203000
DTEND;TZID=Europe/Berlin:20241208T233000
DTSTAMP:20260425T160300
CREATED:20241123T141112Z
LAST-MODIFIED:20241123T141851Z
UID:8953-1733689800-1733700600@jazz-in-berlin.net
SUMMARY:Organza Ray // Brique
DESCRIPTION:Organza RayEleni Poulou – synthesizer\, voice Hilary Jeffery – trombone\, electronics rayanza.org  \n\n\n\n| organzaray.bandcamp.com \n\n\n\nBriqueBianca Iannuzzi – voiceEve Risser – pianoLuc Ex – bassFrancesco Pastacaldi – drumsumlautrecords.com/groupe/brique  \n\n\n\numlautrecords.bandcamp.com/album/la-danse-du-b-ton \n\n\n\nOrganza Ray // Brique\n\n\n\n\n\n\n\n\n\nOrganza Ray // Brique
URL:https://jazz-in-berlin.net/event/organza-ray-brique/
LOCATION:ausland\, lychener str 60\, Berlin\, 10437
ATTACH;FMTTYPE=image/jpeg:https://jazz-in-berlin.net/wp-content/uploads/2024/09/ausland_logo.jpg
END:VEVENT
BEGIN:VEVENT
DTSTART;TZID=Europe/Berlin:20241208T210000
DTEND;TZID=Europe/Berlin:20241208T235900
DTSTAMP:20260425T160300
CREATED:20241110T084927Z
LAST-MODIFIED:20241110T084927Z
UID:8778-1733691600-1733702340@jazz-in-berlin.net
SUMMARY:Julie Sassoon Quartet
DESCRIPTION:Julie Sassoon – piano\, compositionLothar Ohlmeier – saxophon\, bassclarinetMeinrad Kneer – bassRudi Fischerlehner – drums \n\n\n\njuliesassoon.com \n\n\n\nJulie Sassoon Quartet\n\n\n\n\n\n\n\n\n\n\n\n\n\n\n\n\n\n\n\n\n\n\n\n\n\n\nJulie Sassoon DUO & Inside Colours\n\n\n\n\nJulie Sassoon Quartet
URL:https://jazz-in-berlin.net/event/julie-sassoon-quartet/
LOCATION:B-Flat\, Dircksenstraße 40\, Berlin\, 10178
ATTACH;FMTTYPE=image/jpeg:https://jazz-in-berlin.net/wp-content/uploads/2024/08/B-Flat-Logo-50.jpg
END:VEVENT
END:VCALENDAR