BEGIN:VCALENDAR
VERSION:2.0
PRODID:-//Berlin Jazz - ECPv6.15.11//NONSGML v1.0//EN
CALSCALE:GREGORIAN
METHOD:PUBLISH
X-ORIGINAL-URL:https://jazz-in-berlin.net
X-WR-CALDESC:Veranstaltungen für Berlin Jazz
REFRESH-INTERVAL;VALUE=DURATION:PT1H
X-Robots-Tag:noindex
X-PUBLISHED-TTL:PT1H
BEGIN:VTIMEZONE
TZID:Europe/Berlin
BEGIN:DAYLIGHT
TZOFFSETFROM:+0100
TZOFFSETTO:+0200
TZNAME:CEST
DTSTART:20230326T010000
END:DAYLIGHT
BEGIN:STANDARD
TZOFFSETFROM:+0200
TZOFFSETTO:+0100
TZNAME:CET
DTSTART:20231029T010000
END:STANDARD
BEGIN:DAYLIGHT
TZOFFSETFROM:+0100
TZOFFSETTO:+0200
TZNAME:CEST
DTSTART:20240331T010000
END:DAYLIGHT
BEGIN:STANDARD
TZOFFSETFROM:+0200
TZOFFSETTO:+0100
TZNAME:CET
DTSTART:20241027T010000
END:STANDARD
BEGIN:DAYLIGHT
TZOFFSETFROM:+0100
TZOFFSETTO:+0200
TZNAME:CEST
DTSTART:20250330T010000
END:DAYLIGHT
BEGIN:STANDARD
TZOFFSETFROM:+0200
TZOFFSETTO:+0100
TZNAME:CET
DTSTART:20251026T010000
END:STANDARD
END:VTIMEZONE
BEGIN:VEVENT
DTSTART;TZID=Europe/Berlin:20241209T200000
DTEND;TZID=Europe/Berlin:20241209T223000
DTSTAMP:20260425T160509
CREATED:20241130T130604Z
LAST-MODIFIED:20241209T063110Z
UID:9093-1733774400-1733783400@jazz-in-berlin.net
SUMMARY:TANGO - CONCIERTO PARA QUINTETO
DESCRIPTION:Ulrike Dinter – ViolinePeter Reil – Bandoneon Ludger Ferreiro – PianoTomás Rösler – Kontrabass \n\n\n\n\n\nTANGO – CONCIERTO PARA QUINTETO\n\n\n\n\n\n\n\n\n\n\n\n\n\n\n\n\n\nTANGO – CONCIERTO PARA QUINTETO
URL:https://jazz-in-berlin.net/event/tango-concierto-para-quinteto/
LOCATION:Piano Salon Christophori\, Uferstr.8\, Berlin\, 13357
ATTACH;FMTTYPE=:
END:VEVENT
BEGIN:VEVENT
DTSTART;TZID=Europe/Berlin:20241209T203000
DTEND;TZID=Europe/Berlin:20241209T230000
DTSTAMP:20260425T160509
CREATED:20241209T064003Z
LAST-MODIFIED:20241209T064022Z
UID:9171-1733776200-1733785200@jazz-in-berlin.net
SUMMARY:Minton Beyer Duo
DESCRIPTION:20:30Minton Beyer duo recording \n\n\n\nkritonbeyer.com/mintonbeyer \n\n\n\n\n\nMinton Beyer Duo\n\n\n\n\n\n\n\n\n\n\n\n\n\n\n\n\n\nMinton Beyer Duo
URL:https://jazz-in-berlin.net/event/minton-beyer-duo/
LOCATION:Morphine Raum\, Köpenicker Straße 147\, Berlin\, 10997
ATTACH;FMTTYPE=image/jpeg:https://jazz-in-berlin.net/wp-content/uploads/2024/10/Morphine-Raum-02.jpg
END:VEVENT
BEGIN:VEVENT
DTSTART;TZID=Europe/Berlin:20241209T210000
DTEND;TZID=Europe/Berlin:20241209T233000
DTSTAMP:20260425T160509
CREATED:20241110T155426Z
LAST-MODIFIED:20241103T160009Z
UID:8606-1733778000-1733787000@jazz-in-berlin.net
SUMMARY:Slow Loris Quartet
DESCRIPTION:Carl Justus Kröning – guitarChristopher Lübeck – pianoJohannes Fricke – bassClaas Lausen – drums \n\n\n\nslowlorisquartet.de \n\n\n\n\n\nSlow Loris Quartet\n\n\n\n\n\n\n\n\n\n\n\n\n\nSlow Loris Quartet
URL:https://jazz-in-berlin.net/event/slow-loris-quartet/
LOCATION:Kunstfabrik Schlot\, Invalidenstraße 117\, Berlin\, 10115
ATTACH;FMTTYPE=image/jpeg:https://jazz-in-berlin.net/wp-content/uploads/2024/07/Kunstfabrink-Logo-20.jpg
END:VEVENT
END:VCALENDAR