BEGIN:VCALENDAR
VERSION:2.0
PRODID:-//Berlin Jazz - ECPv6.15.11//NONSGML v1.0//EN
CALSCALE:GREGORIAN
METHOD:PUBLISH
X-ORIGINAL-URL:https://jazz-in-berlin.net
X-WR-CALDESC:Veranstaltungen für Berlin Jazz
REFRESH-INTERVAL;VALUE=DURATION:PT1H
X-Robots-Tag:noindex
X-PUBLISHED-TTL:PT1H
BEGIN:VTIMEZONE
TZID:Europe/Berlin
BEGIN:DAYLIGHT
TZOFFSETFROM:+0100
TZOFFSETTO:+0200
TZNAME:CEST
DTSTART:20230326T010000
END:DAYLIGHT
BEGIN:STANDARD
TZOFFSETFROM:+0200
TZOFFSETTO:+0100
TZNAME:CET
DTSTART:20231029T010000
END:STANDARD
BEGIN:DAYLIGHT
TZOFFSETFROM:+0100
TZOFFSETTO:+0200
TZNAME:CEST
DTSTART:20240331T010000
END:DAYLIGHT
BEGIN:STANDARD
TZOFFSETFROM:+0200
TZOFFSETTO:+0100
TZNAME:CET
DTSTART:20241027T010000
END:STANDARD
BEGIN:DAYLIGHT
TZOFFSETFROM:+0100
TZOFFSETTO:+0200
TZNAME:CEST
DTSTART:20250330T010000
END:DAYLIGHT
BEGIN:STANDARD
TZOFFSETFROM:+0200
TZOFFSETTO:+0100
TZNAME:CET
DTSTART:20251026T010000
END:STANDARD
END:VTIMEZONE
BEGIN:VEVENT
DTSTART;TZID=Europe/Berlin:20241214T200000
DTEND;TZID=Europe/Berlin:20241214T233000
DTSTAMP:20260425T161239
CREATED:20241214T093220Z
LAST-MODIFIED:20241214T102826Z
UID:9250-1734206400-1734219000@jazz-in-berlin.net
SUMMARY:Simon Nabatov Michaël Attias
DESCRIPTION: Simon Nabatov (piano) Michaël Attias (alto saxophone) \n\n\n\nSimon Nabatov Michaël Attias\n\n\n\n \n\n\n\n\n\n\n\n\n\nSimon Nabatov Michaël Attias
URL:https://jazz-in-berlin.net/event/simon-nabatov-michael-attias/
LOCATION:Sowieso\, Weisestraße 24\, Berlin\, 12049
ATTACH;FMTTYPE=:
END:VEVENT
BEGIN:VEVENT
DTSTART;TZID=Europe/Berlin:20241214T203000
DTEND;TZID=Europe/Berlin:20241214T235900
DTSTAMP:20260425T161239
CREATED:20241123T172401Z
LAST-MODIFIED:20241123T174332Z
UID:9020-1734208200-1734220740@jazz-in-berlin.net
SUMMARY:MAXED OUT - EP Release
DESCRIPTION:Maxim Frischmann – ts/samples/FXBjörn-Atle Anfinsen – trumpet/FXThomas Fuller – BassTilo Weber – DrumsYannis Anft – Keys/Synth \n\n\n\nmaximfrischmann.com/maxedout \n\n\n\nMAXED OUT – EP Release\n\n\n\n\n\n\n\n\n\n\n\nMaxed Out #1Maxim Frischmann\, Maxed Out14.06.2024\n\n\n\n\n\n\n\n\n\nMAXED OUT – EP Release
URL:https://jazz-in-berlin.net/event/maxed-out-ep-release/
LOCATION:Donau 115\, Donaustrasse 115\, Berlin\, 12043
ATTACH;FMTTYPE=:
END:VEVENT
BEGIN:VEVENT
DTSTART;TZID=Europe/Berlin:20241214T210000
DTEND;TZID=Europe/Berlin:20241214T233000
DTSTAMP:20260425T161239
CREATED:20241115T061200Z
LAST-MODIFIED:20241110T091642Z
UID:8795-1734210000-1734219000@jazz-in-berlin.net
SUMMARY:Bob Folk Quintet
DESCRIPTION:Susanne Folk – saxophone\, vocalsRobert Folk – tromboneBenedikt Jahnel – pianoRoland Fidezius – bassRainer Winch – drums \n\n\n\nbobfolkquintet \n\n\n\n\n\nBob Folk Quintet\n\n\n\n\n\n\n\n\n\n\n\n\n\n\n\n\n\nBob Folk Quintet
URL:https://jazz-in-berlin.net/event/bob-folk-quintet/
LOCATION:B-Flat\, Dircksenstraße 40\, Berlin\, 10178
ATTACH;FMTTYPE=image/jpeg:https://jazz-in-berlin.net/wp-content/uploads/2024/08/B-Flat-Logo-50.jpg
END:VEVENT
BEGIN:VEVENT
DTSTART;TZID=Europe/Berlin:20241214T210000
DTEND;TZID=Europe/Berlin:20241214T235900
DTSTAMP:20260425T161239
CREATED:20241115T063100Z
LAST-MODIFIED:20241103T143516Z
UID:8558-1734210000-1734220740@jazz-in-berlin.net
SUMMARY:Ingrid Arthur 14th «BERLIN EXPERIENCE»
DESCRIPTION:«BERLIN EXPERIENCE»«LEGACY» \n\n\n\nIngrid Arthur – vocalsConnor Fitzgerald – pianoManu Zacek – bassClinton Agu – drums \n\n\n\nIngrid Arthur 14th «BERLIN EXPERIENCE»\n\n\n\n \n\n\n\n\n\n\n\n\n\n\n\n\nIngrid Arthur vocal\n\n\n\n\nIngrid Arthur 14th «BERLIN EXPERIENCE»
URL:https://jazz-in-berlin.net/event/ingrid-arthur-14th/
LOCATION:A-Trane\, Bleibtreustraße 1\, Berlin\, 10625
ATTACH;FMTTYPE=image/jpeg:https://jazz-in-berlin.net/wp-content/uploads/2023/01/A-Trane-Logo-20.jpg
END:VEVENT
BEGIN:VEVENT
DTSTART;TZID=Europe/Berlin:20241214T210000
DTEND;TZID=Europe/Berlin:20241214T235900
DTSTAMP:20260425T161239
CREATED:20241214T081248Z
LAST-MODIFIED:20241214T081249Z
UID:9235-1734210000-1734220740@jazz-in-berlin.net
SUMMARY:Weniger Simcock Ginsburg Köbberling
DESCRIPTION:Peter Weniger – saxophoneGwilym Simcock – pianoJosh Ginsburg – bassHeinrich Köbberling – drums \n\n\n\nWeniger Simcock Ginsburg Köbberling\n\n\n\n \n\n\n\n\n\n\n\n\n\n\n\nWeniger Simcock Ginsburg Köbberling
URL:https://jazz-in-berlin.net/event/weniger-simcock-ginsburg-koebberling/
LOCATION:Zig Zag\, Hauptstraße 89\, Berlin\, 12159
ATTACH;FMTTYPE=:
END:VEVENT
END:VCALENDAR