BEGIN:VCALENDAR
VERSION:2.0
PRODID:-//Berlin Jazz - ECPv6.15.11//NONSGML v1.0//EN
CALSCALE:GREGORIAN
METHOD:PUBLISH
X-ORIGINAL-URL:https://jazz-in-berlin.net
X-WR-CALDESC:Veranstaltungen für Berlin Jazz
REFRESH-INTERVAL;VALUE=DURATION:PT1H
X-Robots-Tag:noindex
X-PUBLISHED-TTL:PT1H
BEGIN:VTIMEZONE
TZID:Europe/Berlin
BEGIN:DAYLIGHT
TZOFFSETFROM:+0100
TZOFFSETTO:+0200
TZNAME:CEST
DTSTART:20230326T010000
END:DAYLIGHT
BEGIN:STANDARD
TZOFFSETFROM:+0200
TZOFFSETTO:+0100
TZNAME:CET
DTSTART:20231029T010000
END:STANDARD
BEGIN:DAYLIGHT
TZOFFSETFROM:+0100
TZOFFSETTO:+0200
TZNAME:CEST
DTSTART:20240331T010000
END:DAYLIGHT
BEGIN:STANDARD
TZOFFSETFROM:+0200
TZOFFSETTO:+0100
TZNAME:CET
DTSTART:20241027T010000
END:STANDARD
BEGIN:DAYLIGHT
TZOFFSETFROM:+0100
TZOFFSETTO:+0200
TZNAME:CEST
DTSTART:20250330T010000
END:DAYLIGHT
BEGIN:STANDARD
TZOFFSETFROM:+0200
TZOFFSETTO:+0100
TZNAME:CET
DTSTART:20251026T010000
END:STANDARD
END:VTIMEZONE
BEGIN:VEVENT
DTSTART;TZID=Europe/Berlin:20241217T173000
DTEND;TZID=Europe/Berlin:20241217T230000
DTSTAMP:20260425T175246
CREATED:20241118T063900Z
LAST-MODIFIED:20241216T074615Z
UID:8564-1734456600-1734476400@jazz-in-berlin.net
SUMMARY:Jakob Manz Day 1 IN MEMORY OF DAVID SANBORN
DESCRIPTION:Zusatzkonzert 17:30 \n\n\n\n«Straight To The Heart» \n\n\n\nJakob Manz – SaxophoneTorsten Goods – Guitar/VocalJan Misere – Piano/KeysThomas Stieger – BassFelix Lehrmann – Drums \n\n\n\n\n\nJakob Manz Day 1 IN MEMORY OF DAVID SANBORN\n\n\n\n\n\n\n\n\n\n\n\n\n\n\n\n\n\n\n\nThe AnswerThe Jakob Manz Project\, Jakob Manz\n\n\n\n\n\n\n\n\n\nJakob Manz Day 1 IN MEMORY OF DAVID SANBORN
URL:https://jazz-in-berlin.net/event/jakob-manz-day-1-in-memory-of-david-sanborn/
LOCATION:A-Trane\, Bleibtreustraße 1\, Berlin\, 10625
ATTACH;FMTTYPE=:
END:VEVENT
BEGIN:VEVENT
DTSTART;TZID=Europe/Berlin:20241217T210000
DTEND;TZID=Europe/Berlin:20241217T233000
DTSTAMP:20260425T175246
CREATED:20241118T063100Z
LAST-MODIFIED:20241116T113537Z
UID:8881-1734469200-1734478200@jazz-in-berlin.net
SUMMARY:Denis Stilke Quartett Plus 20th anniversary
DESCRIPTION:Reiner Hess – saxophone Thomas Finke – piano Kubi Kubach – bass Denis Stilke – drums\, composition feat. Dirk Homuth – guitar \n\n\n\ndenisstilke-ondrums.de \n\n\n\n\n\nDenis Stilke Quartett Plus 20th anniversary\n\n\n\n\n\n\n\n\n\n\n\n\n\n\n\n\n\nDenis Stilke Quartett Plus 20th anniversary
URL:https://jazz-in-berlin.net/event/denis-stilke-quartett-plus-20th-anniversary/
LOCATION:B-Flat\, Dircksenstraße 40\, Berlin\, 10178
ATTACH;FMTTYPE=image/jpeg:https://jazz-in-berlin.net/wp-content/uploads/2024/08/B-Flat-Logo-50.jpg
END:VEVENT
BEGIN:VEVENT
DTSTART;TZID=Europe/Berlin:20241217T210000
DTEND;TZID=Europe/Berlin:20241217T233000
DTSTAMP:20260425T175246
CREATED:20241118T064300Z
LAST-MODIFIED:20241110T095349Z
UID:8809-1734469200-1734478200@jazz-in-berlin.net
SUMMARY:Tristan Schmidt Trio
DESCRIPTION:Tristan Schmidt – pianoDani Sorek – bassDavid Guy – drums \n\n\n\ntristanschmidt.nl \n\n\n\n\n\nTristan Schmidt Trio\n\n\n\n\n\n\n\n\n\n\n\n\n\n\n\nLive in Berlin\, Vol. 1 (Live)Tristan Schmidt Trio\, Tristan Schmidt\, William Barrett\, Tim Hennekes\n\n\n\n\n\nStandards Live\, Vol. 4Tristan Schmidt Trio\, Tim Hennekes\, William Barrett\, Tristan Schmidt\n\n\n\n\n\nStandards Live\, Vol. 5Tristan Schmidt Trio\, Tristan Schmidt\, William Barrett\, Tim Hennekes\n\n\n\n\n\nTristan Schmidt Trio
URL:https://jazz-in-berlin.net/event/tristan-schmidt-trio/
LOCATION:Kunstfabrik Schlot\, Invalidenstraße 117\, Berlin\, 10115
ATTACH;FMTTYPE=image/jpeg:https://jazz-in-berlin.net/wp-content/uploads/2024/07/Kunstfabrink-Logo-20.jpg
END:VEVENT
END:VCALENDAR