BEGIN:VCALENDAR
VERSION:2.0
PRODID:-//Berlin Jazz - ECPv6.15.11//NONSGML v1.0//EN
CALSCALE:GREGORIAN
METHOD:PUBLISH
X-ORIGINAL-URL:https://jazz-in-berlin.net
X-WR-CALDESC:Veranstaltungen für Berlin Jazz
REFRESH-INTERVAL;VALUE=DURATION:PT1H
X-Robots-Tag:noindex
X-PUBLISHED-TTL:PT1H
BEGIN:VTIMEZONE
TZID:Europe/Berlin
BEGIN:DAYLIGHT
TZOFFSETFROM:+0100
TZOFFSETTO:+0200
TZNAME:CEST
DTSTART:20230326T010000
END:DAYLIGHT
BEGIN:STANDARD
TZOFFSETFROM:+0200
TZOFFSETTO:+0100
TZNAME:CET
DTSTART:20231029T010000
END:STANDARD
BEGIN:DAYLIGHT
TZOFFSETFROM:+0100
TZOFFSETTO:+0200
TZNAME:CEST
DTSTART:20240331T010000
END:DAYLIGHT
BEGIN:STANDARD
TZOFFSETFROM:+0200
TZOFFSETTO:+0100
TZNAME:CET
DTSTART:20241027T010000
END:STANDARD
BEGIN:DAYLIGHT
TZOFFSETFROM:+0100
TZOFFSETTO:+0200
TZNAME:CEST
DTSTART:20250330T010000
END:DAYLIGHT
BEGIN:STANDARD
TZOFFSETFROM:+0200
TZOFFSETTO:+0100
TZNAME:CET
DTSTART:20251026T010000
END:STANDARD
END:VTIMEZONE
BEGIN:VEVENT
DTSTART;TZID=Europe/Berlin:20241230T200000
DTEND;TZID=Europe/Berlin:20241230T223000
DTSTAMP:20260425T143347
CREATED:20240917T053100Z
LAST-MODIFIED:20241218T163728Z
UID:6777-1735588800-1735597800@jazz-in-berlin.net
SUMMARY:Irena Josifoska - Michael Cohen-Weissert 
DESCRIPTION:Pablo Schatzman  –  ViolineMartin Moriarty  – ViolaIrena Josifoska – Cello Michael Cohen-Weissert – Klavier \n\n\n\nKlavierquartette:Mozart – Klavierquartett KV 478 g-mollBrahms -Klavierquartett op. 25 g-moll \n\n\n\n\n\nIrena Josifoska – Michael Cohen-Weissert \n\n\n\n\n\n\n\nIrena Josifoska – Michael Cohen-Weissert @ Piano Salon Christophori
URL:https://jazz-in-berlin.net/event/irena-josifoska-michael-cohen-weissert/
LOCATION:Piano Salon Christophori\, Uferstr.8\, Berlin\, 13357
ATTACH;FMTTYPE=:
END:VEVENT
BEGIN:VEVENT
DTSTART;TZID=Europe/Berlin:20241230T210000
DTEND;TZID=Europe/Berlin:20241230T233000
DTSTAMP:20260425T143347
CREATED:20240627T103600Z
LAST-MODIFIED:20241130T124932Z
UID:3630-1735592400-1735601400@jazz-in-berlin.net
SUMMARY:Matti Klein Soul Trio
DESCRIPTION:Matti Klein – piano\, fender rhodesLars Zander – bass clarinet\, SaxophoneAndré Seidel – drums \n\n\n\nMatti Klein Soul Trio\n\n\n\n \n\n\n\n\n\n\nMatti Klein Trio\n\n\n\n\n \n\n\n\n\n\n\n\n\n\nMatti Klein Soul Trio
URL:https://jazz-in-berlin.net/event/matti-klein-soul-trio/
LOCATION:Zig Zag\, Hauptstraße 89\, Berlin\, 12159
ATTACH;FMTTYPE=image/jpeg:https://images.squarespace-cdn.com/content/v1/55146be5e4b0392be71840b6/1431516196750-KT8J11AC198OTFSL66PV/ZZ+full+burgundy+transparent.png?format=1500w
END:VEVENT
BEGIN:VEVENT
DTSTART;TZID=Europe/Berlin:20241230T220000
DTEND;TZID=Europe/Berlin:20241230T235900
DTSTAMP:20260425T143347
CREATED:20241201T062200Z
LAST-MODIFIED:20241219T113934Z
UID:8590-1735596000-1735603140@jazz-in-berlin.net
SUMMARY:Agita Rando Quartett Day 4
DESCRIPTION:«CHRISTMAS SPECIAL» \n\n\n\nAgita Rando – Piano\, CompositionJan von Klewitz – AltosaxCharles Sammons – BassErnst Bier – Drums \n\n\n\n\n\nAgita Rando Quartett Day 4\n\n\n\n\n\n\n\nAgita Rando Trio YOUTUBE\n\n\n\nAgita Rando Quartett Day 4 @A-Trane
URL:https://jazz-in-berlin.net/event/agita-rando-quartett-day-4/
LOCATION:A-Trane\, Bleibtreustraße 1\, Berlin\, 10625
ATTACH;FMTTYPE=:
END:VEVENT
END:VCALENDAR