BEGIN:VCALENDAR
VERSION:2.0
PRODID:-//Berlin Jazz - ECPv6.15.11//NONSGML v1.0//EN
CALSCALE:GREGORIAN
METHOD:PUBLISH
X-ORIGINAL-URL:https://jazz-in-berlin.net
X-WR-CALDESC:Veranstaltungen für Berlin Jazz
REFRESH-INTERVAL;VALUE=DURATION:PT1H
X-Robots-Tag:noindex
X-PUBLISHED-TTL:PT1H
BEGIN:VTIMEZONE
TZID:Europe/Berlin
BEGIN:DAYLIGHT
TZOFFSETFROM:+0100
TZOFFSETTO:+0200
TZNAME:CEST
DTSTART:20240331T010000
END:DAYLIGHT
BEGIN:STANDARD
TZOFFSETFROM:+0200
TZOFFSETTO:+0100
TZNAME:CET
DTSTART:20241027T010000
END:STANDARD
BEGIN:DAYLIGHT
TZOFFSETFROM:+0100
TZOFFSETTO:+0200
TZNAME:CEST
DTSTART:20250330T010000
END:DAYLIGHT
BEGIN:STANDARD
TZOFFSETFROM:+0200
TZOFFSETTO:+0100
TZNAME:CET
DTSTART:20251026T010000
END:STANDARD
BEGIN:DAYLIGHT
TZOFFSETFROM:+0100
TZOFFSETTO:+0200
TZNAME:CEST
DTSTART:20260329T010000
END:DAYLIGHT
BEGIN:STANDARD
TZOFFSETFROM:+0200
TZOFFSETTO:+0100
TZNAME:CET
DTSTART:20261025T010000
END:STANDARD
END:VTIMEZONE
BEGIN:VEVENT
DTSTART;TZID=Europe/Berlin:20250103T183000
DTEND;TZID=Europe/Berlin:20250103T235900
DTSTAMP:20260425T143407
CREATED:20241130T132451Z
LAST-MODIFIED:20241231T105620Z
UID:9108-1735929000-1735948740@jazz-in-berlin.net
SUMMARY:Denice Brooks
DESCRIPTION:Doppelkonzert 18:30 und 21:00 \n\n\n\nDenice Brooks – lead vocals Leander Neidig – keys Pelle Buschmann – bass Samuel Dietze – drums Johannes „Soul Man“ Schwarting – saxaphone  \n\n\n\ndenicebrooks.com \n\n\n\nDenice Brooks Band\n\n\n\n \n\n\n\n\n\n\n\n\n\n\n\n\nDenice Brooks Band\n\n\n\n\nDenice Brooks Band
URL:https://jazz-in-berlin.net/event/denice-brooks/
LOCATION:Zig Zag\, Hauptstraße 89\, Berlin\, 12159
ATTACH;FMTTYPE=image/jpeg:https://images.squarespace-cdn.com/content/v1/55146be5e4b0392be71840b6/1431516196750-KT8J11AC198OTFSL66PV/ZZ+full+burgundy+transparent.png?format=1500w
END:VEVENT
BEGIN:VEVENT
DTSTART;TZID=Europe/Berlin:20250103T200000
DTEND;TZID=Europe/Berlin:20250103T223000
DTSTAMP:20260425T143407
CREATED:20241218T160143Z
LAST-MODIFIED:20250101T115147Z
UID:9597-1735934400-1735943400@jazz-in-berlin.net
SUMMARY:Juliana Zara - Marlene Heiss 
DESCRIPTION:Juliana Zara – SopranMarlene Heiss – Klavier \n\n\n\n\n\nJuliana Zara – Marlene Heiss \n\n\n\n\n\n\n\n\nMarlene Heiss Juliana Zara im Piano Salon\n\n\n\n\nJuliana Zara – Marlene Heiss @ Piano Salon Christophori\n\n\n\nJazz Clubs Berlin
URL:https://jazz-in-berlin.net/event/juliana-zara-marlene-heiss/
LOCATION:Piano Salon Christophori\, Uferstr.8\, Berlin\, 13357
ATTACH;FMTTYPE=:
END:VEVENT
BEGIN:VEVENT
DTSTART;TZID=Europe/Berlin:20250103T200000
DTEND;TZID=Europe/Berlin:20250103T230000
DTSTAMP:20260425T143407
CREATED:20241225T084632Z
LAST-MODIFIED:20241225T091401Z
UID:10370-1735934400-1735945200@jazz-in-berlin.net
SUMMARY:Kaluza / Mengersen / Axelsson
DESCRIPTION:Anna Kaluza – saxUlf Mengersen – bass guitarAndreas Axelsson – drums \n\n\n\nFacebook Event: \n\n\n\n\n\n Kaluza / Mengersen / Axelsson\n\n\n\n\n\nAm Frankfurter Torvon Anna Kaluza\, Jan Roder\n\n\n\n\n\nComputation Intensive Spontaneousnessvon True Stomach of a Bird – Ulf Mengersen\, Lina Allemano\, Kamil Korolczuk\n\n\n\n\n\n\n\n\n\n Kaluza / Mengersen / Axelsson @Kühlspot Social Club\n\n\n\nJazzclubs Berlin
URL:https://jazz-in-berlin.net/event/kaluza-mengersen-axelsson/
LOCATION:Kühlspot Social Club\, Lehderstraße 74\, Berlin\, 13086
ATTACH;FMTTYPE=:
END:VEVENT
BEGIN:VEVENT
DTSTART;TZID=Europe/Berlin:20250103T203000
DTEND;TZID=Europe/Berlin:20250103T235900
DTSTAMP:20260425T143407
CREATED:20241221T091146Z
LAST-MODIFIED:20241227T083439Z
UID:9983-1735936200-1735948740@jazz-in-berlin.net
SUMMARY:Tenor Madness #4 feat. Domenic Landolf
DESCRIPTION:Domenic Landolf tenor saxophoneVictoria Mozalevskaya tenor saxophoneStefan Karl Schmid tenor saxophoneFabian Willmann tenor saxophoneRobert Landfermann bassLucía Martínez drums \n\n\n\nfabianwillmann.com \n\n\n\n „Tenor Madness“ ist eine Konzertreihe des Berliner Saxophonisten Fabian Willmann\, bei der jeweils vier Tenorsaxophonist*innen und eine Rhythmusgruppe von Bass und Schlagzeug im Donau115 aufeinandertreffen. \n\n\n\n\n\nOff The Cuffvon Domenic Landolf\, Bill McHenry\, Bänz Oester\, Jorge Rossy\n\n\n\n\n\nYou Are The Universevon Stefan Karl Schmid & Subway Jazz Orchestra\n\n\n\n\n\nFreedom to Be YouVictoria Mozalevskaya Trio\n\n\n\n\n\nBalancevon Fabian Willmann Trio\n\n\n\n\n\n\n\nRHENUSvon Robert Landfermann\n\n\n\n\n\nLucía Martínez & The FearlessLucia Martinez\, The Fearless\n\n\n\n\n\n \n\n\n\nTenor Madness #4 feat. Domenic Landolf\n\n\n\n\n\n\n\nTenor Madness #4 feat. Domenic Landolf @ Donau 115\n\n\n\nJazzclubs Berlin
URL:https://jazz-in-berlin.net/event/tenor-madness-4-feat-domenic-landolf/
LOCATION:Donau 115\, Donaustrasse 115\, Berlin\, 12043
ATTACH;FMTTYPE=image/jpeg:https://jazz-in-berlin.net/wp-content/uploads/2024/07/Donau115-Windowview-22-scaled.jpg
END:VEVENT
END:VCALENDAR