BEGIN:VCALENDAR
VERSION:2.0
PRODID:-//Berlin Jazz - ECPv6.15.11//NONSGML v1.0//EN
CALSCALE:GREGORIAN
METHOD:PUBLISH
X-WR-CALNAME:Berlin Jazz
X-ORIGINAL-URL:https://jazz-in-berlin.net
X-WR-CALDESC:Veranstaltungen für Berlin Jazz
REFRESH-INTERVAL;VALUE=DURATION:PT1H
X-Robots-Tag:noindex
X-PUBLISHED-TTL:PT1H
BEGIN:VTIMEZONE
TZID:Europe/Berlin
BEGIN:DAYLIGHT
TZOFFSETFROM:+0100
TZOFFSETTO:+0200
TZNAME:CEST
DTSTART:20240331T010000
END:DAYLIGHT
BEGIN:STANDARD
TZOFFSETFROM:+0200
TZOFFSETTO:+0100
TZNAME:CET
DTSTART:20241027T010000
END:STANDARD
BEGIN:DAYLIGHT
TZOFFSETFROM:+0100
TZOFFSETTO:+0200
TZNAME:CEST
DTSTART:20250330T010000
END:DAYLIGHT
BEGIN:STANDARD
TZOFFSETFROM:+0200
TZOFFSETTO:+0100
TZNAME:CET
DTSTART:20251026T010000
END:STANDARD
BEGIN:DAYLIGHT
TZOFFSETFROM:+0100
TZOFFSETTO:+0200
TZNAME:CEST
DTSTART:20260329T010000
END:DAYLIGHT
BEGIN:STANDARD
TZOFFSETFROM:+0200
TZOFFSETTO:+0100
TZNAME:CET
DTSTART:20261025T010000
END:STANDARD
END:VTIMEZONE
BEGIN:VEVENT
DTSTART;TZID=Europe/Berlin:20250109T200000
DTEND;TZID=Europe/Berlin:20250109T230000
DTSTAMP:20260425T141449
CREATED:20241228T091929Z
LAST-MODIFIED:20241228T111741Z
UID:10687-1736452800-1736463600@jazz-in-berlin.net
SUMMARY:DUBUCC
DESCRIPTION:Alexander Frangenheim Double BassDudù Kouate PercussionAndreas Voccia Modular-SynthesizerCéline Voccia Piano \n\n\n\nDUBUCC\n\n\n\n\n\n\n\n\n\n\n\nWild Knotsvon Silke Eberhard\, Céline Voccia\n\n\n\n\n\nThe Knife Againvon Alexander Frangenheim\n\n\n\n\n\nDUBUCC
URL:https://jazz-in-berlin.net/event/dubucc/
LOCATION:Exploratorium\, Zossener Straße 24\, Berlin\, 10961
ATTACH;FMTTYPE=image/jpeg:https://yt3.googleusercontent.com/LDX33jA_ydAFvN2PXuXz1N6oiuGrK_DYeWkDU7hQPMAwclv4a7353FGk8i3OKBLAUSn3LelI3g=w1060-fcrop64=1,00005a57ffffa5a8-k-c0xffffffff-no-nd-rj
END:VEVENT
BEGIN:VEVENT
DTSTART;TZID=Europe/Berlin:20250109T200000
DTEND;TZID=Europe/Berlin:20250109T230000
DTSTAMP:20260425T141449
CREATED:20250102T122530Z
LAST-MODIFIED:20250105T083350Z
UID:11088-1736452800-1736463600@jazz-in-berlin.net
SUMMARY:Downes Stefansson Wankel
DESCRIPTION:Kit Downes – PianoThorbjørn Silas Stefansson – BassMarius Wankel – Drums \n\n\n\nkitdownesmusic.com \n\n\n\n\n\nDreamlife Of DebrisKit Downes\n\n\n\n\n\nDream Big FishJulius Gawlik\, Thorbjørn Stefansson\, Marius Wankel\n\n\n\n\n\nDownes Stefansson Wankel\n\n\n\n\n\n\n\n\n\nDownes Stefansson Wankel @Sowieso\n\n\n\nJazz Clubs Berlin
URL:https://jazz-in-berlin.net/event/downes-stefansson-wankel/
LOCATION:Sowieso\, Weisestraße 24\, Berlin\, 12049
ATTACH;FMTTYPE=image/jpeg:https://cortex.persona.co/w/696/q/67/i/ef08edefeaf2227488ee7ad85924c3612b27dea492d11a9145417efdc766b789/wallpaper-green.jpg
END:VEVENT
BEGIN:VEVENT
DTSTART;TZID=Europe/Berlin:20250109T203000
DTEND;TZID=Europe/Berlin:20250109T235900
DTSTAMP:20260425T141449
CREATED:20250103T120146Z
LAST-MODIFIED:20250103T120559Z
UID:11158-1736454600-1736467140@jazz-in-berlin.net
SUMMARY:Aki Takase Fabiana Striffler Daniel Erdmann
DESCRIPTION:Aki Takase pianoFabiana Striffler violineDaniel Erdmann saxophon \n\n\n\nakitakase.de | fabianastriffler.com | daniel-erdmann.com \n\n\n\n \n\n\n\nAki Takase Fabiana Striffler Daniel Erdmann\n\n\n\n\n\nEllingtonAki Takase\, Daniel Erdmann\n\n\n\n\n\nLa Plume Du DimancheFabiana Striffler\, Karsten Hochapfel\n\n\n\n\n\n\n\n\n\nAki Takase Fabiana Striffler Daniel Erdmann @ Donau 115\n\n\n\nJazzclubs Berlin
URL:https://jazz-in-berlin.net/event/aki-takase-fabiana-striffler-daniel-erdmann/
LOCATION:Donau 115\, Donaustrasse 115\, Berlin\, 12043
ATTACH;FMTTYPE=:
END:VEVENT
BEGIN:VEVENT
DTSTART;TZID=Europe/Berlin:20250109T210000
DTEND;TZID=Europe/Berlin:20250109T235900
DTSTAMP:20260425T141449
CREATED:20241218T141513Z
LAST-MODIFIED:20241231T090852Z
UID:9560-1736456400-1736467140@jazz-in-berlin.net
SUMMARY:Maemo
DESCRIPTION:Malika Alaoui (Gesang und Percussion: Bendir\, Glockenspiel\, Guiro\, Shaker)\, Romeo Natur (Flöten: Nay\, Kaval\, sowie Percussion: Surdo\, Congas\, Bendir\, Karkabas)\, Gábor Hartyáni (Cello) George Birkett (Gitarre) \n\n\n\nmaemomusic.com \n\n\n\nPani Poblem (extract) by Maemo YOUTUBE\n\n\n\nMaemo\n\n\n\n\n\n\n\n\n\n\n\nMaemo @B-Flat\n\n\n\nJazz Clubs Berlin
URL:https://jazz-in-berlin.net/event/maemo/
LOCATION:B-Flat\, Dircksenstraße 40\, Berlin\, 10178
ATTACH;FMTTYPE=image/jpeg:https://jazz-in-berlin.net/wp-content/uploads/2024/08/B-Flat-Logo-50.jpg
END:VEVENT
BEGIN:VEVENT
DTSTART;TZID=Europe/Berlin:20250109T210000
DTEND;TZID=Europe/Berlin:20250109T235900
DTSTAMP:20260425T141449
CREATED:20241223T133809Z
LAST-MODIFIED:20241223T134038Z
UID:10226-1736456400-1736467140@jazz-in-berlin.net
SUMMARY:Tatsuya Yajima & Elf Orchestra
DESCRIPTION:Tatsuya Yajima & Elf Orchestra is the new project which features a jazz chamber ensemble consisting of outstanding jazz musicians active in Berlin\, showcasing sophisticated ensembles through his compositions. Tatsuya Yajima is a Japanese-born\, berlin-based jazz composer. Most of our band members have performing experience at Berlin jazz clubs. And some of us are also inspiring musicians who belong to Jazz Institute Berlin or Hanns Eisler etc. This project brings together a 11-piece chamber contemporary jazz orchestra\, collaborating with both rising star musicians and veteran performers. \n\n\n\n\n\nTatsuya Yajima & Elf Orchestra\n\n\n\n\n\n\n\nTatsuya Yajima & Elf Orchestra @Kunsfabrik Schlot\n\n\n\nJazz Clubs Berlin
URL:https://jazz-in-berlin.net/event/tatsuya-yajima-elf-orchestra/
LOCATION:Kunstfabrik Schlot\, Invalidenstraße 117\, Berlin\, 10115
ATTACH;FMTTYPE=image/jpeg:https://jazz-in-berlin.net/wp-content/uploads/2024/07/Kunstfabrink-Logo-20.jpg
END:VEVENT
END:VCALENDAR