BEGIN:VCALENDAR
VERSION:2.0
PRODID:-//Berlin Jazz - ECPv6.15.11//NONSGML v1.0//EN
CALSCALE:GREGORIAN
METHOD:PUBLISH
X-WR-CALNAME:Berlin Jazz
X-ORIGINAL-URL:https://jazz-in-berlin.net
X-WR-CALDESC:Veranstaltungen für Berlin Jazz
REFRESH-INTERVAL;VALUE=DURATION:PT1H
X-Robots-Tag:noindex
X-PUBLISHED-TTL:PT1H
BEGIN:VTIMEZONE
TZID:Europe/Berlin
BEGIN:DAYLIGHT
TZOFFSETFROM:+0100
TZOFFSETTO:+0200
TZNAME:CEST
DTSTART:20240331T010000
END:DAYLIGHT
BEGIN:STANDARD
TZOFFSETFROM:+0200
TZOFFSETTO:+0100
TZNAME:CET
DTSTART:20241027T010000
END:STANDARD
BEGIN:DAYLIGHT
TZOFFSETFROM:+0100
TZOFFSETTO:+0200
TZNAME:CEST
DTSTART:20250330T010000
END:DAYLIGHT
BEGIN:STANDARD
TZOFFSETFROM:+0200
TZOFFSETTO:+0100
TZNAME:CET
DTSTART:20251026T010000
END:STANDARD
BEGIN:DAYLIGHT
TZOFFSETFROM:+0100
TZOFFSETTO:+0200
TZNAME:CEST
DTSTART:20260329T010000
END:DAYLIGHT
BEGIN:STANDARD
TZOFFSETFROM:+0200
TZOFFSETTO:+0100
TZNAME:CET
DTSTART:20261025T010000
END:STANDARD
END:VTIMEZONE
BEGIN:VEVENT
DTSTART;TZID=Europe/Berlin:20250111T200000
DTEND;TZID=Europe/Berlin:20250111T230000
DTSTAMP:20260425T141310
CREATED:20241217T193027Z
LAST-MODIFIED:20241218T104636Z
UID:9462-1736625600-1736636400@jazz-in-berlin.net
SUMMARY:Incense Of Music 59
DESCRIPTION:Kit Downes – PianoThorbjørn Silas Stefansson – BassTony Buck – Drums \n\n\n\nkitdownesmusic.com | tony-buck.com \n\n\n\n\n\nDreamlife Of DebrisKit Downes\n\n\n\n\n\nDream Big FishJulius Gawlik\, Thorbjørn Stefansson\, Marius Wankel\n\n\n\n\n\nBleed The Necks – Tony Buck\, Chris Abrahams\, Lloyd Swanton\n\n\n\n\n\nIncense Of Music 59\n\n\n\n\n\n\n\n\n\nIncense Of Music 59
URL:https://jazz-in-berlin.net/event/incense-of-music-59/
ATTACH;FMTTYPE=image/jpeg:https://panda-platforma.berlin/wp-content/uploads/panda-logo-2020-_2_.svg
END:VEVENT
BEGIN:VEVENT
DTSTART;TZID=Europe/Berlin:20250111T200000
DTEND;TZID=Europe/Berlin:20250111T230000
DTSTAMP:20260425T141310
CREATED:20241226T122759Z
LAST-MODIFIED:20250102T094350Z
UID:10538-1736625600-1736636400@jazz-in-berlin.net
SUMMARY:PRO-VOCATION & Friends
DESCRIPTION:Rosi Förster voice & electronicsLena Wenta feedback clarinetKlaus Kürvers double bassJoe Hertenstein drums \n\n\n\nRosi Förster aka Rosemarie Förster Musik bestimmt ihr Leben TAZ \n\n\n\n\n\nPRO-VOCATION & Friends\n\n\n\n\n\n\n\n\n\nLivestream \n\n\n\n\n\nPeppi Guggenheim Berlin Live Concert: PRO-VOCATION & Friends YOUTUBE\n\n\n\nPRO-VOCATION & Friends @Peppi Guggenheim\n\n\n\nJazz Clubs Berlin
URL:https://jazz-in-berlin.net/event/pro-vocation-friends/
LOCATION:Peppi Guggenheim\, Weichselstrasse 7\, Berlin\, 12043
ATTACH;FMTTYPE=:
END:VEVENT
BEGIN:VEVENT
DTSTART;TZID=Europe/Berlin:20250111T200000
DTEND;TZID=Europe/Berlin:20250111T230000
DTSTAMP:20260425T141310
CREATED:20250102T123736Z
LAST-MODIFIED:20250102T131959Z
UID:11093-1736625600-1736636400@jazz-in-berlin.net
SUMMARY:Malfon Gordoa Narvesen
DESCRIPTION:Don Malfon saxophone Emilio Gordoa vibraphoneDag Magnus Narvesen drums \n\n\n\nemiliogordoa.com \n\n\n\n\n\nBEHEINII Part 1von El Pricto / Don Malfon / Vasco Trilla\n\n\n\n\n\nTENOCHTITLANvon Don Malfon/Emilio Gordoa/Beat Keller/Chacal del Tamborazo\n\n\n\n\n\nSubstantial Mythsvon Emilio Gordoa\, Don Malfon\, John Edwards\, Dag Magnus Narvesen\n\n\n\n\n\nMalfon Gordoa Narvesen\n\n\n\n\n\n\n\n\n\nMalfon Gordoa Narvesen @Sowieso\n\n\n\nJazz Clubs Berlin
URL:https://jazz-in-berlin.net/event/malfon-gordoa-narvesen/
LOCATION:Sowieso\, Weisestraße 24\, Berlin\, 12049
ATTACH;FMTTYPE=image/jpeg:https://cortex.persona.co/w/696/q/67/i/ef08edefeaf2227488ee7ad85924c3612b27dea492d11a9145417efdc766b789/wallpaper-green.jpg
END:VEVENT
BEGIN:VEVENT
DTSTART;TZID=Europe/Berlin:20250111T203000
DTEND;TZID=Europe/Berlin:20250111T230000
DTSTAMP:20260425T141310
CREATED:20241219T122848Z
LAST-MODIFIED:20250110T144010Z
UID:9789-1736627400-1736636400@jazz-in-berlin.net
SUMMARY:Jeremy Sassoon im A-Trane
DESCRIPTION:Jeremy Sassoon im A-Trane\n\n\n\n11.01.25 – Jeremy Sassoon Trio \n\n\n\nJEREMY SASSOON – VOCAL/PIANO/RHODESMICHAEL KERSTING – DRUMSBJÖRN WERRA – DOUBLE BASS/ELECTRIC BASSmojo \n\n\n\nMOJO is a foot-stomping\, barn-storming celebration of some of the most iconic and best-loved musicians and songwriters of Jewish origin. Internationally renowned singer-pianist Jeremy Sassoon and his superb trio take you on a journey from the golden era of Gershwin and the Great American Songbook right through to the 21st century\, honouring artists such as Carole King\, Paul Simon\, Billy Joel\, Randy Newman and Amy Winehouse. Full of surprising and hilarious anecdotes and some of the most unforgettable songs you’ve ever sung along and danced to\, MOJO is illuminating\, uplifting and joyous entertainment.\n\n\n\n10.01.25 – JEREMY SASSOON «A Tribute To The Music Of Ray Charles»11.01.25 – JEREMY SASSOON «A Tribute To The Music Of Ray Charles» \n\n\n\nJEREMY SASSOON – VOCAL/RHODES/PIANOCHRISTOPH BERNEWITZ – GUITARMICHAEL KERSTING – DRUMSBJÖRN WERRA – DOUBLE BASS/ELECTRIC BASSFLORIAN MENZEL – TRUMPET \n\n\n\n \n\n\n\nJeremy Sassoon hat in Londons wichtigsten Jazz-Locations als Headliner gespielt. Neben dem Ronnie Scotts ist er auch im Pizza Express Soho\, dem 606 Club und dem Jazz Café aufgetreten. Er trat beim North Sea Jazz Festival in Den Haag auf und ist zweimal im Jahr Headliner in Berlins führendem Jazzclub „A Trane“. \n\n\n\nJeremy zollt der Musik von Ray Charles mit seiner Big Band ‚The Ray Charles Project‘ Tribut. Mit dieser Band wurde er eingeladen\, während der Olympischen Spiele 2012 in London als Headliner im weltberühmten Ronnie Scott’s Jazz Club aufzutreten\, und 2019 stand er neben Lauryn Hill & Jamie Cullum auf der Hauptbühne des Love Supreme Jazz Festivals. \n\n\n\n2014 wurde seine Version des Marc Cohn-Songs „The Things We’ve Handed Down“ in der BBC Radio 4-Sendung „Desert Island Discs“ vorgestellt und erreichte auf Anhieb Platz 1 der iTunes-Vokal-Download-Charts. \n\n\n\nSein Album „Jeremy Sassoon & Friends – Live“ wurde von der renommierten deutschen Jazzzeitschrift Jazzthetik als eines der besten Alben des Jahres 2018 nominiert. \n\n\n\nText : mojo \n\n\n\n\n\nJeremy Sassoon and Friends – LiveJeremy Sassoon\n\n\n\n\n\nJeremy has headlined at London’s premier jazz venues. As well as Ronnie Scotts\, he has also appeared at Pizza Express Soho\, the 606 Club and the Jazz Café. He has performed at the North Sea Jazz Festival in The Hague and headlines twice a year at Berlin’s premier jazz club The ‘A Trane’. \n\n\n\nJeremy pays tribute to the music of Ray Charles with his big band ‘The Ray Charles Project’. He was invited to headline the world famous Ronnie Scott’s Jazz Club with this band during the London 2012 Olympics and in 2019 graced the main stage at the Love Supreme Jazz Festival alongside Lauryn Hill & Jamie Cullum. \n\n\n\nIn 2014\, his version of the Marc Cohn song “The Things We’ve Handed Down” was featured on BBC Radio 4’s Desert Island Discs and immediately hit number 1 in the iTunes vocal download chart. \n\n\n\nHis album ‘Jeremy Sassoon & Friends – Live’ – was nominated as one of the best albums of 2018 in the renowned German jazz publication Jazzthetik. \n\n\n\nText: mojo \n\n\n\n\n\n\n\n\n\n \n\n\n\n\n\n\n\n\n\n\n\n\n\nJeremy Sassoon im A-Trane @A-Trane
URL:https://jazz-in-berlin.net/event/jeremy-sassoon-im-a-trane-3/
LOCATION:A-Trane\, Bleibtreustraße 1\, Berlin\, 10625
ATTACH;FMTTYPE=:
END:VEVENT
BEGIN:VEVENT
DTSTART;TZID=Europe/Berlin:20250111T203000
DTEND;TZID=Europe/Berlin:20250111T235900
DTSTAMP:20260425T141310
CREATED:20250103T122002Z
LAST-MODIFIED:20250103T122057Z
UID:11168-1736627400-1736639940@jazz-in-berlin.net
SUMMARY:Jaliya
DESCRIPTION:Khadim Ndome VibraphoneEmily Intsiful VocalsJonatan Morgenstern KeyboardsIvan Acosta BassTunde Alibaba Drums \n\n\n\nJaliya\n\n\n\nJaliya – Keep On Going (Live at Jazz Institut Berlin) YOUTUBE\n\n\n\n\n\n\n\nJaliya @ Donau 115\n\n\n\nJazzclubs Berlin
URL:https://jazz-in-berlin.net/event/jaliya/
LOCATION:Donau 115\, Donaustrasse 115\, Berlin\, 12043
ATTACH;FMTTYPE=:
END:VEVENT
BEGIN:VEVENT
DTSTART;TZID=Europe/Berlin:20250111T210000
DTEND;TZID=Europe/Berlin:20250111T233000
DTSTAMP:20260425T141310
CREATED:20240607T115158Z
LAST-MODIFIED:20241218T145828Z
UID:2722-1736629200-1736638200@jazz-in-berlin.net
SUMMARY:Dvora Davis The Soul Thrivers
DESCRIPTION:Dvora Davis – vocals\, composition Luis DeCicco – guitar\, vocalsJonah Schwickert – keyboard\, pianoNorman Winkler – bass Alessandro Bonzo Guida – drums \n\n\n\nsoulthrivers.com \n\n\n\n\n\nDvora Davis The Soul Thrivers\n\n\n\n\n\n\n\n\nDvora Blue and The Soul Thrivers\n\n\n\n\nDvora Davis The Soul Thrivers @B-Flat\n\n\n\nJazz Clubs Berlin
URL:https://jazz-in-berlin.net/event/dvora-davis-the-soul-thrivers/
LOCATION:B-Flat\, Dircksenstraße 40\, Berlin\, 10178
ATTACH;FMTTYPE=image/jpeg:https://jazz-in-berlin.net/wp-content/uploads/2024/08/B-Flat-Logo-50.jpg
END:VEVENT
BEGIN:VEVENT
DTSTART;TZID=Europe/Berlin:20250111T210000
DTEND;TZID=Europe/Berlin:20250111T235900
DTSTAMP:20260425T141310
CREATED:20241223T135733Z
LAST-MODIFIED:20241224T110208Z
UID:10237-1736629200-1736639940@jazz-in-berlin.net
SUMMARY:For Free Hands
DESCRIPTION:Roberto Badoglio: bass Vladimir Karparov: saxophonManuel Podhostnik: drums Andreas Brunn: guitar Alaa Zouiten: Oud \n\n\n\n\n\nFor Free Hands\n\n\n\n\n\n\n\n\nFor Free Hands band\n\n\n\n\nFor Free Hands @Kunsfabrik Schlot\n\n\n\nJazz Clubs Berlin
URL:https://jazz-in-berlin.net/event/for-free-hands/
LOCATION:Kunstfabrik Schlot\, Invalidenstraße 117\, Berlin\, 10115
ATTACH;FMTTYPE=:
END:VEVENT
BEGIN:VEVENT
DTSTART;TZID=Europe/Berlin:20250111T210000
DTEND;TZID=Europe/Berlin:20250111T235900
DTSTAMP:20260425T141310
CREATED:20241224T152445Z
LAST-MODIFIED:20250125T153127Z
UID:10343-1736629200-1736639940@jazz-in-berlin.net
SUMMARY:Matthias Ruppnig Quintet
DESCRIPTION:Johannes Enders saxophoneMusina Ebobissé saxophoneTony Tixier piano/synthLorenz Heigenhuber bassMatthias Ruppnig drums \n\n\n\nMatthias Ruppnig Quintet\n\n\n\n \n\n\n\n\n\n\n\n\n\n\n\n\n\nAbstract NarrativesMusina Ebobissé\n\n\n\n\n\nThe Creator Has a Masterplan B (A Tribute to Pharoah Sanders)Johannes Enders\, Billy Hart\n\n\n\n\n\nLife of Sensitive CreaturesTony Tixier\, Karl McComas-Reichl\, Tommy Crane\n\n\n\n\n\n\n\nNarcisJonas Timm\, Tino Derado\, Diego Piñera\, Lorenz Heigenhuber\, Bertram Burkert\, Robby Geerken\, Johannes Lauer\n\n\n\n\n\nSquareMathias Ruppnig\n\n\n\n\n\nMatthias Ruppnig Quintet @Zig Zag\n\n\n\nJazz Clubs Berlin \n\n\n\nAlle Angaben ohne Gewähr
URL:https://jazz-in-berlin.net/event/matthias-ruppnig-quintet/
LOCATION:Zig Zag\, Hauptstraße 89\, Berlin\, 12159
ATTACH;FMTTYPE=:
END:VEVENT
END:VCALENDAR