BEGIN:VCALENDAR
VERSION:2.0
PRODID:-//Berlin Jazz - ECPv6.15.11//NONSGML v1.0//EN
CALSCALE:GREGORIAN
METHOD:PUBLISH
X-ORIGINAL-URL:https://jazz-in-berlin.net
X-WR-CALDESC:Veranstaltungen für Berlin Jazz
REFRESH-INTERVAL;VALUE=DURATION:PT1H
X-Robots-Tag:noindex
X-PUBLISHED-TTL:PT1H
BEGIN:VTIMEZONE
TZID:Europe/Berlin
BEGIN:DAYLIGHT
TZOFFSETFROM:+0100
TZOFFSETTO:+0200
TZNAME:CEST
DTSTART:20240331T010000
END:DAYLIGHT
BEGIN:STANDARD
TZOFFSETFROM:+0200
TZOFFSETTO:+0100
TZNAME:CET
DTSTART:20241027T010000
END:STANDARD
BEGIN:DAYLIGHT
TZOFFSETFROM:+0100
TZOFFSETTO:+0200
TZNAME:CEST
DTSTART:20250330T010000
END:DAYLIGHT
BEGIN:STANDARD
TZOFFSETFROM:+0200
TZOFFSETTO:+0100
TZNAME:CET
DTSTART:20251026T010000
END:STANDARD
BEGIN:DAYLIGHT
TZOFFSETFROM:+0100
TZOFFSETTO:+0200
TZNAME:CEST
DTSTART:20260329T010000
END:DAYLIGHT
BEGIN:STANDARD
TZOFFSETFROM:+0200
TZOFFSETTO:+0100
TZNAME:CET
DTSTART:20261025T010000
END:STANDARD
END:VTIMEZONE
BEGIN:VEVENT
DTSTART;TZID=Europe/Berlin:20250112T153000
DTEND;TZID=Europe/Berlin:20250112T173000
DTSTAMP:20260425T141841
CREATED:20241223T094244Z
LAST-MODIFIED:20241223T113935Z
UID:10140-1736695800-1736703000@jazz-in-berlin.net
SUMMARY:Hemisphere 4
DESCRIPTION:Gebhard Ullmann – bassflute\, soprano- & tenor sax\, bassclarinet\, looper\, sampler\, electronicsLiz Kosack – keyboardsSilke Lange – accordionAnna Viechtl – concert harp\, fxTaiko Saito – vibraphone\, sound objects\, bassdrum \n\n\n\nHemisphere 4 kombiniert Neue Musik\, Komposition\, Improvisation und allerhand Undefinierbares und ich kehre mit diesem Projekt nach langer Zeit wieder zu Sopransaxofon und Bassflöte zurück.In Kritiken hieß es Hemisphere 4 schließe den Kreis zu meinen unvergessenen Projekten der 80er Jahre.~ Gebhard Ullmann\, November 2024 \n\n\n\n\n\nHemisphere 4Gebhard Ullmann\, Liz Kosack\, Silke Lange & Taiko Saito\n\n\n\n\n\n\n\n\n\nHemisphere 4\n\n\n\n\n\n\n\n\n\nHemisphere 4 @jazzkeller\n\n\n\nJazzclubs Berlin
URL:https://jazz-in-berlin.net/event/hemisphere-4/
LOCATION:Industriesalon Schöneweide\, Reinbeckstraße 9\, Berlin\, 12459
ATTACH;FMTTYPE=:
END:VEVENT
BEGIN:VEVENT
DTSTART;TZID=Europe/Berlin:20250112T200000
DTEND;TZID=Europe/Berlin:20250112T223000
DTSTAMP:20260425T141841
CREATED:20241218T181050Z
LAST-MODIFIED:20250101T115004Z
UID:9637-1736712000-1736721000@jazz-in-berlin.net
SUMMARY:Georgii Moroz Han-Wen Jennifer Yu
DESCRIPTION:Georgii Moroz – ViolineHan-Wen Jennifer Yu – Klavier  \n\n\n\n\n\nGeorgii Moroz Han-Wen Jennifer Yu\n\n\n\n\n\n\n\n\n\n\n\n\n\n\n\n\n\nGeorgii Moroz Han-Wen Jennifer Yu @ Piano Salon Christophori\n\n\n\nJazz Clubs Berlin
URL:https://jazz-in-berlin.net/event/georgii-moroz-han-wen-jennifer-yu/
LOCATION:Piano Salon Christophori\, Uferstr.8\, Berlin\, 13357
ATTACH;FMTTYPE=:
END:VEVENT
BEGIN:VEVENT
DTSTART;TZID=Europe/Berlin:20250112T200000
DTEND;TZID=Europe/Berlin:20250112T230000
DTSTAMP:20260425T141841
CREATED:20241225T092157Z
LAST-MODIFIED:20241225T092918Z
UID:10388-1736712000-1736722800@jazz-in-berlin.net
SUMMARY:Damasiewicz Lesiak Kasprzyk
DESCRIPTION:Piotr Damasiewicz – trumpetChris Kasprzyk – soprano & tenor Sax\, electronicsGrzegorz Lesiak – guitar \n\n\n\n\n\nDamasiewicz Lesiak Kasprzyk\n\n\n\n\n\n\n\n\n\nKrewvon Piotr Damasiewicz\, Kuba Wójcik\n\n\n\n\n\nefemerydy for cembalo space reeds etc/ efemerydy na klawesyn przestrzeń etcvon Chris Kasprzyk\n\n\n\n\n\nOn the Wayvon Grzegorz Lesiak Essence_ connecting to Piotr Damasiewicz\n\n\n\n\n\nDamasiewicz Lesiak Kasprzyk @Kühlspot Social Club\n\n\n\nJazzclubs Berlin
URL:https://jazz-in-berlin.net/event/damasiewicz-lesiak-kasprzyk/
LOCATION:Kühlspot Social Club\, Lehderstraße 74\, Berlin\, 13086
ATTACH;FMTTYPE=:
END:VEVENT
BEGIN:VEVENT
DTSTART;TZID=Europe/Berlin:20250112T200000
DTEND;TZID=Europe/Berlin:20250112T233000
DTSTAMP:20260425T141841
CREATED:20250108T103653Z
LAST-MODIFIED:20250108T103854Z
UID:11349-1736712000-1736724600@jazz-in-berlin.net
SUMMARY:Cedrik Fermont\, Ira Hadžić\, Klaus Janek\, Michael Thieke
DESCRIPTION:two sets:Cedrik Fermont – gongs + electronicsIra Hadžić – gongs + recordingsKlaus Janek – double bassMichael Thieke – clarinet \n\n\n\n\n\n\n\nObservatoryvon Cedrik Fermont\n\n\n\n\n\nhard​-​boiled frictionvon Ira Hadžić\n\n\n\n\n\nreciprocumvon Klaus Janek collaborations\n\n\n\n\n\nRitual – mike cooper & michael thiekevon Mike Cooper Michael Thieke\n\n\n\n\n\nCedrik Fermont\, Ira Hadžić\, Klaus Janek\, Michael Thieke\n\n\n\n\n\n\n\nCedrik Fermont\, Ira Hadžić\, Klaus Janek\, Michael Thieke @PAS\n\n\n\nJazz Clubs Berlin \n\n\n\nAlle Angaben ohne Gewähr
URL:https://jazz-in-berlin.net/event/cedrik-fermont-ira-hadzic-klaus-janek-michael-thieke/
LOCATION:PAS Petersburg Art Space\, Kaiserin-Augusta-Allee 101\, Berlin\, 10553
ATTACH;FMTTYPE=image/jpeg:https://jazz-in-berlin.net/wp-content/uploads/2024/10/Petersburg-Art-Space-Logo-20.jpg
END:VEVENT
BEGIN:VEVENT
DTSTART;TZID=Europe/Berlin:20250112T210000
DTEND;TZID=Europe/Berlin:20250112T233000
DTSTAMP:20260425T141841
CREATED:20241218T150544Z
LAST-MODIFIED:20241218T150832Z
UID:9582-1736715600-1736724600@jazz-in-berlin.net
SUMMARY:Matej Korbelič Quartett
DESCRIPTION:Matej Korbelič – trumpet\, flugelhorn\, compositionVictor Möhmel – piano Simon Kuban – bassSamuel Dietze – drums \n\n\n\nmatejkorbelic.com \n\n\n\n\n\nMatej Korbelič Quartett\n\n\n\n\n\n\n\nMatej Korbelič Quartett @B-Flat\n\n\n\nJazz Clubs Berlin
URL:https://jazz-in-berlin.net/event/matej-korbelic-quartett/
LOCATION:B-Flat\, Dircksenstraße 40\, Berlin\, 10178
ATTACH;FMTTYPE=image/jpeg:https://jazz-in-berlin.net/wp-content/uploads/2024/08/B-Flat-Logo-50.jpg
END:VEVENT
BEGIN:VEVENT
DTSTART;TZID=Europe/Berlin:20250112T210000
DTEND;TZID=Europe/Berlin:20250112T235900
DTSTAMP:20260425T141841
CREATED:20241224T154204Z
LAST-MODIFIED:20241225T115536Z
UID:10347-1736715600-1736726340@jazz-in-berlin.net
SUMMARY:A Tribute To Billie Holiday
DESCRIPTION:Mette Nadja Hansen vocalsEdgar Tsalikov saxophoneDeclan Forde pianoIgor Spallati drums \n\n\n\nA Tribute To Billie Holiday\n\n\n\n \n\n\n\n\n\n\n\n\n\nABYSSvon Toms RudzinskisToms Rudzinskis – saxophones & wind instrumentsIgor Osypov – guitarPovel Widestrand – keyboardsTom Berkmann – electric bassFabian Rösch – drumsMette Nadja Hansen – voice\n\n\n\n\n\nOverloadMette Nadja Hansen\n\n\n\n\n\nSamba de AvedøreMariana Zwarg\, Sexteto Universal\, Hermeto Pascoal\, Itiberê Zwarg\, Mette Nadja\n\n\n\n\n\n\n\n\n\n\nMette Nadja Hansen vocal\n\n\n\n\nA Tribute To Billie Holiday @Zig Zag\n\n\n\nJazz Clubs Berlin
URL:https://jazz-in-berlin.net/event/a-tribute-to-billie-holiday/
LOCATION:Zig Zag\, Hauptstraße 89\, Berlin\, 12159
ATTACH;FMTTYPE=:
END:VEVENT
END:VCALENDAR