BEGIN:VCALENDAR
VERSION:2.0
PRODID:-//Berlin Jazz - ECPv6.15.11//NONSGML v1.0//EN
CALSCALE:GREGORIAN
METHOD:PUBLISH
X-ORIGINAL-URL:https://jazz-in-berlin.net
X-WR-CALDESC:Veranstaltungen für Berlin Jazz
REFRESH-INTERVAL;VALUE=DURATION:PT1H
X-Robots-Tag:noindex
X-PUBLISHED-TTL:PT1H
BEGIN:VTIMEZONE
TZID:Europe/Berlin
BEGIN:DAYLIGHT
TZOFFSETFROM:+0100
TZOFFSETTO:+0200
TZNAME:CEST
DTSTART:20240331T010000
END:DAYLIGHT
BEGIN:STANDARD
TZOFFSETFROM:+0200
TZOFFSETTO:+0100
TZNAME:CET
DTSTART:20241027T010000
END:STANDARD
BEGIN:DAYLIGHT
TZOFFSETFROM:+0100
TZOFFSETTO:+0200
TZNAME:CEST
DTSTART:20250330T010000
END:DAYLIGHT
BEGIN:STANDARD
TZOFFSETFROM:+0200
TZOFFSETTO:+0100
TZNAME:CET
DTSTART:20251026T010000
END:STANDARD
BEGIN:DAYLIGHT
TZOFFSETFROM:+0100
TZOFFSETTO:+0200
TZNAME:CEST
DTSTART:20260329T010000
END:DAYLIGHT
BEGIN:STANDARD
TZOFFSETFROM:+0200
TZOFFSETTO:+0100
TZNAME:CET
DTSTART:20261025T010000
END:STANDARD
END:VTIMEZONE
BEGIN:VEVENT
DTSTART;TZID=Europe/Berlin:20250115T200000
DTEND;TZID=Europe/Berlin:20250115T223000
DTSTAMP:20260425T141707
CREATED:20241218T183356Z
LAST-MODIFIED:20250101T114934Z
UID:9649-1736971200-1736980200@jazz-in-berlin.net
SUMMARY:Luca Buratto Alejandro Deljavan
DESCRIPTION:Luca Buratto – pianoAlejandro Deljavan – piano \n\n\n\nspielen an 2 FlügelnRachmaninov \n\n\n\nlucaburattopiano.com | deljavan.com \n\n\n\n\n\nLuca Buratto Alejandro Deljavan\n\n\n\n\n\nSchumann: Davidsbündlertänze\, Humoreske & BlumenstückLuca Buratto\n\n\n\n\n\nScriabin: Mazurkas\, Opp. 3\, 25 & 40Alessandro Deljavan\n\n\n\n\n\n\n\n\n\n\n\n\n\n\n\n\n\n\n\nLuca Buratto Alejandro Deljavan @ Piano Salon Christophori\n\n\n\nJazz Clubs Berlin
URL:https://jazz-in-berlin.net/event/luca-buratto-alejandro-deljavan/
LOCATION:Piano Salon Christophori\, Uferstr.8\, Berlin\, 13357
ATTACH;FMTTYPE=:
END:VEVENT
BEGIN:VEVENT
DTSTART;TZID=Europe/Berlin:20250115T200000
DTEND;TZID=Europe/Berlin:20250115T230000
DTSTAMP:20260425T141707
CREATED:20241218T111550Z
LAST-MODIFIED:20241218T112541Z
UID:9507-1736971200-1736982000@jazz-in-berlin.net
SUMMARY:Casa Mañana //#pandajazz
DESCRIPTION:Marie Takahashi – ViolaOlaf Rupp – GitarreAlexander Frangenheim – Kontrabass \n\n\n\nOlaf Rupp.bandcamp.com | marietakahashi.info | frangenheim.de \n\n\n\n\n\nvers le fourr​é​.​.​.von Marie Takahashi & Cedrik Fermont\n\n\n\n\n\nMahall​—​Rupp​—​Tom Live In Stockholmvon Olaf Rupp\n\n\n\n\n\nTrialecticsvon Alexander Frangenheim\, Nikolaus Neuser\, Richard Scott\n\n\n\n\n\nCasa Mañana //#pandajazz\n\n\n\n\n\n\n\n\n\nCasa Mañana //#pandajazz
URL:https://jazz-in-berlin.net/event/casa-manana-pandajazz/
ATTACH;FMTTYPE=image/jpeg:https://panda-platforma.berlin/wp-content/uploads/panda-logo-2020-_2_.svg
END:VEVENT
BEGIN:VEVENT
DTSTART;TZID=Europe/Berlin:20250115T200000
DTEND;TZID=Europe/Berlin:20250115T230000
DTSTAMP:20260425T141707
CREATED:20250113T104526Z
LAST-MODIFIED:20250416T062839Z
UID:11489-1736971200-1736982000@jazz-in-berlin.net
SUMMARY:DUO FATALE & friends
DESCRIPTION:Ingeborg Poffet – accordion\, vocalJOPO – saxophones & clarinet \n\n\n\nRoman Stolyar – pianoMax Stehle – alto saxophone \n\n\n\n \n\n\n\n\n\nDUO FATALE & friends\n\n\n\n\n\n\n\n\n\nAIRS B& B – Jopo & Ingeborg Poffet\, Etienne Rolinvon ErolRecords bc15\n\n\n\n\n\nIn Gleisdorfvon Roman Stolyar\n\n\n\n\n\nDUO FATALE & friends @Kühlspot Social Club\n\n\n\nJazzclubs Berlin
URL:https://jazz-in-berlin.net/event/duo-fatale-friends/
LOCATION:PAS Petersburg Art Space\, Kaiserin-Augusta-Allee 101\, Berlin\, 10553
ATTACH;FMTTYPE=image/jpeg:https://jazz-in-berlin.net/wp-content/uploads/2024/10/Petersburg-Art-Space-Logo-20.jpg
END:VEVENT
BEGIN:VEVENT
DTSTART;TZID=Europe/Berlin:20250115T203000
DTEND;TZID=Europe/Berlin:20250115T235900
DTSTAMP:20260425T141707
CREATED:20250103T122804Z
LAST-MODIFIED:20250103T122953Z
UID:11172-1736973000-1736985540@jazz-in-berlin.net
SUMMARY:Life is Great - CD-Release
DESCRIPTION:Asger Nissen SaxophoneJohannes Mann GuitarThorbjørn Stefansson BassJohannes Koch Drums \n\n\n\njohannes-koch-music.de \n\n\n\nLife is Great – CD-Release\n\n\n\n\n\nOption Avon Life Is Great\n\n\n\n\n\nRivervon The Human Element\n\n\n\n\n\n\n\n\n\nLife is Great – CD-Release @ Donau 115\n\n\n\nJazzclubs Berlin
URL:https://jazz-in-berlin.net/event/life-is-great-cd-release/
LOCATION:Donau 115\, Donaustrasse 115\, Berlin\, 12043
ATTACH;FMTTYPE=:
END:VEVENT
END:VCALENDAR