BEGIN:VCALENDAR
VERSION:2.0
PRODID:-//Berlin Jazz - ECPv6.15.11//NONSGML v1.0//EN
CALSCALE:GREGORIAN
METHOD:PUBLISH
X-WR-CALNAME:Berlin Jazz
X-ORIGINAL-URL:https://jazz-in-berlin.net
X-WR-CALDESC:Veranstaltungen für Berlin Jazz
REFRESH-INTERVAL;VALUE=DURATION:PT1H
X-Robots-Tag:noindex
X-PUBLISHED-TTL:PT1H
BEGIN:VTIMEZONE
TZID:Europe/Berlin
BEGIN:DAYLIGHT
TZOFFSETFROM:+0100
TZOFFSETTO:+0200
TZNAME:CEST
DTSTART:20240331T010000
END:DAYLIGHT
BEGIN:STANDARD
TZOFFSETFROM:+0200
TZOFFSETTO:+0100
TZNAME:CET
DTSTART:20241027T010000
END:STANDARD
BEGIN:DAYLIGHT
TZOFFSETFROM:+0100
TZOFFSETTO:+0200
TZNAME:CEST
DTSTART:20250330T010000
END:DAYLIGHT
BEGIN:STANDARD
TZOFFSETFROM:+0200
TZOFFSETTO:+0100
TZNAME:CET
DTSTART:20251026T010000
END:STANDARD
BEGIN:DAYLIGHT
TZOFFSETFROM:+0100
TZOFFSETTO:+0200
TZNAME:CEST
DTSTART:20260329T010000
END:DAYLIGHT
BEGIN:STANDARD
TZOFFSETFROM:+0200
TZOFFSETTO:+0100
TZNAME:CET
DTSTART:20261025T010000
END:STANDARD
END:VTIMEZONE
BEGIN:VEVENT
DTSTART;TZID=Europe/Berlin:20250117T200000
DTEND;TZID=Europe/Berlin:20250117T223000
DTSTAMP:20260425T141249
CREATED:20241218T190800Z
LAST-MODIFIED:20250101T114818Z
UID:9660-1737144000-1737153000@jazz-in-berlin.net
SUMMARY:Aeneas Humm Doriana Tchakarova
DESCRIPTION:Das Lied \n\n\n\nAeneas Humm – BaritonDoriana Tchakarova – Klavier  \n\n\n\naeneashumm.com | doriana-tchakarova.com \n\n\n\n\n\nAeneas Humm Doriana Tchakarova\n\n\n\n\n\nEmbrace: Songs by Hensel\, Liszt\, Ullmann\, GriegÄneas Humm\, Renate Rohlfing\, Fanny Hensel\, Franz Liszt\, Viktor Ullmann\, Edvard Grieg\n\n\n\n\n\nMade in EuropeRobin Neck\, Doriana Tchakarova\n\n\n\n\n\n\n\n\n\n\n\n\n\n\n\n\n\n\n\nAeneas Humm Doriana Tchakarova @ Piano Salon Christophori\n\n\n\nJazz Clubs Berlin
URL:https://jazz-in-berlin.net/event/aeneas-humm-doriana-tchakarova/
LOCATION:Piano Salon Christophori\, Uferstr.8\, Berlin\, 13357
ATTACH;FMTTYPE=:
END:VEVENT
BEGIN:VEVENT
DTSTART;TZID=Europe/Berlin:20250117T200000
DTEND;TZID=Europe/Berlin:20250117T230000
DTSTAMP:20260425T141249
CREATED:20240702T054130Z
LAST-MODIFIED:20241221T135229Z
UID:4611-1737144000-1737154800@jazz-in-berlin.net
SUMMARY:Desney Baileys Three 4 Soul
DESCRIPTION:Desney Baileys Three 4 SoulSwing Jazz \n\n\n\nperhaps this actors \n\n\n\nDesney Bailey – VocalCarly Quiroz – KeyboardCarmelo Leotta – BassJean Ghazal – SaxophonJan Trojanowski – Drummer \n\n\n\n\n\nDesney Baileys Three 4 Soul\n\n\n\n\n\n\n\n\nDesney Bailey vocal\n\n\n\n\nDesney Baileys Three 4 Soul
URL:https://jazz-in-berlin.net/event/desney-bailey-quartet/
LOCATION:Yorckschlösschen\, Yorckstraße 15\, Berlin\, 10965
ATTACH;FMTTYPE=image/jpeg:https://jazz-in-berlin.net/wp-content/uploads/2024/06/Yorckschloesschen-Logo-30.jpg
END:VEVENT
BEGIN:VEVENT
DTSTART;TZID=Europe/Berlin:20250117T200000
DTEND;TZID=Europe/Berlin:20250117T230000
DTSTAMP:20260425T141249
CREATED:20241225T095701Z
LAST-MODIFIED:20241225T095827Z
UID:10408-1737144000-1737154800@jazz-in-berlin.net
SUMMARY:DUO FATALE meets friends
DESCRIPTION:Ingeborg Poffet – accordion\, vocalJOPO – saxophones & clarinet \n\n\n\nRoman Stolyar – pianoMax Stehle – alto saxophone \n\n\n\n \n\n\n\n\n\nDUO FATALE meets friends\n\n\n\n\n\n\n\n\n\nAIRS B& B – Jopo & Ingeborg Poffet\, Etienne Rolinvon ErolRecords bc15\n\n\n\n\n\nIn Gleisdorfvon Roman Stolyar\n\n\n\n\n\nDUO FATALE meets friends @Kühlspot Social Club\n\n\n\nJazzclubs Berlin
URL:https://jazz-in-berlin.net/event/duo-fatale-meets-friends/
LOCATION:Kühlspot Social Club\, Lehderstraße 74\, Berlin\, 13086
ATTACH;FMTTYPE=:
END:VEVENT
BEGIN:VEVENT
DTSTART;TZID=Europe/Berlin:20250117T200000
DTEND;TZID=Europe/Berlin:20250117T230000
DTSTAMP:20260425T141249
CREATED:20241226T123618Z
LAST-MODIFIED:20241226T123801Z
UID:10543-1737144000-1737154800@jazz-in-berlin.net
SUMMARY:Tom Kessler Trio
DESCRIPTION:Ria Rother DrumsPeppe Bottiglieri BassTom Kessler Guitar \n\n\n\n\n\nTom Kessler Trio\n\n\n\n\n\n\n\n\n\nLivestream \n\n\n\n\n\nPeppi Guggenheim Berlin Live Concert: Tom Kessler Trio YOUTUBE\n\n\n\nTom Kessler Trio @Peppi Guggenheim\n\n\n\nJazz Clubs Berlin
URL:https://jazz-in-berlin.net/event/tom-kessler-trio/
LOCATION:Peppi Guggenheim\, Weichselstrasse 7\, Berlin\, 12043
ATTACH;FMTTYPE=:
END:VEVENT
BEGIN:VEVENT
DTSTART;TZID=Europe/Berlin:20250117T200000
DTEND;TZID=Europe/Berlin:20250117T230000
DTSTAMP:20260425T141249
CREATED:20250113T110909Z
LAST-MODIFIED:20250113T110911Z
UID:11500-1737144000-1737154800@jazz-in-berlin.net
SUMMARY:Divide by Zero #8 TraumaZone
DESCRIPTION:Ksenya Sova & Fyodor Stepanov (live video\, organised sounds\, prints)  \n\n\n\nSarah Rossy\, solo voice & electronics \n\n\n\n\n\n\n\n\n\n\n\n\n\nDivide by Zero #8 TraumaZone\n\n\n\n\n\n\n\n\n\nDivide by Zero #8 TraumaZone @Sowieso\n\n\n\nJazz Clubs Berlin
URL:https://jazz-in-berlin.net/event/divide-by-zero-8-traumazone/
LOCATION:Sowieso\, Weisestraße 24\, Berlin\, 12049
ATTACH;FMTTYPE=image/jpeg:https://cortex.persona.co/w/696/q/67/i/ef08edefeaf2227488ee7ad85924c3612b27dea492d11a9145417efdc766b789/wallpaper-green.jpg
END:VEVENT
BEGIN:VEVENT
DTSTART;TZID=Europe/Berlin:20250117T203000
DTEND;TZID=Europe/Berlin:20250117T230000
DTSTAMP:20260425T141249
CREATED:20241225T134704Z
LAST-MODIFIED:20241226T085754Z
UID:10462-1737145800-1737154800@jazz-in-berlin.net
SUMMARY:Silvan Strauss X Reuben James
DESCRIPTION:Silvan Strauss (Kabul Fire/D) *live*Reuben James (Rufio Records/UK) *live*Allynx b2b Sean Steinfeger (Opening DJ-Set/IL/D) \n\n\n\n\n\nSilvan Strauss X Reuben James\n\n\n\n\n\n\n\n\n\nFLUKIN‘von SILVAN STRAUSS\n\n\n\n\n\nChampagne KissesReuben James\, CARRTOONS\n\n\n\n\n\nSilvan Strauss X Reuben James @Gretchen Berlin\n\n\n\nJazz Clubs Berlin
URL:https://jazz-in-berlin.net/event/silvan-strauss-x-reuben-james/
LOCATION:Gretchen\, Obentrautstraße 19-21\, Berlin\, 10963
ATTACH;FMTTYPE=image/jpeg:https://www.gretchen-club.de/css/images/logo.png
END:VEVENT
BEGIN:VEVENT
DTSTART;TZID=Europe/Berlin:20250117T203000
DTEND;TZID=Europe/Berlin:20250117T230000
DTSTAMP:20260425T141249
CREATED:20241228T120649Z
LAST-MODIFIED:20250105T084133Z
UID:10710-1737145800-1737154800@jazz-in-berlin.net
SUMMARY:Space in Between - Live Recording
DESCRIPTION:Marco Sickinger Drums\, Composition\, ArrangementDaniel Sauer SaxophoneNicolas Buvat Double BassChristopher Dell Vibraphone \n\n\n\n\n\nSpace in Between – Live Recording\n\n\n\n\n\n\n\n\n\n\n\n\n\n\n\n\n\nSpace in Between – Live Recording
URL:https://jazz-in-berlin.net/event/space-in-between-live-recording/
LOCATION:Morphine Raum\, Köpenicker Straße 147\, Berlin\, 10997
ATTACH;FMTTYPE=image/jpeg:https://jazz-in-berlin.net/wp-content/uploads/2024/10/Morphine-Raum-02.jpg
END:VEVENT
BEGIN:VEVENT
DTSTART;TZID=Europe/Berlin:20250117T203000
DTEND;TZID=Europe/Berlin:20250117T230000
DTSTAMP:20260425T141249
CREATED:20250116T151351Z
LAST-MODIFIED:20250416T062852Z
UID:11864-1737145800-1737154800@jazz-in-berlin.net
SUMMARY:Clara de Asís & Rebecca Lane | Etienne Nillesen
DESCRIPTION:Clara de Asís and Rebecca Lane\, Distances Bending for synthesizer & quarter-tone flutes \n\n\n\nEtienne Nillesen\, solo for two snare drums \n\n\n\n\n\nClara de Asís & Rebecca Lane | Etienne Nillesen\n\n\n\n\n\n\n\n\n\n\n\n\n\n\n\n\n\n\n\nDistances Bendingvon Clara de Asís & Rebecca Lane with Sarah Saviet\, Deborah Walker\n\n\n\n\n\nOscillation :​:​: o tempo IVvon Clara de Asís & Rebecca Lane\, Charlemagne Palestine\n\n\n\n\n\nenvon Etienne Nillesen\n\n\n\n\n\nClara de Asís & Rebecca Lane | Etienne Nillesen @KM-28\n\n\n\nJazz Clubs Berlin \n\n\n\nAlle Angaben ohne Gewähr
URL:https://jazz-in-berlin.net/event/clara-de-asis-rebecca-lane-etienne-nillesen/
LOCATION:KM 28\, Karl-Marx-Straße 28\, Berlin\, 12043
ATTACH;FMTTYPE=image/jpeg:https://jazz-in-berlin.net/wp-content/uploads/2023/06/KM-28-Logo-20.jpg
END:VEVENT
BEGIN:VEVENT
DTSTART;TZID=Europe/Berlin:20250117T203000
DTEND;TZID=Europe/Berlin:20250117T235900
DTSTAMP:20260425T141249
CREATED:20250103T131946Z
LAST-MODIFIED:20250103T134603Z
UID:11184-1737145800-1737158340@jazz-in-berlin.net
SUMMARY:Linde Tillmanns Trio
DESCRIPTION:Linde Tillmanns PianoJaap de Vries trumpet Luka Matic drums \n\n\n\nlindetillmanns.com \n\n\n\nLinde Tillmanns Trio\n\n\n\n\n\nStillness\, Chaos\, Thoughts\, Feelingsvon Linde Tillmanns\n\n\n\n\n\nIn Sightvon Linde Tillmanns\n\n\n\n\n\n\n\n\n\nLinde Tillmanns Trio @ Donau 115\n\n\n\nJazzclubs Berlin \n\n\n\nalle Angaben ohne Gewähr
URL:https://jazz-in-berlin.net/event/linde-tillmanns-trio/
LOCATION:Donau 115\, Donaustrasse 115\, Berlin\, 12043
ATTACH;FMTTYPE=:
END:VEVENT
BEGIN:VEVENT
DTSTART;TZID=Europe/Berlin:20250117T210000
DTEND;TZID=Europe/Berlin:20250117T233000
DTSTAMP:20260425T141249
CREATED:20241030T065000Z
LAST-MODIFIED:20241224T120432Z
UID:8091-1737147600-1737156600@jazz-in-berlin.net
SUMMARY:SONQO
DESCRIPTION:Juan Lucas Aisemberg – ViolaPablo Camus – GitarreCristian Betancourt – Percussion \n\n\n\n\n\nSONQO\n\n\n\n\n\n\n\n\n\n\nSONQO\n\n\n\n\n\n\nSONQO @Kunsfabrik Schlot\n\n\n\nJazz Clubs Berlin
URL:https://jazz-in-berlin.net/event/sonqo/
LOCATION:Kunstfabrik Schlot\, Invalidenstraße 117\, Berlin\, 10115
ATTACH;FMTTYPE=image/jpeg:https://jazz-in-berlin.net/wp-content/uploads/2024/07/Kunstfabrink-Logo-20.jpg
END:VEVENT
BEGIN:VEVENT
DTSTART;TZID=Europe/Berlin:20250117T210000
DTEND;TZID=Europe/Berlin:20250117T235900
DTSTAMP:20260425T141249
CREATED:20241123T170337Z
LAST-MODIFIED:20250103T113216Z
UID:9010-1737147600-1737158340@jazz-in-berlin.net
SUMMARY:Dima Bondarev Quartet
DESCRIPTION:Dima Bondarev trumpet\, flugelhornWanja Slavin saxophoneIgor Spallati bassMarc Michel drumsDavid Preston guitar \n\n\n\ndimabondarev.com \n\n\n\nDima Bondarev Quartet\n\n\n\n\n\n\n\n\n\n\nDima Bondarev trumpet with Ignacio Cacace\n\n\n\n\nDima Bondarev Quartet
URL:https://jazz-in-berlin.net/event/dima-bondarev-quartet/
LOCATION:Zig Zag\, Hauptstraße 89\, Berlin\, 12159
ATTACH;FMTTYPE=image/jpeg:https://images.squarespace-cdn.com/content/v1/55146be5e4b0392be71840b6/1431516196750-KT8J11AC198OTFSL66PV/ZZ+full+burgundy+transparent.png?format=1500w
END:VEVENT
END:VCALENDAR