BEGIN:VCALENDAR
VERSION:2.0
PRODID:-//Berlin Jazz - ECPv6.15.11//NONSGML v1.0//EN
CALSCALE:GREGORIAN
METHOD:PUBLISH
X-WR-CALNAME:Berlin Jazz
X-ORIGINAL-URL:https://jazz-in-berlin.net
X-WR-CALDESC:Veranstaltungen für Berlin Jazz
REFRESH-INTERVAL;VALUE=DURATION:PT1H
X-Robots-Tag:noindex
X-PUBLISHED-TTL:PT1H
BEGIN:VTIMEZONE
TZID:Europe/Berlin
BEGIN:DAYLIGHT
TZOFFSETFROM:+0100
TZOFFSETTO:+0200
TZNAME:CEST
DTSTART:20240331T010000
END:DAYLIGHT
BEGIN:STANDARD
TZOFFSETFROM:+0200
TZOFFSETTO:+0100
TZNAME:CET
DTSTART:20241027T010000
END:STANDARD
BEGIN:DAYLIGHT
TZOFFSETFROM:+0100
TZOFFSETTO:+0200
TZNAME:CEST
DTSTART:20250330T010000
END:DAYLIGHT
BEGIN:STANDARD
TZOFFSETFROM:+0200
TZOFFSETTO:+0100
TZNAME:CET
DTSTART:20251026T010000
END:STANDARD
BEGIN:DAYLIGHT
TZOFFSETFROM:+0100
TZOFFSETTO:+0200
TZNAME:CEST
DTSTART:20260329T010000
END:DAYLIGHT
BEGIN:STANDARD
TZOFFSETFROM:+0200
TZOFFSETTO:+0100
TZNAME:CET
DTSTART:20261025T010000
END:STANDARD
END:VTIMEZONE
BEGIN:VEVENT
DTSTART;TZID=Europe/Berlin:20250122T200000
DTEND;TZID=Europe/Berlin:20250122T223000
DTSTAMP:20260425T143215
CREATED:20250117T180241Z
LAST-MODIFIED:20250117T180307Z
UID:12162-1737576000-1737585000@jazz-in-berlin.net
SUMMARY:Artem Yasynskyy
DESCRIPTION:KlavierabendArtem Yasynskyy  – piano \n\n\n\nEin Abend im Stile der großen VirtuosenScarlatti – 2 Sonaten Bach – Partita Nr. 5 G-Dur  Beethoven – „Appassionata“ Josef Hofmann – 4 Klavierstücke op. 40  Chopin – Improvisationen über ein Präludium Improvisationen auf Ideen aus dem Publikum   Chopin – Bearbeitungen der Etüden op. 10 Nr. 2\, 5 und 8 des Pianisten  Chopin – Ballade Nr. 1 \n\n\n\nartemyasynskyy.com \n\n\n\n\n\nArtem Yasynskyy\n\n\n\n\n\n\n\n\n\nScarlatti: Complete Keyboard Sonatas\, Vol. 20Artem Yasynskyy\n\n\n\n\n\nHofmann: Piano WorksArtem Yasynskyy\n\n\n\n\n\nArtem Yasynskyy @ Piano Salon Christophori\n\n\n\nJazz Clubs Berlin
URL:https://jazz-in-berlin.net/event/artem-yasynskyy/
LOCATION:Piano Salon Christophori\, Uferstr.8\, Berlin\, 13357
ATTACH;FMTTYPE=image/jpeg:https://www.konzertfluegel.com/grafix/fluegelseite1_new.gif
END:VEVENT
BEGIN:VEVENT
DTSTART;TZID=Europe/Berlin:20250122T200000
DTEND;TZID=Europe/Berlin:20250122T230000
DTSTAMP:20260425T143215
CREATED:20241218T113322Z
LAST-MODIFIED:20241218T113916Z
UID:9516-1737576000-1737586800@jazz-in-berlin.net
SUMMARY:Declan Forde Trio //#pandajazz
DESCRIPTION:Declan Forde – KlavierIgor Spallati – KontrabassUgo Alunni – Schlagzeug \n\n\n\ndeclanfordemusic.com \n\n\n\n\nDeclan Forde piano\n\n\n\n\nDeclan Forde Trio //#pandajazz\n\n\n\n\n\n\n\n\n\nDeclan Forde Trio //#pandajazz
URL:https://jazz-in-berlin.net/event/declan-forde-trio-pandajazz/
ATTACH;FMTTYPE=image/jpeg:https://panda-platforma.berlin/wp-content/uploads/panda-logo-2020-_2_.svg
END:VEVENT
BEGIN:VEVENT
DTSTART;TZID=Europe/Berlin:20250122T200000
DTEND;TZID=Europe/Berlin:20250122T230000
DTSTAMP:20260425T143215
CREATED:20250115T105630Z
LAST-MODIFIED:20250218T134305Z
UID:11631-1737576000-1737586800@jazz-in-berlin.net
SUMMARY:Echo Collective @ Silent Green
DESCRIPTION:Echo Collective @ Silent Green\n\n\n\nEcho Collective \n\n\n\nMargaret Hermant Violin\, HarpNeil Leiter Viola \n\n\n\nmargarethermant.be/echo-collective | echocollective.be \n\n\n\n\n\n\n\n\n\n\n\nMirror ImageEcho Collective\, Margaret Hermant\, Neil Leiter\n\n\n\n\n\nThe See Withinvon Echo Collective\n\n\n\n\n\nEcho Collective @ Silent Green\n\n\n\n@ Silent Green \n\n\n\nJazz Clubs Berlin \n\n\n\nAlle Angaben ohne Gewähr \n\n\n\n\n\n21/02/2025 Clarissa Connelly + Fine\n\n\n\n\n\n26/02/2025 Moin + First Body
URL:https://jazz-in-berlin.net/event/echo-collective-silent-green/
LOCATION:Silent Green\, Gerichtstraße 35\, Berlin\, 13247
ATTACH;FMTTYPE=image/jpeg:https://verhoovensjazz.net/wp-content/uploads/2023/02/silent-green-move-1024x436.jpg
END:VEVENT
BEGIN:VEVENT
DTSTART;TZID=Europe/Berlin:20250122T210000
DTEND;TZID=Europe/Berlin:20250122T235900
DTSTAMP:20260425T143215
CREATED:20241225T123907Z
LAST-MODIFIED:20250117T141359Z
UID:10439-1737579600-1737590340@jazz-in-berlin.net
SUMMARY:Les Colorés feat Rachelle Jeanty
DESCRIPTION:Rachelle Jeanty vocals\, percussionTanja Becker tromboneJonatan Morgenstern pianoChecho Gomez bassHervé Hartock drums \n\n\n\nrachellejeanty.com \n\n\n\nLes Colorés feat Rachelle Jeanty\n\n\n\n\n\n\n\n\n\nAls Solokünstlerin hat Rachelle Jeanty vier Alben veröffentlicht\, eines davon – “D’Âme Soul“ – als Singer-Songwriterin\, in ihrer Muttersprache Französisch. \n\n\n\n\n\n\n\n\n\n\n\n\n\nHeart Tones – Lullabies From Around The WorldDodo Heart Tones\, Rachelle Jeanty\, Cremildo De Caifaz\, Philipp v. Rothkirch\n\n\n\n\n\nrachellejeantymusic · Afro Jazz Experience \n\n\n\n\n\n\n\n\n\n\n\n \n\n\n\n\n\n\n\n\n\n\n\nRESPECT – Cover by EBC feat. RACHELLE JEANTY YOUTUBE\n\n\n\nLes Colorés feat Rachelle Jeanty @Zig Zag\n\n\n\nJazz Clubs Berlin \n\n\n\nAlle Angaben ohne Gewähr
URL:https://jazz-in-berlin.net/event/les-colores-feat-rachelle-jeanty/
LOCATION:Zig Zag\, Hauptstraße 89\, Berlin\, 12159
ATTACH;FMTTYPE=:
END:VEVENT
BEGIN:VEVENT
DTSTART;TZID=Europe/Berlin:20250122T230000
DTEND;TZID=Europe/Berlin:20250122T235959
DTSTAMP:20260425T143215
CREATED:20241227T123830Z
LAST-MODIFIED:20241227T124749Z
UID:10654-1737586800-1737590399@jazz-in-berlin.net
SUMMARY:Sholto
DESCRIPTION:Oscar ‘Sholto‘ Robertson – compositions \n\n\n\nSHOLTO (DeepMatter Rec\, Root Records/UK) *live*Allynx b2b Sean Steinfeger (Opening DJ-Set/IL/D)with very special guest: DERYA YILDIRIM *live* \n\n\n\n\n\nSholto\n\n\n\n\n\n\n\n\n\nLetting Go of Forevervon SHOLTO\n\n\n\n\n\nThe Changing Tides of Dreamsvon SHOLTO\n\n\n\n\n\nSholto @Gretchen Berlin\n\n\n\nJazz Clubs Berlin
URL:https://jazz-in-berlin.net/event/sholto/
LOCATION:Gretchen\, Obentrautstraße 19-21\, Berlin\, 10963
ATTACH;FMTTYPE=image/jpeg:https://www.gretchen-club.de/css/images/logo.png
END:VEVENT
END:VCALENDAR