BEGIN:VCALENDAR
VERSION:2.0
PRODID:-//Berlin Jazz - ECPv6.15.11//NONSGML v1.0//EN
CALSCALE:GREGORIAN
METHOD:PUBLISH
X-ORIGINAL-URL:https://jazz-in-berlin.net
X-WR-CALDESC:Veranstaltungen für Berlin Jazz
REFRESH-INTERVAL;VALUE=DURATION:PT1H
X-Robots-Tag:noindex
X-PUBLISHED-TTL:PT1H
BEGIN:VTIMEZONE
TZID:Europe/Berlin
BEGIN:DAYLIGHT
TZOFFSETFROM:+0100
TZOFFSETTO:+0200
TZNAME:CEST
DTSTART:20240331T010000
END:DAYLIGHT
BEGIN:STANDARD
TZOFFSETFROM:+0200
TZOFFSETTO:+0100
TZNAME:CET
DTSTART:20241027T010000
END:STANDARD
BEGIN:DAYLIGHT
TZOFFSETFROM:+0100
TZOFFSETTO:+0200
TZNAME:CEST
DTSTART:20250330T010000
END:DAYLIGHT
BEGIN:STANDARD
TZOFFSETFROM:+0200
TZOFFSETTO:+0100
TZNAME:CET
DTSTART:20251026T010000
END:STANDARD
BEGIN:DAYLIGHT
TZOFFSETFROM:+0100
TZOFFSETTO:+0200
TZNAME:CEST
DTSTART:20260329T010000
END:DAYLIGHT
BEGIN:STANDARD
TZOFFSETFROM:+0200
TZOFFSETTO:+0100
TZNAME:CET
DTSTART:20261025T010000
END:STANDARD
END:VTIMEZONE
BEGIN:VEVENT
DTSTART;TZID=Europe/Berlin:20250128T210000
DTEND;TZID=Europe/Berlin:20250128T233000
DTSTAMP:20260425T135546
CREATED:20240818T133509Z
LAST-MODIFIED:20250122T073355Z
UID:6069-1738098000-1738107000@jazz-in-berlin.net
SUMMARY:Havana Express Berlin
DESCRIPTION:Sergio Medina – vocalsAlexander Wienand – pianoUrs Johnen – bassDiogenes Nodarse – percussionAnna Gelyuk – drumsDavid Beecroft – saxophoneGreg Ambroisine – trumpet \n\n\n\nhavana-berlin-express.com \n\n\n\nHavana Express Berlin\n\n\n\nSERGIO MEDINA & AFROCARIBE BERLIN YOUTUBE TRAILER\n\n\n\n\n\n\n\n\n\n\n\n\nHAVANA BERLIN EXPRESS\n\n\n\n\nHavana Express Berlin @B-Flat\n\n\n\nJazz Clubs Berlin
URL:https://jazz-in-berlin.net/event/havana-express-berlin/
LOCATION:B-Flat\, Dircksenstraße 40\, Berlin\, 10178
ATTACH;FMTTYPE=image/jpeg:https://jazz-in-berlin.net/wp-content/uploads/2024/08/B-Flat-Logo-50.jpg
END:VEVENT
BEGIN:VEVENT
DTSTART;TZID=Europe/Berlin:20250128T210000
DTEND;TZID=Europe/Berlin:20250128T233000
DTSTAMP:20260425T135546
CREATED:20241231T131233Z
LAST-MODIFIED:20250121T082801Z
UID:10946-1738098000-1738107000@jazz-in-berlin.net
SUMMARY:Au Revoir Ears
DESCRIPTION:Tobias Delius  TenorsaxophonOlaf Rupp E-GitarreIsabel Rößler KontrabassJan Leipnitz Drums \n\n\n\naudiosemantics.de \n\n\n\n\n\nAu Revoir Ears\n\n\n\n\n\n\n\n\n\nTHE GARDEN WAS EMPTYvon XENOFOX\n\n\n\n\n\nDouble Upvon ISABEL RÖßLER / GIRILAL BAARS\n\n\n\n\n\nAu Revoir Ears @Kunsfabrik Schlot\n\n\n\nJazz Clubs Berlin
URL:https://jazz-in-berlin.net/event/au-revoir-ears/
LOCATION:Kunstfabrik Schlot\, Invalidenstraße 117\, Berlin\, 10115
ATTACH;FMTTYPE=image/jpeg:https://jazz-in-berlin.net/wp-content/uploads/2024/07/Kunstfabrink-Logo-20.jpg
END:VEVENT
END:VCALENDAR