BEGIN:VCALENDAR
VERSION:2.0
PRODID:-//Berlin Jazz - ECPv6.15.11//NONSGML v1.0//EN
CALSCALE:GREGORIAN
METHOD:PUBLISH
X-ORIGINAL-URL:https://jazz-in-berlin.net
X-WR-CALDESC:Veranstaltungen für Berlin Jazz
REFRESH-INTERVAL;VALUE=DURATION:PT1H
X-Robots-Tag:noindex
X-PUBLISHED-TTL:PT1H
BEGIN:VTIMEZONE
TZID:Europe/Berlin
BEGIN:DAYLIGHT
TZOFFSETFROM:+0100
TZOFFSETTO:+0200
TZNAME:CEST
DTSTART:20240331T010000
END:DAYLIGHT
BEGIN:STANDARD
TZOFFSETFROM:+0200
TZOFFSETTO:+0100
TZNAME:CET
DTSTART:20241027T010000
END:STANDARD
BEGIN:DAYLIGHT
TZOFFSETFROM:+0100
TZOFFSETTO:+0200
TZNAME:CEST
DTSTART:20250330T010000
END:DAYLIGHT
BEGIN:STANDARD
TZOFFSETFROM:+0200
TZOFFSETTO:+0100
TZNAME:CET
DTSTART:20251026T010000
END:STANDARD
BEGIN:DAYLIGHT
TZOFFSETFROM:+0100
TZOFFSETTO:+0200
TZNAME:CEST
DTSTART:20260329T010000
END:DAYLIGHT
BEGIN:STANDARD
TZOFFSETFROM:+0200
TZOFFSETTO:+0100
TZNAME:CET
DTSTART:20261025T010000
END:STANDARD
END:VTIMEZONE
BEGIN:VEVENT
DTSTART;TZID=Europe/Berlin:20250129T200000
DTEND;TZID=Europe/Berlin:20250129T223000
DTSTAMP:20260425T140356
CREATED:20250102T084338Z
LAST-MODIFIED:20250127T090422Z
UID:11037-1738180800-1738189800@jazz-in-berlin.net
SUMMARY:Oscar Bohorquez Yannick Rafalimanan
DESCRIPTION:Oscar Bohorquez ViolinYannick Rafalimanan Piano \n\n\n\nBach Sonate für Violine und Klavier in f-Moll\, BWV 1018Piazzolla Le Grand Tango  Fracanapa • Milonga del Angel • Revirado  • Adios NoninoBeethoven Sonate für Violine und Klavier Nr. 9 in A-Dur\, op. 47“Kreutzer-Sonate” \n\n\n\noscarbohorquez.com | yannickrafalimanana.com \n\n\n\n\n\nOscar Bohorquez Yannick Rafalimanan\n\n\n\n\n\n\n\n\n\nJ.S. Bach: Solo Violin SonatasOscar Bohórquez\n\n\n\n\n\n\n\n\n\nFranz Schubert: Sonata No. 21 D 960 in B-flat Major – Yannick Rafalimanana YOUTUBE\n\n\n\nOscar Bohorquez Yannick Rafalimanan @ Piano Salon Christophori\n\n\n\nJazz Clubs Berlin
URL:https://jazz-in-berlin.net/event/oscar-bohorquez-yannick-rafalimanan/
LOCATION:Piano Salon Christophori\, Uferstr.8\, Berlin\, 13357
ATTACH;FMTTYPE=image/jpeg:https://www.konzertfluegel.com/grafix/fluegelseite1_new.gif
END:VEVENT
BEGIN:VEVENT
DTSTART;TZID=Europe/Berlin:20250129T200000
DTEND;TZID=Europe/Berlin:20250129T230000
DTSTAMP:20260425T140356
CREATED:20241218T115203Z
LAST-MODIFIED:20250119T143846Z
UID:9525-1738180800-1738191600@jazz-in-berlin.net
SUMMARY:Schikane //#pandajazz
DESCRIPTION:Nikolaus Neuser – trumpetJörg Schippa – guitarDenis Stilke – drums \n\n\n\nnikolausneuser.com | joergschippa.de/wordpress | denisstilke-ondrums.de \n\n\n\n\n\nDer erste Biss darf nicht Salat seinSchikane\n\n\n\n\n\n\n\n\n\nSchikane //#pandajazz\n\n\n\n\n\n\n\n\n\nSchikane //#pandajazz\n\n\n\nJazz Clubs Berlin \n\n\n\nAlle Angaben ohne Gewähr
URL:https://jazz-in-berlin.net/event/schikane-pandajazz/
ATTACH;FMTTYPE=image/jpeg:https://panda-platforma.berlin/wp-content/uploads/panda-logo-2020-_2_.svg
END:VEVENT
BEGIN:VEVENT
DTSTART;TZID=Europe/Berlin:20250129T203000
DTEND;TZID=Europe/Berlin:20250129T230000
DTSTAMP:20260425T140356
CREATED:20241219T144550Z
LAST-MODIFIED:20250121T082859Z
UID:9834-1738182600-1738191600@jazz-in-berlin.net
SUMMARY:Daoud Good Boy
DESCRIPTION:Daoud – TrumpetEtienne – Piano/Fender Rhodes/ProphetLouis – Kontra BassGuillaume – Drums \n\n\n\ndaoudmusic.com \n\n\n\n\n\nDaoud Good Boy\n\n\n\n\n\n\n\n\ndaoud – Good Boy\n\n\n\n\nDaoud Good Boy
URL:https://jazz-in-berlin.net/event/daoud-good-boy/
LOCATION:A-Trane\, Bleibtreustraße 1\, Berlin\, 10625
ATTACH;FMTTYPE=image/jpeg:https://jazz-in-berlin.net/wp-content/uploads/2023/01/A-Trane-Logo-20.jpg
END:VEVENT
BEGIN:VEVENT
DTSTART;TZID=Europe/Berlin:20250129T203000
DTEND;TZID=Europe/Berlin:20250129T235900
DTSTAMP:20260425T140356
CREATED:20250103T145908Z
LAST-MODIFIED:20250103T151121Z
UID:11240-1738182600-1738195140@jazz-in-berlin.net
SUMMARY:Jermyn Galvin Gawlik Baumgartner | Charlotte Greve
DESCRIPTION:Elliot Galvin KeyboardJulius Gawlik tenor sax\, clarinetSimon Jermyn electric bassMoritz Baumgärtner – drums \n\n\n\nCharlotte Greve Saxophone \n\n\n\nJermyn Galvin Gawlik Baumgartner | Charlotte Greve\n\n\n\n\n\nfelix ambach trio – livevon felix ambach triojulius gawlik – clarinet roger kintopf – double bassfelix ambach – drums & compositions \n\n\n\n\n\nModern Timesvon Elliot Galvin\n\n\n\n\n\nSediments We Movevon Charlotte Greve\, Wood River\, Cantus Domus\n\n\n\n\n\n\n\n\n\nJermyn Galvin Gawlik Baumgartner | Charlotte Greve @ Donau 115\n\n\n\nJazzclubs Berlin \n\n\n\nalle Angaben ohne Gewähr
URL:https://jazz-in-berlin.net/event/jermyn-galvin-gawlik-baumgartner-charlotte-greve/
LOCATION:Donau 115\, Donaustrasse 115\, Berlin\, 12043
ATTACH;FMTTYPE=:
END:VEVENT
BEGIN:VEVENT
DTSTART;TZID=Europe/Berlin:20250129T210000
DTEND;TZID=Europe/Berlin:20250129T235900
DTSTAMP:20260425T140356
CREATED:20241231T094239Z
LAST-MODIFIED:20241231T094751Z
UID:10876-1738184400-1738195140@jazz-in-berlin.net
SUMMARY:Alec Orea Quintet
DESCRIPTION:Alec Orea pianoAlex Sipiagin trumpetWill Vinson saxophoneBoris Kozlov bassRodrigo Diao Braz drums \n\n\n\nalecjazzpiano.com \n\n\n\nAlec Orea Quintet\n\n\n\n\n\n\n\nGratitudeAlec Orea\, Donald Edwards\, Alex Sipiagin\, Boris Kozlov\n\n\n\n\n\n\n\n\n\n\n\n\n\n\n\n \n\n\n\n\n\n\nAlex Sipiagin – Horizons\n\n\n\n\n\n\n\nWill Vinson Tripwire\n\n\n\n\n\n\n\n\n\n\n\n\n\n\nAlec Orea Quintet @Zig Zag\n\n\n\nJazz Clubs Berlin
URL:https://jazz-in-berlin.net/event/alec-orea-quintet/
LOCATION:Zig Zag\, Hauptstraße 89\, Berlin\, 12159
ATTACH;FMTTYPE=:
END:VEVENT
BEGIN:VEVENT
DTSTART;TZID=Europe/Berlin:20250129T211500
DTEND;TZID=Europe/Berlin:20250129T230000
DTSTAMP:20260425T140356
CREATED:20240728T100147Z
LAST-MODIFIED:20241219T182902Z
UID:5233-1738185300-1738191600@jazz-in-berlin.net
SUMMARY:Fuasi & The Band JTTS
DESCRIPTION:Fuasi Abdul Khaliq – saxophoneRolf Zielke – pianoMax Hughes – bassKenny Martin – drums \n\n\n\n\n\nFuasi & The Band JTTS\n\n\n\n\n\n\n\n\n\n\n\n\nFuasi Abdul Khaliq saxophone\n\n\n\n\nFuasi & The Band JTTS
URL:https://jazz-in-berlin.net/event/fuasi-the-band-jtts/
LOCATION:Badenscher Hof\, Badensche Straße 29\, Berlin\, 10715
ATTACH;FMTTYPE=image/jpeg:https://lirp.cdn-website.com/d05763ec/dms3rep/multi/opt/Logo_banner_new-5e2a17ee-1920w.png
END:VEVENT
END:VCALENDAR