BEGIN:VCALENDAR
VERSION:2.0
PRODID:-//Berlin Jazz - ECPv6.15.11//NONSGML v1.0//EN
CALSCALE:GREGORIAN
METHOD:PUBLISH
X-WR-CALNAME:Berlin Jazz
X-ORIGINAL-URL:https://jazz-in-berlin.net
X-WR-CALDESC:Veranstaltungen für Berlin Jazz
REFRESH-INTERVAL;VALUE=DURATION:PT1H
X-Robots-Tag:noindex
X-PUBLISHED-TTL:PT1H
BEGIN:VTIMEZONE
TZID:Europe/Berlin
BEGIN:DAYLIGHT
TZOFFSETFROM:+0100
TZOFFSETTO:+0200
TZNAME:CEST
DTSTART:20240331T010000
END:DAYLIGHT
BEGIN:STANDARD
TZOFFSETFROM:+0200
TZOFFSETTO:+0100
TZNAME:CET
DTSTART:20241027T010000
END:STANDARD
BEGIN:DAYLIGHT
TZOFFSETFROM:+0100
TZOFFSETTO:+0200
TZNAME:CEST
DTSTART:20250330T010000
END:DAYLIGHT
BEGIN:STANDARD
TZOFFSETFROM:+0200
TZOFFSETTO:+0100
TZNAME:CET
DTSTART:20251026T010000
END:STANDARD
BEGIN:DAYLIGHT
TZOFFSETFROM:+0100
TZOFFSETTO:+0200
TZNAME:CEST
DTSTART:20260329T010000
END:DAYLIGHT
BEGIN:STANDARD
TZOFFSETFROM:+0200
TZOFFSETTO:+0100
TZNAME:CET
DTSTART:20261025T010000
END:STANDARD
END:VTIMEZONE
BEGIN:VEVENT
DTSTART;TZID=Europe/Berlin:20250205T200000
DTEND;TZID=Europe/Berlin:20250205T223000
DTSTAMP:20260425T155328
CREATED:20250118T153432Z
LAST-MODIFIED:20250118T155530Z
UID:12303-1738785600-1738794600@jazz-in-berlin.net
SUMMARY:Soulez-Larivière & Consonni
DESCRIPTION:Sao Soulez-Larivière  – ViolaCosima Soulez-Larivière – Violine Martina Consonni – Klavier  \n\n\n\nMozart  – Kegelstatt Trio K.498 C.Schumann – 3 Romances Op.22Beach  – Romance Op.23R. Schumann  – Märchenerzählungen Op.132 \n\n\n\nsaosoulezlariviere.com | cosimasoulezlariviere.com | martinaconsonni.com \n\n\n\n\n\nSoulez-Larivière & Consonni\n\n\n\n\n\n\n\n\n\nImpressionSào Soulez Larivière\, Annika Treutler\n\n\n\n\n\nOdysseyCosima Soulez Larivière\, Philipp Scheucher\n\n\n\n\n\nMartina Consonni\, Sarah Jégou-Sageman\, Jeein You – Chaminade: Piano Trio No. 1 in G Minor: IV YOUTUBE\n\n\n\nSoulez-Larivière & Consonni @ Piano Salon Christophori\n\n\n\nJazz Clubs Berlin \n\n\n\nAlle Angaben ohne Gewähr
URL:https://jazz-in-berlin.net/event/soulez-lariviere-consonni/
LOCATION:Piano Salon Christophori\, Uferstr.8\, Berlin\, 13357
ATTACH;FMTTYPE=image/jpeg:https://www.konzertfluegel.com/grafix/fluegelseite1_new.gif
END:VEVENT
BEGIN:VEVENT
DTSTART;TZID=Europe/Berlin:20250205T200000
DTEND;TZID=Europe/Berlin:20250205T230000
DTSTAMP:20260425T155328
CREATED:20250108T143425Z
LAST-MODIFIED:20250108T144022Z
UID:11401-1738785600-1738796400@jazz-in-berlin.net
SUMMARY:Flammer Dance Band
DESCRIPTION:Olve Gravklev – drumsMikkel Berggrav – keysMikkel Bjørneboe – bassBror Havnes – bassJelly Jels – guitar Sifu Pablo – percussionTorb Roach – vocals synth \n\n\n\nflammerdanceband.com \n\n\n\nFlammer Dance Band – Vintage Synths meets Afro-Beats\n\n\n\n\n\n\n\n\n\n\n\nGyngervon Flammer Dance Band2024\n\n\n\n\n\nDedikasjon Til Inspirasjonvon Flammer Dance Band\n\n\n\n\n\nFlammer Dance Band – Vintage Synths meets Afro-Beats@ Neue Zukunft\n\n\n\nJazz Clubs Berlin \n\n\n\nAlle Angaben ohne Gewähr
URL:https://jazz-in-berlin.net/event/flammer-dance-band/
LOCATION:Neue Zukunft\, Alt-Stralau 68\, Berlin\, 10245
ATTACH;FMTTYPE=image/jpeg:https://neue-zukunft.org/images/stralau/Die-Zukunft-im-Nebel.jpg
END:VEVENT
BEGIN:VEVENT
DTSTART;TZID=Europe/Berlin:20250205T200000
DTEND;TZID=Europe/Berlin:20250205T230000
DTSTAMP:20260425T155328
CREATED:20250119T132149Z
LAST-MODIFIED:20250119T132459Z
UID:12419-1738785600-1738796400@jazz-in-berlin.net
SUMMARY:AAAPUZ //#pandajazz
DESCRIPTION:AAAPUZ (Antwort Auf Alle Probleme Unserer Zeit)Matthias Schriefl – trumpet\, tuba\, brassGerhard Gschlößl – trombone\, sousaphoneNorbert Bürger – guitar \n\n\n\nschriefl.eu/de \n\n\n\nGerade in einer Zeitenwende auf vielen Ebenen freut man sich\, dass es endlich eine Band gibt\, die alle Wunden unserer Zeit heilen kann. \n\n\n\n\n\n\n\n\n\nLive in Algoviavon AAAPUZ\n\n\n\n\n\n\n\n\n\nAAAPUZ //#pandajazz\n\n\n\n\n\n\n\n\n\nAAAPUZ //#pandajazz\n\n\n\nJazz Clubs Berlin \n\n\n\nAlle Angaben ohne Gewähr
URL:https://jazz-in-berlin.net/event/aaapuz-pandajazz/
ATTACH;FMTTYPE=image/jpeg:https://panda-platforma.berlin/wp-content/uploads/panda-logo-2020-_2_.svg
END:VEVENT
BEGIN:VEVENT
DTSTART;TZID=Europe/Berlin:20250205T201500
DTEND;TZID=Europe/Berlin:20250205T230000
DTSTAMP:20260425T155328
CREATED:20250126T123225Z
LAST-MODIFIED:20250126T124309Z
UID:12898-1738786500-1738796400@jazz-in-berlin.net
SUMMARY:40 Jahre Band-Jubiläum – Sinti Swing Berlin
DESCRIPTION:Janko Lauenberger – GuitarBernd Huber – ViolinHannes Krause – BassFredi Ansin – GuitarWilfried Ansin – Guitar \n\n\n\nsinti-swing-berlin.com \n\n\n\nReferenzen: Konzerte:Konzerthaus Berlin\, Berliner Philharmonie\, Mainzer Dom\, Nicolaisaal Potsdam\, Berliner Instrumentenmuseum\, Swingfest Brandenburg\, Neuruppiner Dixitage\, Englischer Garten Berlin\, Britzer Garten Berlin\, Alexanderplatz Berlin u.a. \n\n\n\nSinti-Swing-Berlin trat mit dem legendären Schnuckenack Reinhardt-Quintett im Mainzer Dom und mit dem Swing-Dance-Orchestra von André Hermlin im Berliner Konzerthaus auf. Beim 5. Berliner Jazz & Blues Award erhielt Sinti Swing Berlin den Publikumspreis. Die MDR-Dokumentation Djangos Lied. – Eine Sinti-Jugend in Deutschland (T.Franke/K.Richter) portraitiert die Familie Lauenberger. Im Mittelpunkt stehen Janko Lauenberger und Sinti Swing Berlin. \n\n\n\n\n\n40 Jahre Band-Jubiläum – Sinti Swing Berlin\n\n\n\n\n\n\n\n… dass wir keine Fabelwesen mehr sind … \n\n\n\n\n\n\n\n\n\nDjangos Lied – Eine Sinti-Jugend in Deutschland 1/2 YOUTUBE – die Schlussminuten des Film 2/2\n\n\n\n\n\nTroyke Concerts Volume 2Karsten Troyke with Sinti Swing Berlin\n\n\n\n\n\nEs Wird Zeit / Wey ZiroSinti Swing Berlin\n\n\n\n\n\n\n\n\n\n\nJanko Lauenberger – Sinti Swing Berlin\n\n\n\n\n40 Jahre Band-Jubiläum – Sinti Swing Berlin
URL:https://jazz-in-berlin.net/event/40-jahre-band-jubilaeum-sinti-swing-berlin/
LOCATION:Badenscher Hof\, Badensche Straße 29\, Berlin\, 10715
ATTACH;FMTTYPE=image/jpeg:https://lirp.cdn-website.com/d05763ec/dms3rep/multi/opt/Logo_banner_new-5e2a17ee-1920w.png
END:VEVENT
BEGIN:VEVENT
DTSTART;TZID=Europe/Berlin:20250205T203000
DTEND;TZID=Europe/Berlin:20250205T230000
DTSTAMP:20260425T155328
CREATED:20250125T134204Z
LAST-MODIFIED:20250125T145428Z
UID:12847-1738787400-1738796400@jazz-in-berlin.net
SUMMARY:JIB Wednesday Szymonik Briand Astrup Godfroy
DESCRIPTION:Liam Szymonik: AltosaxophoneJascha Briand: GuitarJakob Astrup: Double-BassLoup Godfroy: Drums \n\n\n\ntba \n\n\n\nJIB Wednesday Szymonik Briand Astrup Godfroy\n\n\n\n\n\n\n\n\n\nJIB Wednesday Szymonik Briand Astrup Godfroy @ Donau 115\n\n\n\nJazzclubs Berlin \n\n\n\nAlle Angaben ohne Gewähr
URL:https://jazz-in-berlin.net/event/jib-wednesday-szymonik-briand-astrup-godfroy/
LOCATION:Donau 115\, Donaustrasse 115\, Berlin\, 12043
ATTACH;FMTTYPE=image/jpeg:https://jazz-in-berlin.net/wp-content/uploads/2024/07/Donau115-Windowview-22-scaled.jpg
END:VEVENT
BEGIN:VEVENT
DTSTART;TZID=Europe/Berlin:20250205T203000
DTEND;TZID=Europe/Berlin:20250205T235900
DTSTAMP:20260425T155328
CREATED:20250116T124814Z
LAST-MODIFIED:20250416T062925Z
UID:11803-1738787400-1738799940@jazz-in-berlin.net
SUMMARY:Out of Print - Unexpected Turn
DESCRIPTION:Volker Kottenhahn – PianoDirk Strakhof – Double BassJohannes Bockholt – Drums/ Percussion \n\n\n\nwiki/Volker_Kottenhahn | strakhof.de | wiki/Johannes_Bockholt \n\n\n\nOut of Print – Unexpected Turn\n\n\n\n\n\n\n\n\n\n\n\nUnexpected Turnout of print2023\n\n\n\n\n\nNeuköllner ChromatikDirk Strakhof\, Johannes Bockholt\, Volker Kottenhahn\n\n\n\n\n\nOut of Print – Unexpected Turn @A-Trane\n\n\n\nJazz Clubs Berlin \n\n\n\nAlle Angaben ohne Gewähr
URL:https://jazz-in-berlin.net/event/out-of-print-unexpected-turn/
LOCATION:A-Trane\, Bleibtreustraße 1\, Berlin\, 10625
ATTACH;FMTTYPE=:
END:VEVENT
END:VCALENDAR