BEGIN:VCALENDAR
VERSION:2.0
PRODID:-//Berlin Jazz - ECPv6.15.11//NONSGML v1.0//EN
CALSCALE:GREGORIAN
METHOD:PUBLISH
X-WR-CALNAME:Berlin Jazz
X-ORIGINAL-URL:https://jazz-in-berlin.net
X-WR-CALDESC:Veranstaltungen für Berlin Jazz
REFRESH-INTERVAL;VALUE=DURATION:PT1H
X-Robots-Tag:noindex
X-PUBLISHED-TTL:PT1H
BEGIN:VTIMEZONE
TZID:Europe/Berlin
BEGIN:DAYLIGHT
TZOFFSETFROM:+0100
TZOFFSETTO:+0200
TZNAME:CEST
DTSTART:20240331T010000
END:DAYLIGHT
BEGIN:STANDARD
TZOFFSETFROM:+0200
TZOFFSETTO:+0100
TZNAME:CET
DTSTART:20241027T010000
END:STANDARD
BEGIN:DAYLIGHT
TZOFFSETFROM:+0100
TZOFFSETTO:+0200
TZNAME:CEST
DTSTART:20250330T010000
END:DAYLIGHT
BEGIN:STANDARD
TZOFFSETFROM:+0200
TZOFFSETTO:+0100
TZNAME:CET
DTSTART:20251026T010000
END:STANDARD
BEGIN:DAYLIGHT
TZOFFSETFROM:+0100
TZOFFSETTO:+0200
TZNAME:CEST
DTSTART:20260329T010000
END:DAYLIGHT
BEGIN:STANDARD
TZOFFSETFROM:+0200
TZOFFSETTO:+0100
TZNAME:CET
DTSTART:20261025T010000
END:STANDARD
END:VTIMEZONE
BEGIN:VEVENT
DTSTART;TZID=Europe/Berlin:20250210T203000
DTEND;TZID=Europe/Berlin:20250210T235959
DTSTAMP:20260425T155340
CREATED:20250119T092730Z
LAST-MODIFIED:20250119T092851Z
UID:12380-1739219400-1739231999@jazz-in-berlin.net
SUMMARY:Adam Ben Ezra ft. Michel Olivera
DESCRIPTION:Adam Ben Ezra bassMichael Olivera drums \n\n\n\nadambenezra.com | michael-olivera.com \n\n\n\nFür sein neues Album und die dazugehörige Tour hat Adam Ben Ezra sich mit dem Schlagzeuger Michael Olivera zusammengetan und wir dürfen nichts weniger erwarten als einen Dialog zwischen Kontrabass und Schlagzeug\, der die Beziehung zwischen den beiden Instrumenten neu definiert. Es erscheint im Februar 2025 \n\n\n\nA new album has been created and will be out in February 2025. To top it all off\, we’ll be heading on a worldwide tour starting in March 2024 to share the magic. If you’d like to book a show\, feel free to send a message\, and for everyone else\, stay tuned! \n\n\n\n\n\nFree FlyAdam Ben Ezra\n\n\n\n\n\n\n\n\n\nNew Project – Adam Ben Ezra ft. Michael Olivera YOUTUBE \n\n\n\n\n\n \n\n\n\n\n\n\n\n\n\n\n\n\n\n\n\nAdam Ben Ezra ft. Michel Olivera\n\n\n\n\n\n\n\n\n\nHide And Seekvon Adam Ben Ezra\n\n\n\n\n\nCan’t Stop Runningvon Adam Ben Ezra Trio\n\n\n\n\n\nAdam Ben Ezra ft. Michel Olivera @Gretchen Berlin\n\n\n\nJazz Clubs Berlin \n\n\n\nAlle Angaben ohne Gewähr
URL:https://jazz-in-berlin.net/event/adam-ben-ezra-ft-michel-olivera/
LOCATION:Gretchen\, Obentrautstraße 19-21\, Berlin\, 10963
ATTACH;FMTTYPE=image/jpeg:https://www.gretchen-club.de/css/images/logo.png
END:VEVENT
END:VCALENDAR