BEGIN:VCALENDAR
VERSION:2.0
PRODID:-//Berlin Jazz - ECPv6.15.11//NONSGML v1.0//EN
CALSCALE:GREGORIAN
METHOD:PUBLISH
X-ORIGINAL-URL:https://jazz-in-berlin.net
X-WR-CALDESC:Veranstaltungen für Berlin Jazz
REFRESH-INTERVAL;VALUE=DURATION:PT1H
X-Robots-Tag:noindex
X-PUBLISHED-TTL:PT1H
BEGIN:VTIMEZONE
TZID:Europe/Berlin
BEGIN:DAYLIGHT
TZOFFSETFROM:+0100
TZOFFSETTO:+0200
TZNAME:CEST
DTSTART:20240331T010000
END:DAYLIGHT
BEGIN:STANDARD
TZOFFSETFROM:+0200
TZOFFSETTO:+0100
TZNAME:CET
DTSTART:20241027T010000
END:STANDARD
BEGIN:DAYLIGHT
TZOFFSETFROM:+0100
TZOFFSETTO:+0200
TZNAME:CEST
DTSTART:20250330T010000
END:DAYLIGHT
BEGIN:STANDARD
TZOFFSETFROM:+0200
TZOFFSETTO:+0100
TZNAME:CET
DTSTART:20251026T010000
END:STANDARD
BEGIN:DAYLIGHT
TZOFFSETFROM:+0100
TZOFFSETTO:+0200
TZNAME:CEST
DTSTART:20260329T010000
END:DAYLIGHT
BEGIN:STANDARD
TZOFFSETFROM:+0200
TZOFFSETTO:+0100
TZNAME:CET
DTSTART:20261025T010000
END:STANDARD
END:VTIMEZONE
BEGIN:VEVENT
DTSTART;TZID=Europe/Berlin:20250213T190000
DTEND;TZID=Europe/Berlin:20250213T220000
DTSTAMP:20260425T155851
CREATED:20250213T090736Z
LAST-MODIFIED:20250213T090945Z
UID:14023-1739473200-1739484000@jazz-in-berlin.net
SUMMARY:Embryo Meets The World
DESCRIPTION:Marja Burchard vibraphone\, organ\, santur\, tromboneJohannes Schleiermacher tenor saxophone\, synthesizerFabiana Striffler violinMaasl Maier bassMaria Schneider vibraphone\, percussionJakob Thun drumsMichael Wehmeyer piano \n\n\n\nembryo.jimdosite.com \n\n\n\nOur beloved vagabond caravan of infinity celebrates the release of their 44th album\, „Meets the World“\, with historical recordings from their endless journey. \n\n\n\nEmbryo Meets The World\n\n\n\n\n\n\n\n\n\n\n\nMeets The Worldvon Embryo\n\n\n\n\n\nAuf Aufvon Embryo\n\n\n\n\n\nEmbryo Meets The World\n\n\n\n@Galiläa-Kirche\n\n\n\nJazz Clubs Berlin \n\n\n\nAlle Angaben ohne Gewähr
URL:https://jazz-in-berlin.net/event/embryo-meets-the-world/
LOCATION:Galiläakirche Berlin\, Rigaer Str. 9\, Berlin\, 10247
ATTACH;FMTTYPE=image/jpeg:https://jazz-in-berlin.net/wp-content/uploads/2024/12/galilaeakirche.jpg
END:VEVENT
BEGIN:VEVENT
DTSTART;TZID=Europe/Berlin:20250213T190000
DTEND;TZID=Europe/Berlin:20250213T233000
DTSTAMP:20260425T155851
CREATED:20240616T103447Z
LAST-MODIFIED:20250117T170511Z
UID:3744-1739473200-1739489400@jazz-in-berlin.net
SUMMARY:UDK Werkstatt Konzert
DESCRIPTION:Vocal EnsembleSongwriting EnsembleLatin EnsembleR & B EnsemblePop Ensemble \n\n\n\n\n\nUDK Werkstatt Konzert\n\n\n\n\n\n\n\nUDK Werkstatt Konzert @Kunsfabrik Schlot\n\n\n\nJazz Clubs Berlin \n\n\n\nAlle Angaben ohne Gewähr
URL:https://jazz-in-berlin.net/event/udk-werkstatt-konzert/
LOCATION:Kunstfabrik Schlot\, Invalidenstraße 117\, Berlin\, 10115
ATTACH;FMTTYPE=image/jpeg:https://jazz-in-berlin.net/wp-content/uploads/2024/07/Kunstfabrink-Logo-20.jpg
END:VEVENT
BEGIN:VEVENT
DTSTART;TZID=Europe/Berlin:20250213T200000
DTEND;TZID=Europe/Berlin:20250213T235900
DTSTAMP:20260425T155851
CREATED:20250118T162001Z
LAST-MODIFIED:20250210T164608Z
UID:12326-1739476800-1739491140@jazz-in-berlin.net
SUMMARY:Piano Salon: Ethel Merhaut
DESCRIPTION:„Here & There“ – so heißt das neue Album von Ethel Merhaut\, das am 16. Februar 2025 im Rahmen eines exklusiven Release-Konzerts im Porgy&Bess in Wien gefeiert wird \n\n\n\nEthel Merhaut – VocalsBelush Korenyi – KlavierClemens Gigacher – KontrabassIlse Riedler – Saxophon und Klarinette \n\n\n\nethelmerhaut.com \n\n\n\nPiano Salon: Ethel Merhaut\n\n\n\n\n\n\n\n\n\n\n\nGood GriefHugh Coltman\n\n\n\n\n\n\nEthel Merhaut Quartet\n\n\n\n\n\n\nEthel Merhaut „ALOIS“ Hermann Leopoldi YOUTUBE\n\n\n\nPiano Salon: Ethel Merhaut @ Piano Salon Christophori\n\n\n\nJazz Clubs Berlin \n\n\n\nAlle Angaben ohne Gewähr
URL:https://jazz-in-berlin.net/event/piano-salon-ethel-merhaut/
LOCATION:Piano Salon Christophori\, Uferstr.8\, Berlin\, 13357
ATTACH;FMTTYPE=image/jpeg:https://www.konzertfluegel.com/grafix/fluegelseite1_new.gif
END:VEVENT
BEGIN:VEVENT
DTSTART;TZID=Europe/Berlin:20250213T203000
DTEND;TZID=Europe/Berlin:20250213T230000
DTSTAMP:20260425T155851
CREATED:20250120T084310Z
LAST-MODIFIED:20250121T063523Z
UID:12533-1739478600-1739487600@jazz-in-berlin.net
SUMMARY:Marantz Viner Jermyn Baumgärtner
DESCRIPTION:Luke Marantz piano Jeremy Viner saxophone\, clarinet Simon Jermyn electric bass Moritz Baumgärtner drums \n\n\n\nlukemarantz.com | jeremyviner.comsimonjermynmusic.com | moritzbaumgaertner.de \n\n\n\nMarantz Viner Jermyn Baumgärtner\n\n\n\n \n\n\n\n\n\n\n\n\n\nPrelude – EPvon Luke Marantz\n\n\n\n\n\nGreen of Wintervon Battle Trance\n\n\n\n\n\n\n\nEidolon Volume 1von EidolonMatt Marantz-tenor saxophone and EWILuke Marantz-rhodesSimon Jermyn-electric bassKush Abadey-drums\n\n\n\n\n\nReleasevon LISBETH QUARTETT Charlotte Greve\, Manuel Schmiedel\, Marc Muellbauer\, Moritz Baumgärtner\n\n\n\n\n\n\n\n\n\n\n\nverhoovensjazz.net/declan-forde-piano/ \n\n\n\n\n\n\n\n\n\nMarantz Viner Jermyn Baumgärtner @sowieso\n\n\n\nJazz Clubs Berlin \n\n\n\nAlle Angaben ohne Gewähr
URL:https://jazz-in-berlin.net/event/marantz-viner-jermyn-baumgaertner/
LOCATION:Sowieso\, Weisestraße 24\, Berlin\, 12049
ATTACH;FMTTYPE=image/jpeg:https://cortex.persona.co/w/696/q/67/i/ef08edefeaf2227488ee7ad85924c3612b27dea492d11a9145417efdc766b789/wallpaper-green.jpg
END:VEVENT
BEGIN:VEVENT
DTSTART;TZID=Europe/Berlin:20250213T203000
DTEND;TZID=Europe/Berlin:20250213T235900
DTSTAMP:20260425T155851
CREATED:20250116T131631Z
LAST-MODIFIED:20250213T064911Z
UID:11819-1739478600-1739491140@jazz-in-berlin.net
SUMMARY:Werner Neumann Electric Trio
DESCRIPTION:Werner Neumann – GuitarSteffen Greisiger – OrganTom Friedrich – DrumsPeter Weniger – Saxophone \n\n\n\nWerner Neumann Electric Trio\n\n\n\n\n\n\n\n\n\n\n\nneue heimatvon Werner Neumann\n\n\n\n\n\nalte liebevon wenet\n\n\n\n\n\nWerner Neumann Electric Trio @A-Trane\n\n\n\nJazz Clubs Berlin \n\n\n\nAlle Angaben ohne Gewähr
URL:https://jazz-in-berlin.net/event/werner-neumann-electric-trio/
LOCATION:A-Trane\, Bleibtreustraße 1\, Berlin\, 10625
ATTACH;FMTTYPE=:
END:VEVENT
BEGIN:VEVENT
DTSTART;TZID=Europe/Berlin:20250213T203000
DTEND;TZID=Europe/Berlin:20250213T235900
DTSTAMP:20260425T155851
CREATED:20250125T133459Z
LAST-MODIFIED:20250125T145436Z
UID:12843-1739478600-1739491140@jazz-in-berlin.net
SUMMARY:Friends & Neighbors - Lanzoni\, Spallati\, Alunni
DESCRIPTION:Alessandro Lanzoni – PianoIgor Spallati – ContrabassUgo Alunni – Drums \n\n\n\nalessandrolanzoni.com | wiki/Igor_Spallati | search/UgoAlunni_on_VHJ \n\n\n\nFriends & Neighbors – Lanzoni\, Spallati\, Alunni\n\n\n\n\n\nBouncing With Budby Alessandro Lanzoni – piano solo\n\n\n\n\n\nINTERCEPTIONToms Rudzinskis\, Igor Spallati\, Ivars Arutyunyan \n\n\n\n\n\nWOOD / GUTSby Elias Stemeseder/James Banner/Ugo Alunni\n\n\n\n\n\n\n\n\n\nFriends & Neighbors – Lanzoni\, Spallati\, Alunni @ Donau 115\n\n\n\nJazzclubs Berlin \n\n\n\nalle Angaben ohne Gewähr
URL:https://jazz-in-berlin.net/event/friends-neighbors-lanzoni-spallati-alunni/
LOCATION:Donau 115\, Donaustrasse 115\, Berlin\, 12043
ATTACH;FMTTYPE=:
END:VEVENT
BEGIN:VEVENT
DTSTART;TZID=Europe/Berlin:20250213T210000
DTEND;TZID=Europe/Berlin:20250213T235900
DTSTAMP:20260425T155851
CREATED:20250116T121959Z
LAST-MODIFIED:20250131T123340Z
UID:11797-1739480400-1739491140@jazz-in-berlin.net
SUMMARY:Cosmo Klein & The Campers @ Zigzag
DESCRIPTION:Cosmo Klein – Vocals\, PercussionSjan Sahm – KeyboardsRuben Grosse – GuitarThomas Stieger – BassFinn Jeschkeit – Drums \n\n\n\ncosmopolytix.com \n\n\n\nCosmo Klein & The Campers @ Zigzag\n\n\n\n\n\n\n\n\n\n\n\nSoul Fiction RemixedCosmo Klein\, The Campers\n\n\n\n\n\n\n\n\n\nCosmo Klein & The Campers @Zig Zag\n\n\n\nJazz Clubs Berlin \n\n\n\nAlle Angaben ohne Gewähr
URL:https://jazz-in-berlin.net/event/cosmo-klein-the-campers-2/
LOCATION:Zig Zag\, Hauptstraße 89\, Berlin\, 12159
ATTACH;FMTTYPE=image/jpeg:https://images.squarespace-cdn.com/content/v1/55146be5e4b0392be71840b6/1431516196750-KT8J11AC198OTFSL66PV/ZZ+full+burgundy+transparent.png?format=1500w
END:VEVENT
BEGIN:VEVENT
DTSTART;TZID=Europe/Berlin:20250213T210000
DTEND;TZID=Europe/Berlin:20250213T235900
DTSTAMP:20260425T155851
CREATED:20250117T112349Z
LAST-MODIFIED:20250117T114731Z
UID:11956-1739480400-1739491140@jazz-in-berlin.net
SUMMARY:Eingang Quintet
DESCRIPTION:Jonas Friesel trumpet flugelhorn Adonis Athineos saxophoneBalint Banyo pianoJulian Eingang bassMattheus Schnöll drums \n\n\n\njulianeingang.com \n\n\n\n\n\n\n\n\n\nEingang Quintet\n\n\n\n\n\n\n\n\n\nLilac DreamsMaraal Trio\n\n\n\n\n\n\n\n\n\nEingang Quintet @B-Flat\n\n\n\nJazz Clubs Berlin   \n\n\n\nAlle Angaben ohne Gewähr
URL:https://jazz-in-berlin.net/event/eingang-quintet/
LOCATION:B-Flat\, Dircksenstraße 40\, Berlin\, 10178
ATTACH;FMTTYPE=:
END:VEVENT
END:VCALENDAR