BEGIN:VCALENDAR
VERSION:2.0
PRODID:-//Berlin Jazz - ECPv6.15.11//NONSGML v1.0//EN
CALSCALE:GREGORIAN
METHOD:PUBLISH
X-ORIGINAL-URL:https://jazz-in-berlin.net
X-WR-CALDESC:Veranstaltungen für Berlin Jazz
REFRESH-INTERVAL;VALUE=DURATION:PT1H
X-Robots-Tag:noindex
X-PUBLISHED-TTL:PT1H
BEGIN:VTIMEZONE
TZID:Europe/Berlin
BEGIN:DAYLIGHT
TZOFFSETFROM:+0100
TZOFFSETTO:+0200
TZNAME:CEST
DTSTART:20240331T010000
END:DAYLIGHT
BEGIN:STANDARD
TZOFFSETFROM:+0200
TZOFFSETTO:+0100
TZNAME:CET
DTSTART:20241027T010000
END:STANDARD
BEGIN:DAYLIGHT
TZOFFSETFROM:+0100
TZOFFSETTO:+0200
TZNAME:CEST
DTSTART:20250330T010000
END:DAYLIGHT
BEGIN:STANDARD
TZOFFSETFROM:+0200
TZOFFSETTO:+0100
TZNAME:CET
DTSTART:20251026T010000
END:STANDARD
BEGIN:DAYLIGHT
TZOFFSETFROM:+0100
TZOFFSETTO:+0200
TZNAME:CEST
DTSTART:20260329T010000
END:DAYLIGHT
BEGIN:STANDARD
TZOFFSETFROM:+0200
TZOFFSETTO:+0100
TZNAME:CET
DTSTART:20261025T010000
END:STANDARD
END:VTIMEZONE
BEGIN:VEVENT
DTSTART;TZID=Europe/Berlin:20250215T200000
DTEND;TZID=Europe/Berlin:20250215T213000
DTSTAMP:20260425T155934
CREATED:20250115T142239Z
LAST-MODIFIED:20250115T142240Z
UID:8669-1739649600-1739655000@jazz-in-berlin.net
SUMMARY:Jazz & Lyrics: Synästhesie und Jazz 1|2
DESCRIPTION:Jazz & Lyrics: Synästhesie und Jazz 1|2\n\n\n\nDie Fusion von Jazz mit Lyrik in der TischlereiCurator: Sebastian Krol Rüdiger Ruppert \n\n\n\n/jazz-lyrics-synaesthesie-und-jazz \n\n\n\n\n\n\n\n\n\nJazz & Lyrics: Synästhesie und Jazz 1|2
URL:https://jazz-in-berlin.net/event/jazz-lyrics-synaesthesie-und-jazz-12/
LOCATION:Deutsche Oper Berlin\, Richard-Wagner-Str. 10\, Berlin\, 10627
ATTACH;FMTTYPE=image/jpeg:https://www.ci-portal.de/wp-content/uploads/dob.jpg
END:VEVENT
BEGIN:VEVENT
DTSTART;TZID=Europe/Berlin:20250215T200000
DTEND;TZID=Europe/Berlin:20250215T223000
DTSTAMP:20260425T155934
CREATED:20241027T145938Z
LAST-MODIFIED:20250126T135716Z
UID:8249-1739649600-1739658600@jazz-in-berlin.net
SUMMARY:A.WAY A.GAIN
DESCRIPTION:Dirk Engelhardt – saxophoneMichael Wehmeyer – piano\, organKlaus Axenkopf – bassEsteban Ruiz – drumsHervé Hartock – Percussion \n\n\n\ndirkengelhardt.net \n\n\n\n\n\nA.WAY A.GAIN\n\n\n\nPeppi Guggenheim Berlin Live Concert: A.way-A.gain World Jazz Group YOUTUBE\n\n\n\n\n\nEast to WestDirk Engelhardt\n\n\n\n\n\nEmbryo’s ReiseEmbryo fgeat. Michael Wehmeyer organ\n\n\n\n\n\nFILM: Embryo – Free4Ever you think\, 2018 (von Michael Wehmeyer) \n\n\n\n\n\nA.WAY A.GAIN @Peppi Guggenheim\n\n\n\nJazz Clubs Berlin \n\n\n\nAlle Angaben ohne Gewähr
URL:https://jazz-in-berlin.net/event/a-way-a-gain/
LOCATION:Peppi Guggenheim\, Weichselstrasse 7\, Berlin\, 12043
ATTACH;FMTTYPE=image/jpeg:https://peppi-guggenheim.de/file/i/45421591740361412.jpg
END:VEVENT
BEGIN:VEVENT
DTSTART;TZID=Europe/Berlin:20250215T200000
DTEND;TZID=Europe/Berlin:20250215T223000
DTSTAMP:20260425T155934
CREATED:20250115T152229Z
LAST-MODIFIED:20250215T081630Z
UID:11695-1739649600-1739658600@jazz-in-berlin.net
SUMMARY:ABGESAGT : Udgang by Atahan Çiftçi
DESCRIPTION:Atahan Çiftçi OudFelix Barth BassAli Hasan Percussion \n\n\n\natahanciftci.com \n\n\n\n\n\n\n\n\n\nUdgang by Atahan Çiftçi\n\n\n\n\n\n\n\n\n\nUdgangAtahan Çiftçi\n\n\n\n\n\n\n\n\n\nUdgang by Atahan Çiftçi\n\n\n\nweitere Konzerte im Haus der Sinne \n\n\n\n19.01.25 Yaser Bayat & Ido Spak25.01.25 Karsten Troyke Trio15.02.25 Udgang by Atahan Çiftçi21.02.25 Bandonegro22.02.25 Tawabil Project26.02.25 Bernardo Monk mit Pablo Woiz und David Hagen
URL:https://jazz-in-berlin.net/event/udgang-by-atahan-ciftci/
LOCATION:Haus der Sinne\, Ystader Straße 10\, Berlin\, 10437
ATTACH;FMTTYPE=image/jpeg:https://hausdersinne-berlin.de/wp-content/uploads/2019/11/Logo-Haus-der-Sinne.png
END:VEVENT
BEGIN:VEVENT
DTSTART;TZID=Europe/Berlin:20250215T200000
DTEND;TZID=Europe/Berlin:20250215T230000
DTSTAMP:20260425T155934
CREATED:20250115T161002Z
LAST-MODIFIED:20250201T111835Z
UID:11706-1739649600-1739660400@jazz-in-berlin.net
SUMMARY:Late Night: »Cantando hacia el Sur«
DESCRIPTION:Biennale der Berliner PhilharmonikerSt. Matthäus-Kirche\n\n\n\nLate Night: »Cantando hacia el Sur«\n\n\n\nLucas Dorado VibrafonMathilde Vendramin Violoncello und GesangCarolina Riaño GesangLaura Robles Cajón und Perkussion \n\n\n\n\n\n\n\n\n\nLate Night: »Cantando hacia el Sur«@ Philharmonie Berlin\n\n\n\nAlle Angaben ohne Gewähr \n\n\n\n\n\n01/02 Maria Baptist\n\n\n\n\n\n04/02 Kruder Dorfmeister\n\n\n\n\n\n07/02 Andrej Hermlin\n\n\n\n\n\n\n\n15/02 Late Night: »Cantando hacia el Sur«\n\n\n\n\n\n07/03 ACT Night The Art of the Duo\n\n\n\n\n\n12/03 Jazz at Berlin Philharmonic: »Berlin ‒ Berlin«\n\n\n\n\n\n\n\n19/03 Michael Wollny Trio\n\n\n\n\n\n28/03 World-Reihe Philharmonie – Souad Massi \n\n\n\n\n\n31/03 Hania Rani & Ensemble\n\n\n\n\n\n\n\n23/04 Anouar Brahem Quartet\n\n\n\n\n\n29/04 Jan Garbarek Group\n\n\n\n\n\n01/05 Klezmer – Ginzburg Dynastie\n\n\n\n\n\n\n\n16/05 Jazz at Berlin Philharmonic: »Europeana«\n\n\n\n\n\n29/05 World-Reihe Philharmonie – Sonah Jobarteh
URL:https://jazz-in-berlin.net/event/late-night-cantando-hacia-el-sur/
LOCATION:Philharmonie\, Herbert-von-Karajan-Straße 1\, Berlin\, 10785
ATTACH;FMTTYPE=:
END:VEVENT
BEGIN:VEVENT
DTSTART;TZID=Europe/Berlin:20250215T200000
DTEND;TZID=Europe/Berlin:20250215T233000
DTSTAMP:20260425T155934
CREATED:20241227T104327Z
LAST-MODIFIED:20241227T104638Z
UID:10607-1739649600-1739662200@jazz-in-berlin.net
SUMMARY:Lajos Meinberg Trio
DESCRIPTION:Jazz am HelmholtzplatzKubiz Raoul Wallenberg[Bernkasteler Str. 78\, 13088 Berlin]\n\n\n\nLajos Meinberg – pianoMorten Larsen – bassUgo Alunni – drums \n\n\n\nlajosmeinberg.com \n\n\n\n\n\nLajos Meinberg Trio\n\n\n\n\n\nCarcassonne – Lajos Meinberg Trio YOUTUBE\n\n\n\nLajos Meinberg Trio @ Jazz am Helmholtzplatz – Kubiz Raoul Wallenberg\n\n\n\nJazz Clubs Berlin
URL:https://jazz-in-berlin.net/event/lajos-meinberg-trio/
ATTACH;FMTTYPE=image/jpeg:https://www.kubiz-wallenberg.de/wp-content/uploads/2014/05/logo-kubiz-gross_2008-10-31..png
END:VEVENT
BEGIN:VEVENT
DTSTART;TZID=Europe/Berlin:20250215T203000
DTEND;TZID=Europe/Berlin:20250215T230000
DTSTAMP:20260425T155934
CREATED:20250123T083954Z
LAST-MODIFIED:20250125T142630Z
UID:12784-1739651400-1739660400@jazz-in-berlin.net
SUMMARY:Peter Van Huffel´s „CALLISTO“ @Donau 115
DESCRIPTION:Peter Van Huffel – Baritone Saxophone\, Electronics\, CompositionsLina Allemano – TrumpetAntonis Anissegos – Piano\, ElectronicsJoe Hertenstein – Drums \n\n\n\n\n\nPeter Van Huffel´s „CALLISTO“ @Donau 115\n\n\n\n \n\n\n\n\n\n\n\n\n\n\n\nMeandering Demonsvon Peter Van Huffel’s CALLISTOPeter Van Huffel – Baritone Saxophone\, Electronics Lina Allemano – Trumpet Antonis Anissegos – Piano\, Electronics Joe Hertenstein – Drums\n\n\n\n\n\n\n\n\n\n \n\n\n\nPeter Van Huffel´s „CALLISTO“ @ Donau 115\n\n\n\nJazzclubs Berlin \n\n\n\nalle Angaben ohne Gewähr
URL:https://jazz-in-berlin.net/event/peter-van-huffels-callisto-donau-115/
LOCATION:Donau 115\, Donaustrasse 115\, Berlin\, 12043
ATTACH;FMTTYPE=:
END:VEVENT
BEGIN:VEVENT
DTSTART;TZID=Europe/Berlin:20250215T203000
DTEND;TZID=Europe/Berlin:20250215T230000
DTSTAMP:20260425T155934
CREATED:20250131T112504Z
LAST-MODIFIED:20250131T112753Z
UID:13298-1739651400-1739660400@jazz-in-berlin.net
SUMMARY:Hyperbolic 
DESCRIPTION:Rieko Okuda synthesizer\, electronics Nils Ostendorf trumpet\, electronics Simon Camatta drums  \n\n\n\nriekookuda.com | nilsostendorf.com | simoncamatta.yolasite.com \n\n\n\nHyperbolic \n\n\n\n \n\n\n\n\n\n\n\n\n\nPINK CITRONSvon Rieko OkudaHanna Schörken – Stimme VoiceRieko Okuda – Klavier Piano\, Synth\n\n\n\n\n\nNils Ostendorf Theatre Musicvon Nils Ostendorf\n\n\n\n\n\nG.U.T.von Simon Camatta\n\n\n\n\n\n\n\n\n\n\n\n\n\n\n\n\n\nHyperbolic  @sowieso\n\n\n\nJazz Clubs Berlin \n\n\n\nAlle Angaben ohne Gewähr
URL:https://jazz-in-berlin.net/event/hyperbolic/
LOCATION:Sowieso\, Weisestraße 24\, Berlin\, 12049
ATTACH;FMTTYPE=image/jpeg:https://cortex.persona.co/w/696/q/67/i/ef08edefeaf2227488ee7ad85924c3612b27dea492d11a9145417efdc766b789/wallpaper-green.jpg
END:VEVENT
BEGIN:VEVENT
DTSTART;TZID=Europe/Berlin:20250215T210000
DTEND;TZID=Europe/Berlin:20250215T233000
DTSTAMP:20260425T155934
CREATED:20250117T120200Z
LAST-MODIFIED:20250212T105601Z
UID:11973-1739653200-1739662200@jazz-in-berlin.net
SUMMARY:Ramiro Olaciregui „Mini“-BigBand
DESCRIPTION:Johannes Böhmer trumpetArtur Rutkevich alto saxophone Marc Doffey tenor saxophoneColin Lloyd tromboneElli Sooss bariton saxophoneIrma Neumüller vocals Khadim Ndome vibraphoneSung Eun Noh pianoMax Leiss bassMathias Ruppnig drumsRamiro Olaciregui guitar\, composition \n\n\n\nramiro-olaciregui.com/jazzorchestra \n\n\n\n\n\n\n\n\n\nRamiro Olaciregui „Mini“-BigBand\n\n\n\nRamiro Olaciregui Jazz Orchestra (R.O.J.O) „Von Neumann“ YOUTUBE\n\n\n\n\n\n\n\n\n\n\n\n\n\n\n\n\n\nRamiro Olaciregui „Mini“-BigBand @B-Flat\n\n\n\nJazz Clubs Berlin   \n\n\n\nAlle Angaben ohne Gewähr
URL:https://jazz-in-berlin.net/event/ramiro-olaciregui-mini-bigband/
LOCATION:B-Flat\, Dircksenstraße 40\, Berlin\, 10178
ATTACH;FMTTYPE=:
END:VEVENT
BEGIN:VEVENT
DTSTART;TZID=Europe/Berlin:20250215T210000
DTEND;TZID=Europe/Berlin:20250215T233000
DTSTAMP:20260425T155934
CREATED:20250117T163149Z
LAST-MODIFIED:20250416T063002Z
UID:12111-1739653200-1739662200@jazz-in-berlin.net
SUMMARY:UniBigband Berlin
DESCRIPTION:Winni Schwedland\, Merle Helm – AltsaxophonTill Flamme-Brüne\, Leonard Sima – TenorsaxophonChristoph Witt – BaritonsaxophonJonathan Kamzelak\, Moritz Lübben\, Noah Jens\, Felipe Durán Marquard — TrompeteJonathan Woodruff\, Malte Hinrichs – PosauneAlaina Mack – Posaune / GesangBéla Hüsges – BassposauneMika Netzker – GitarreGerrit Rößler – PianoBasti Kruck – BassEmil Heck – SchlagzeugLeitung – Martin GerwigKoordination/CM – Tobias Gühne \n\n\n\ncollegium-musicum-berlin \n\n\n\n\n\nUniBigband Berlin\n\n\n\n\n\n\n\nUniBigband Berlin @Kunsfabrik Schlot\n\n\n\nJazz Clubs Berlin \n\n\n\nAlle Angaben ohne Gewähr
URL:https://jazz-in-berlin.net/event/unibigband-berlin-20/
LOCATION:Kunstfabrik Schlot\, Invalidenstraße 117\, Berlin\, 10115
ATTACH;FMTTYPE=image/jpeg:https://jazz-in-berlin.net/wp-content/uploads/2024/07/Kunstfabrink-Logo-20.jpg
END:VEVENT
BEGIN:VEVENT
DTSTART;TZID=Europe/Berlin:20250215T210000
DTEND;TZID=Europe/Berlin:20250215T235900
DTSTAMP:20260425T155934
CREATED:20250131T123343Z
LAST-MODIFIED:20250315T112539Z
UID:13309-1739653200-1739663940@jazz-in-berlin.net
SUMMARY:Ludwig Hornung Quintet
DESCRIPTION:Ludwig Hornung – pianoMagnus Schriefl – trumpetHenrik Walsdorff – saxophoneMatthias Pichler – bassIvars Arutyunyan – drums \n\n\n\nludwighornung.de \n\n\n\nLudwig Hornung Quintet\n\n\n\n\n\n\n\n\n\n\n\nStrukturenvon Hornung TrioLudwig Hornung: piano\, compositionsPhil Donkin: double bassBernd Oezsevim: drums\n\n\n\n\n\nSpielerHornung Trio\, Ludwig Hornung\, Phil Donkin\, Bernd Oezsevim\n\n\n\n\n\nLudwig Hornung Quintet @Zig Zag\n\n\n\nJazz Clubs Berlin \n\n\n\nAlle Angaben ohne Gewähr
URL:https://jazz-in-berlin.net/event/ludwig-hornung-quintet/
LOCATION:Zig Zag\, Hauptstraße 89\, Berlin\, 12159
ATTACH;FMTTYPE=image/jpeg:https://images.squarespace-cdn.com/content/v1/55146be5e4b0392be71840b6/1431516196750-KT8J11AC198OTFSL66PV/ZZ+full+burgundy+transparent.png?format=1500w
END:VEVENT
END:VCALENDAR