BEGIN:VCALENDAR
VERSION:2.0
PRODID:-//Berlin Jazz - ECPv6.15.11//NONSGML v1.0//EN
CALSCALE:GREGORIAN
METHOD:PUBLISH
X-ORIGINAL-URL:https://jazz-in-berlin.net
X-WR-CALDESC:Veranstaltungen für Berlin Jazz
REFRESH-INTERVAL;VALUE=DURATION:PT1H
X-Robots-Tag:noindex
X-PUBLISHED-TTL:PT1H
BEGIN:VTIMEZONE
TZID:Europe/Berlin
BEGIN:DAYLIGHT
TZOFFSETFROM:+0100
TZOFFSETTO:+0200
TZNAME:CEST
DTSTART:20240331T010000
END:DAYLIGHT
BEGIN:STANDARD
TZOFFSETFROM:+0200
TZOFFSETTO:+0100
TZNAME:CET
DTSTART:20241027T010000
END:STANDARD
BEGIN:DAYLIGHT
TZOFFSETFROM:+0100
TZOFFSETTO:+0200
TZNAME:CEST
DTSTART:20250330T010000
END:DAYLIGHT
BEGIN:STANDARD
TZOFFSETFROM:+0200
TZOFFSETTO:+0100
TZNAME:CET
DTSTART:20251026T010000
END:STANDARD
BEGIN:DAYLIGHT
TZOFFSETFROM:+0100
TZOFFSETTO:+0200
TZNAME:CEST
DTSTART:20260329T010000
END:DAYLIGHT
BEGIN:STANDARD
TZOFFSETFROM:+0200
TZOFFSETTO:+0100
TZNAME:CET
DTSTART:20261025T010000
END:STANDARD
END:VTIMEZONE
BEGIN:VEVENT
DTSTART;TZID=Europe/Berlin:20250220T190000
DTEND;TZID=Europe/Berlin:20250220T223000
DTSTAMP:20260425T155053
CREATED:20250121T181837Z
LAST-MODIFIED:20250121T182416Z
UID:12663-1740078000-1740090600@jazz-in-berlin.net
SUMMARY:Chess & Jazz Berlin Vol.58
DESCRIPTION:Paulo Morello guitar Marc Muellbauer bass Heinrich Köbberling drums \n\n\n\n\n\nChess & Jazz Berlin Vol.58\n\n\n\n\n\nChess & Jazz Berlin Vol.58\n\n\n\nJazz Clubs Berlin \n\n\n\nAlle Angaben ohne Gewähr
URL:https://jazz-in-berlin.net/event/chess-jazz-berlin-vol-58/
LOCATION:Chess & Jazz Café Holzmarktperle\, Holzmarktstraße 25\, Berlin\, 10243
ATTACH;FMTTYPE=image/jpeg:https://chessandjazz.de/img/logo.jpeg
END:VEVENT
BEGIN:VEVENT
DTSTART;TZID=Europe/Berlin:20250220T200000
DTEND;TZID=Europe/Berlin:20250220T223000
DTSTAMP:20260425T155053
CREATED:20250128T173645Z
LAST-MODIFIED:20250128T173836Z
UID:13146-1740081600-1740090600@jazz-in-berlin.net
SUMMARY:Corsano\, Pitsiokos & Zimmermann 
DESCRIPTION:Chris Corsano drums Tizia Zimmermann accordion Chris Pitsiokos alto sax   \n\n\n\nChris Corsano: „…arguably the most riotously energetic and creative drummer in contemporary free jazz“ – Wire Magazine„One of the world’s great drummers.“ -The Guardian  \n\n\n\nTizia Zimmermann Wikipedia: Mit Pablo Lienhard legte sie 2021 das Duoalbum «Kaputt» vor\, dem 2024 das Album «Organ» (wiederum beim Label «Wide Ear Records») folgte. Mit dem Atelierstipendium der Stadt Zürich hatte sie 2023 die Möglichkeit\, ein halbes Jahr in New York zu leben. Sie wirkte im Duo mit dem Schlagzeuger Jason Nazary\, mit dem sie das Album «particularly irrelevant» bei «Wide Ear Records» veröffentlichte. Weiterhin bildete sie ein Trio mit dem Saxophonisten Chris Pitsiokos und dem Schlagzeuger Chris Corsano. Mit dem Saxophonisten Nik Gross legte sie 2024 «Midway Through the Mist: A Diary of Dialogues» vor. \n\n\n\nChris Pitsiokos ALBUMS: I have made a lot of them. I am not sure how many records I appear on\, but the below is a comprehensive (I think) list of albums I am leader or co-leader of. Many of them are available on my bandcamp page. Most of the others can probably be found after a quick internet search. A handful of them\, including all made 2015 or before\, are totally sold out and really hard to track down\, but they still exist in digital form online. \n\n\n\nCorsano\, Pitsiokos & Zimmermann\n\n\n\n\n\nOrganTizia Zimmermann\, Pablo Lienhard\n\n\n\n\n\nThe Key (Became the Important Thing [and Then Just Faded Away])von Chris Corsano\n\n\n\n\n\nKhimairavon Child of IllusionChris Pitsiokos – alto saxophoneSusana Santos Silva – trumpetTorbjörn Zetterberg – double bass\n\n\n\n\n\n\n\n\n\n\n\n\n\n\n\nCorsano\, Pitsiokos & Zimmermann  @KM-28\n\n\n\nJazz Clubs Berlin \n\n\n\nAlle Angaben ohne Gewähr
URL:https://jazz-in-berlin.net/event/corsano-pitsiokos-zimmermann/
LOCATION:KM 28\, Karl-Marx-Straße 28\, Berlin\, 12043
ATTACH;FMTTYPE=image/jpeg:https://jazz-in-berlin.net/wp-content/uploads/2023/06/KM-28-Logo-20.jpg
END:VEVENT
BEGIN:VEVENT
DTSTART;TZID=Europe/Berlin:20250220T200000
DTEND;TZID=Europe/Berlin:20250220T230000
DTSTAMP:20260425T155053
CREATED:20250121T183924Z
LAST-MODIFIED:20250216T073057Z
UID:12674-1740081600-1740092400@jazz-in-berlin.net
SUMMARY:Duo Brand Rupp – 10 Jahre
DESCRIPTION:Ulrike Brand CelloOlaf Rupp Elektrische Gitarre \n\n\n\nDas Duo der Cellistin Ulrike Brand und des Gitarristen Olaf Rupp besteht seit zehn Jahren. Dies wird mit einem Konzert und einem anschließenden Empfang gefeiert. \n\n\n\nDas Konzert wird als Livestream auf unserem YouTube-Kanal übertragen: https://www.youtube.com/exploratoriumberlin \n\n\n\nDuo Brand Rupp – 10 Jahre\n\n\n\n\n\n\n\n\n\n\n\nMyotis Myotisvon Ulrike Brand & Olaf Rupp\n\n\n\n\n\nShadowscoresvon Ulrike Brand & Olaf Rupp\n\n\n\n\n\nDuo Brand Rupp – 10 Jahre
URL:https://jazz-in-berlin.net/event/duo-brand-rupp-10-jahre/
LOCATION:Exploratorium\, Zossener Straße 24\, Berlin\, 10961
ATTACH;FMTTYPE=image/jpeg:https://jazz-in-berlin.net/wp-content/uploads/2025/01/exploratorium.jpg
END:VEVENT
BEGIN:VEVENT
DTSTART;TZID=Europe/Berlin:20250220T203000
DTEND;TZID=Europe/Berlin:20250220T230000
DTSTAMP:20260425T155053
CREATED:20250121T070032Z
LAST-MODIFIED:20250121T071948Z
UID:12547-1740083400-1740092400@jazz-in-berlin.net
SUMMARY:Nebbia Banner Andrzejewski: Presencia
DESCRIPTION:Camila Nebbia tenor sax James Banner double bass Max Andrzejewski drums \n\n\n\njamesbanner.com/nebbiabannerandrzejewski_de \n\n\n\nDieses Trio bringt einen rohen Impuls in ihre eigene\, im Jazz verwurzelte Musik\, sowie Mutationen und Erneuerungen ritueller musikalischer Formen. In 2025 werden sie ihr Debütalbum veröffentlichen. \n\n\n\nNebbia Banner Andrzejewski: Presencia\n\n\n\n \n\n\n\n\n\nCamila Nebbia / James Banner / Max Andrzejewski: Presencia (Live Teaser) YOUTUBE\n\n\n\n\n\nAltered Visionsvon Grand/Nebbia/Sánchez/Mendenhall/Fernández\n\n\n\n\n\nDRESSAGEvon Borage (Megan Jowett / James Banner)\n\n\n\n\n\nOuternational: Songs of Woundingvon Mariana Sadovska\, Max Andrzejewski\, Trio Kurbasy & Ensemble\n\n\n\n\n\n\n\n\n\n\n\nNebbia Banner Andrzejewski: Presencia @sowieso\n\n\n\nJazz Clubs Berlin \n\n\n\nAlle Angaben ohne Gewähr
URL:https://jazz-in-berlin.net/event/nebbia-banner-andrzejewski-presencia/
LOCATION:Sowieso\, Weisestraße 24\, Berlin\, 12049
ATTACH;FMTTYPE=image/jpeg:https://cortex.persona.co/w/696/q/67/i/ef08edefeaf2227488ee7ad85924c3612b27dea492d11a9145417efdc766b789/wallpaper-green.jpg
END:VEVENT
BEGIN:VEVENT
DTSTART;TZID=Europe/Berlin:20250220T203000
DTEND;TZID=Europe/Berlin:20250220T230000
DTSTAMP:20260425T155053
CREATED:20250125T141700Z
LAST-MODIFIED:20250125T145350Z
UID:12856-1740083400-1740092400@jazz-in-berlin.net
SUMMARY:Giorgi Kiknadze´s New Trio
DESCRIPTION:Ronny Graupe – guitarFabian Arends – drumsGiorgi Kiknadze – bass\, composition \n\n\n\nwiki/Giorgi_Kiknadze | fabianarends.com | ronnygraupe.com \n\n\n\n\n\nGiorgi Kiknadze´s New Trio\n\n\n\n \n\n\n\n\n\n\n\nThe Great Puzzleby Lucas Etcheverria – guitarJonas Oppermann – piano Giorgi Kiknadze – double bassRafa Müller – drums\n\n\n\n\n\nFracturesby Fabian Arends – drums\, compositionsPhilip Zoubek – piano\, prepared pianoShannon Barnett – tromboneRadek Stawarz – violaDavid Helm – bass\n\n\n\n\n\nRowkby Rowk (Graupe\, Kalima\, Slawin\, Steidle)Kalle Kalima – guitRonny Graupe – guitWanja Slawin – asOli Steidle – dr\n\n\n\n\n\nGiorgi Kiknadze´s New Trio @ Donau 115\n\n\n\nJazzclubs Berlin \n\n\n\nalle Angaben ohne Gewähr
URL:https://jazz-in-berlin.net/event/giorgi-kiknadzes-new-trio/
LOCATION:Donau 115\, Donaustrasse 115\, Berlin\, 12043
ATTACH;FMTTYPE=:
END:VEVENT
BEGIN:VEVENT
DTSTART;TZID=Europe/Berlin:20250220T203000
DTEND;TZID=Europe/Berlin:20250220T233000
DTSTAMP:20260425T155053
CREATED:20250116T134905Z
LAST-MODIFIED:20250213T132029Z
UID:11843-1740083400-1740094200@jazz-in-berlin.net
SUMMARY:Alexander von Schlippenbach @ A-Trane
DESCRIPTION:Alexander von Schlippenbach – PianoAxel Doerner – TrumpetRudi Mahall – Bass ClarinetJan Roder – BassKasper Tom – Drums \n\n\n\nAlexander von Schlippenbach @ A-Trane\n\n\n\n\n\nSo Long\, Eric! Homage to Eric Dolphyvon AKI TAKASE – ALEXANDER VON SCHLIPPENBACH with Karl Berger\, Rudi Mahall\, Han Bennink\, et al.\n\n\n\n\n\nMonks Casino – The Complete Works of Thelonious Monkvon ALEXANDER VON SCHLIPPENBACH\, AXEL DÖRNER\, RUDI MAHALL\, JAN RODER\, ULI JENNESSEN\n\n\n\n\n\n\n\n\n\n\n\nAlexander von Schlippenbach @A-Trane\n\n\n\nJazz Clubs Berlin \n\n\n\nAlle Angaben ohne Gewähr
URL:https://jazz-in-berlin.net/event/alexander-von-schlippenbach-a-trane-2/
LOCATION:A-Trane\, Bleibtreustraße 1\, Berlin\, 10625
ATTACH;FMTTYPE=:
END:VEVENT
BEGIN:VEVENT
DTSTART;TZID=Europe/Berlin:20250220T210000
DTEND;TZID=Europe/Berlin:20250220T233000
DTSTAMP:20260425T155053
CREATED:20250117T122253Z
LAST-MODIFIED:20250216T073141Z
UID:11990-1740085200-1740094200@jazz-in-berlin.net
SUMMARY:Brede Sørum Quartet
DESCRIPTION:Brede Sørum alt & sopran saxophoneOliver Skou-Due pianoBendik Løland Lundsvoll bassSteinar Heide Bø drums \n\n\n\nbredesrum.wixsite.com/bredesorum \n\n\n\n\n\n\n\n\n\nBrede Sørum Quartet\n\n\n\nDas Brede Sørum Quartet ist eine neue\, aufregende und kompromisslose Band unter der Leitung des aufstrebeneden talentierten norwegischen Saxophonisten Brede Sørum. Das junge Quartett bietet akustische Musik\, die brodelt mit purer jugendlicher Energie\, aber mit einer Reife und einem musikalischen Überschuss auf Augenhöhe mit dem Erfahrenen Titanen. Das ist Musik\, die sowohl atmet als auch explodiert\, immer mit einem Extra-Gang im Gepäck. \n\n\n\n\n\n\n\n\n\nSPIRITBrede Sørum Quartet\n\n\n\n\n\n\n\n\n\nThe Brede Sørum Quartet is a new\, exciting and uncompromising band led by the up-and-coming talented Norwegian saxophonist Brede Sørum. The young quartet offers acoustic music that bubbles with pure youthful energy\, but with a maturity and musical exuberance on a par with the seasoned titan. This is music that both breathes and explodes\, always with an extra gear in its luggage. \n\n\n\nBrede Sørum Quartet @B-Flat\n\n\n\nJazz Clubs Berlin   \n\n\n\nAlle Angaben ohne Gewähr
URL:https://jazz-in-berlin.net/event/brede-sorum-quartet/
LOCATION:B-Flat\, Dircksenstraße 40\, Berlin\, 10178
ATTACH;FMTTYPE=image/jpeg:https://jazz-in-berlin.net/wp-content/uploads/2024/08/B-Flat-Logo-50.jpg
END:VEVENT
BEGIN:VEVENT
DTSTART;TZID=Europe/Berlin:20250220T210000
DTEND;TZID=Europe/Berlin:20250220T235900
DTSTAMP:20260425T155053
CREATED:20240718T050200Z
LAST-MODIFIED:20250131T124520Z
UID:5004-1740085200-1740095940@jazz-in-berlin.net
SUMMARY:Lisa Bassenge & Band
DESCRIPTION:Lisa Bassenge – vocalsAndreas Lang – bassLarry Porter – pianoJoe Smith – drums \n\n\n\nLisa Bassenge & Band\n\n\n\n \n\n\n\n\n\n\n\n\n\n\n\n\nLisa Bassenge vocal\n\n\n\n\nLisa Bassenge & Band @Zig Zag\n\n\n\nJazz Clubs Berlin \n\n\n\nAlle Angaben ohne Gewähr
URL:https://jazz-in-berlin.net/event/lisa-bassenge-band/
LOCATION:Zig Zag\, Hauptstraße 89\, Berlin\, 12159
ATTACH;FMTTYPE=image/jpeg:https://images.squarespace-cdn.com/content/v1/55146be5e4b0392be71840b6/1431516196750-KT8J11AC198OTFSL66PV/ZZ+full+burgundy+transparent.png?format=1500w
END:VEVENT
END:VCALENDAR