BEGIN:VCALENDAR
VERSION:2.0
PRODID:-//Berlin Jazz - ECPv6.15.11//NONSGML v1.0//EN
CALSCALE:GREGORIAN
METHOD:PUBLISH
X-ORIGINAL-URL:https://jazz-in-berlin.net
X-WR-CALDESC:Veranstaltungen für Berlin Jazz
REFRESH-INTERVAL;VALUE=DURATION:PT1H
X-Robots-Tag:noindex
X-PUBLISHED-TTL:PT1H
BEGIN:VTIMEZONE
TZID:Europe/Berlin
BEGIN:DAYLIGHT
TZOFFSETFROM:+0100
TZOFFSETTO:+0200
TZNAME:CEST
DTSTART:20240331T010000
END:DAYLIGHT
BEGIN:STANDARD
TZOFFSETFROM:+0200
TZOFFSETTO:+0100
TZNAME:CET
DTSTART:20241027T010000
END:STANDARD
BEGIN:DAYLIGHT
TZOFFSETFROM:+0100
TZOFFSETTO:+0200
TZNAME:CEST
DTSTART:20250330T010000
END:DAYLIGHT
BEGIN:STANDARD
TZOFFSETFROM:+0200
TZOFFSETTO:+0100
TZNAME:CET
DTSTART:20251026T010000
END:STANDARD
BEGIN:DAYLIGHT
TZOFFSETFROM:+0100
TZOFFSETTO:+0200
TZNAME:CEST
DTSTART:20260329T010000
END:DAYLIGHT
BEGIN:STANDARD
TZOFFSETFROM:+0200
TZOFFSETTO:+0100
TZNAME:CET
DTSTART:20261025T010000
END:STANDARD
END:VTIMEZONE
BEGIN:VEVENT
DTSTART;TZID=Europe/Berlin:20250227T200000
DTEND;TZID=Europe/Berlin:20250227T223000
DTSTAMP:20260425T155851
CREATED:20250127T114201Z
LAST-MODIFIED:20250210T165459Z
UID:12997-1740686400-1740695400@jazz-in-berlin.net
SUMMARY:Duo Aliada
DESCRIPTION:„Tales“ \n\n\n\nMichal Knot – SaxophoneBogdan Laketic – Accordeon \n\n\n\nduoaliada.com \n\n\n\n\n\nDuo Aliada\n\n\n\n\n\nDer Saxophonist Michal Knot und der Akkordeonist Bogdan Laketic gründeten das Duo Aliada im Jahr 2013 während ihres Studiums an der Musikuniversität in Wien. Was die Neugierde weckte und die beiden Musiker motivierte\, ein Duo zu gründen\, waren die einzigartigen Klangmöglichkeiten und das enorme Ausdruckspotenzial dieser ungewöhnlichen Instrumentenkombination. \n\n\n\nEast WestDuo Aliada\n\n\n\n\n\n„Wie gut Saxophon und Akkordeon zusammen klingen\, ist spätestens seit dem Duo Aliada bekannt.“ – Der Falter \n\n\n\n„Das Duo Aliada hat ein so hohes technisches Niveau\, das alles musikalisch möglich macht. Sie spielen immer mit einer einzigartigen Kreativität\, die absolut fesselt. Fantastisch!“ – Remy Franck  \n\n\n\n\n\n\n\nNew Colours of the PastDuo Aliada\n\n\n\n\n\n\n\n\n\nDuo Aliada @ Piano Salon Christophori\n\n\n\nJazz Clubs Berlin \n\n\n\nAlle Angaben ohne Gewähr
URL:https://jazz-in-berlin.net/event/duo-aliada/
LOCATION:Piano Salon Christophori\, Uferstr.8\, Berlin\, 13357
ATTACH;FMTTYPE=:
END:VEVENT
BEGIN:VEVENT
DTSTART;TZID=Europe/Berlin:20250227T200000
DTEND;TZID=Europe/Berlin:20250227T230000
DTSTAMP:20260425T155851
CREATED:20241029T063800Z
LAST-MODIFIED:20250212T171953Z
UID:8020-1740686400-1740697200@jazz-in-berlin.net
SUMMARY:Leo's Latin Jam
DESCRIPTION:Leo’s Latin JamLatin Jam Session \n\n\n\n\n\nLeo’s Latin Jam\n\n\n\n\n\n\n\n\n\n\n\n\n\n\n\n\n\nLeo’s Latin Jam @Yorckschlösschen\n\n\n\nJazz Clubs Berlin \n\n\n\nAlle Angaben ohne Gewähr
URL:https://jazz-in-berlin.net/event/leos-latin-jam/
LOCATION:Yorckschlösschen\, Yorckstraße 15\, Berlin\, 10965
ATTACH;FMTTYPE=image/jpeg:https://jazz-in-berlin.net/wp-content/uploads/2024/06/Yorckschloesschen-Logo-30.jpg
END:VEVENT
BEGIN:VEVENT
DTSTART;TZID=Europe/Berlin:20250227T200000
DTEND;TZID=Europe/Berlin:20250227T230000
DTSTAMP:20260425T155851
CREATED:20250121T142753Z
LAST-MODIFIED:20250121T142841Z
UID:12644-1740686400-1740697200@jazz-in-berlin.net
SUMMARY:Graupe Kempendorff Terzic
DESCRIPTION:Ronny Graupe – seven-string guitarUli Kempendorff – sax\, clarinetDejan Terzic – drums\, percussion \n\n\n\nronnygraupe.com | ulikempendorff.de | dejanterzic.com \n\n\n\n\n\nGraupe Kempendorff Terzic\n\n\n\n\n\n\n\n\n\n\n\n\n\n\n\n\n\n\n\n\n\n\n\nFabulaeClara Vetter Trio feat. Ronny Graupe\n\n\n\n\n\nErntevon ErnteBenjamin Weidekamp\, as/clUli Kempendorff\, ts/clEvi Filippou\, vib/percKaspar von Grünigen\, bDavid Meier\, dr\n\n\n\n\n\nMelanoiaChristian Weidner saxJozef Dumoulin pno\, fender rhodesRonny Graupe  gitDejan Terzic dr/compRelease APRIL 2018\n\n\n\n\n\nGraupe Kempendorff Terzic @Kühlspot Social Club\n\n\n\nJazzclubs Berlin \n\n\n\nalle Angaben ohne Gewähr
URL:https://jazz-in-berlin.net/event/graupe-kempendorff-terzic/
LOCATION:Kühlspot Social Club\, Lehderstraße 74\, Berlin\, 13086
ATTACH;FMTTYPE=:
END:VEVENT
BEGIN:VEVENT
DTSTART;TZID=Europe/Berlin:20250227T200000
DTEND;TZID=Europe/Berlin:20250227T230000
DTSTAMP:20260425T155851
CREATED:20250216T162737Z
LAST-MODIFIED:20250216T162738Z
UID:14336-1740686400-1740697200@jazz-in-berlin.net
SUMMARY:Black Flower
DESCRIPTION:Nathan Daems saxophone\, fluteJon Birdsong trumpetSimon Segers drumsFilip Vandebril bassKarel Cuelenaere organ \n\n\n\nblackflower.be \n\n\n\nSeit über einem Jahrzehnt erforschen Black Flower ständig neue Klänge und verfeinern ihr Handwerk zu einem unvergleichlichen Stil. Mit dem Instrumentarium des Jazz erforschen sie die Welt\, und ihre verschlungene und psychedelische Melange gehört zur Avantgarde des Future-Jazz. Rollende Trommeln\, Hirtenflöten\, psychedelische Sequenzen\, gehauchte Melodien und verschwommene Arrangements vereinen sich zu einer lebendigen und berauschenden Mischung. \n\n\n\nÜbersetzt mit DeepL.com (kostenlose Version) \n\n\n\nBlack Flower\n\n\n\n\n\n\n\n\n\n\n\nKineticvon Black Flower\n\n\n\n\n\nFuture Floravon Black Flower\n\n\n\n\n\nBlack Flower\n\n\n\n@ Privat Club \n\n\n\nJazz Clubs Berlin \n\n\n\nAlle Angaben ohne Gewähr
URL:https://jazz-in-berlin.net/event/black-flower/
LOCATION:Privat Club\, Skalitzer Straße 85-86\, Berlin\, 10997
ATTACH;FMTTYPE=image/jpeg:https://jazz-in-berlin.net/wp-content/uploads/2025/02/privatclub-skalitzer.jpg
END:VEVENT
BEGIN:VEVENT
DTSTART;TZID=Europe/Berlin:20250227T200000
DTEND;TZID=Europe/Berlin:20250227T233000
DTSTAMP:20260425T155851
CREATED:20241227T105335Z
LAST-MODIFIED:20241227T105827Z
UID:10614-1740686400-1740699000@jazz-in-berlin.net
SUMMARY:Jim Funnell 's word out new dream
DESCRIPTION:Jazz am Helmholtzplatz Brotfabrik  \n\n\n\nJim Funnell – pianoHolger Scheidt – bassAkiko Horii – percussionJoe Hertenstein – drums \n\n\n\nfunnelljazz.eu \n\n\n\n\n\nJim Funnell ’s word out new dream\n\n\n\n\n\n\n\nNew Dreamvon Jim Funnell’s Word Out\n\n\n\n\n\nWord Outvon Jim Funnell\n\n\n\n\n\n \n\n\n\nJim Funnell ’s word out new dream – @Jazz Am Helmholtzplatz – Brotfabrik\n\n\n\nJazz Clubs Berlin
URL:https://jazz-in-berlin.net/event/jim-funnell-s-word-out-new-dream/
LOCATION:Brotfabrik\, Caligariplatz 1\, Berlin\, 13086
ATTACH;FMTTYPE=image/jpeg:https://jazz-in-berlin.net/wp-content/uploads/2024/12/brotfabrik.jpg
END:VEVENT
BEGIN:VEVENT
DTSTART;TZID=Europe/Berlin:20250227T203000
DTEND;TZID=Europe/Berlin:20250227T223000
DTSTAMP:20260425T155851
CREATED:20250209T103738Z
LAST-MODIFIED:20250209T104039Z
UID:13632-1740688200-1740695400@jazz-in-berlin.net
SUMMARY:Christian von der Goltz Trio
DESCRIPTION:Christian von der Goltz – PianoOlaf Casimir – BassLenny Rehm – Drums \n\n\n\n\n\nChristian von der Goltz Trio\n\n\n\n\n\n\n\n\nChristian von der Goltz Limbo\n\n\n\n\n\n\n\n\nChristian von der Goltz Trio @A-Trane\n\n\n\nJazz Clubs Berlin \n\n\n\nAlle Angaben ohne Gewähr
URL:https://jazz-in-berlin.net/event/christian-von-der-goltz-trio/
LOCATION:A-Trane\, Bleibtreustraße 1\, Berlin\, 10625
ATTACH;FMTTYPE=:
END:VEVENT
BEGIN:VEVENT
DTSTART;TZID=Europe/Berlin:20250227T203000
DTEND;TZID=Europe/Berlin:20250227T230000
DTSTAMP:20260425T155851
CREATED:20250121T073819Z
LAST-MODIFIED:20250121T074248Z
UID:12556-1740688200-1740697200@jazz-in-berlin.net
SUMMARY:Jacquemyn Nakatami Cyrino Koole
DESCRIPTION:Peter Jacquemyn double bass Tatsuya Nakatami percussion Marina Cyrino flutes Matthias Koole guitar \n\n\n\njacquemyn.com | tatsuyanakatani.commarinacyrino.art.br | matthiaskoole.com \n\n\n\nJacquemyn Nakatami Cyrino Koole\n\n\n\n \n\n\n\n\n\n\n\nlpd 005: peter jacquemyn double-bass solovon Peter Jacquemyn\n\n\n\n\n\nVestigevon Tetsuya Nakayama\n\n\n\n\n\nTrês-Tríade-Triângulo-Triovon Infinito Menos\n\n\n\n\n\n\n\n\n\n\n\nJacquemyn Nakatami Cyrino Koole @sowieso\n\n\n\nJazz Clubs Berlin \n\n\n\nAlle Angaben ohne Gewähr
URL:https://jazz-in-berlin.net/event/jacquemyn-nakatami-cyrino-koole/
LOCATION:Sowieso\, Weisestraße 24\, Berlin\, 12049
ATTACH;FMTTYPE=image/jpeg:https://cortex.persona.co/w/696/q/67/i/ef08edefeaf2227488ee7ad85924c3612b27dea492d11a9145417efdc766b789/wallpaper-green.jpg
END:VEVENT
BEGIN:VEVENT
DTSTART;TZID=Europe/Berlin:20250227T203000
DTEND;TZID=Europe/Berlin:20250227T230000
DTSTAMP:20260425T155852
CREATED:20250125T145339Z
LAST-MODIFIED:20250212T140600Z
UID:12862-1740688200-1740697200@jazz-in-berlin.net
SUMMARY:Joris Roelofs - Red Flag
DESCRIPTION:Joris Roelofs SoloJoris Roelofs – bass clarinet \n\n\n\nTobias Delius & Declan FordeTobias Delius – saxophoneDeclan Forde – piano \n\n\n\njorisroelofs.com | wiki/Tobias_Delius | declanfordemusic.com \n\n\n\n\n\nJoris Roelofs – Red Flag\n\n\n\n \n\n\n\n\n\n\n\nKind of BeethovenXavi Torres\, Joris Roelofs\, Joan Terol\n\n\n\n\n\nRope DanceJoris Roelofs\n\n\n\n\n\nIntroducing Joris RoelofsJoris Roelofs\n\n\n\n\n\nJoris Roelofs – Red Flag @ Donau 115\n\n\n\nJazzclubs Berlin \n\n\n\nalle Angaben ohne Gewähr
URL:https://jazz-in-berlin.net/event/joris-roelofs-red-flag/
LOCATION:Donau 115\, Donaustrasse 115\, Berlin\, 12043
ATTACH;FMTTYPE=:
END:VEVENT
BEGIN:VEVENT
DTSTART;TZID=Europe/Berlin:20250227T210000
DTEND;TZID=Europe/Berlin:20250227T230000
DTSTAMP:20260425T155852
CREATED:20250127T154936Z
LAST-MODIFIED:20250209T132612Z
UID:13059-1740690000-1740697200@jazz-in-berlin.net
SUMMARY:Nordic Noir
DESCRIPTION:1. Set: Anders Aarum pianoJens Fossum bassHermund Nygard drums \n\n\n\n2. Set: Hilde Louise Asbjørnsen vocals Anders Aarum pianoJens Fossum bassHermund Nygard drums \n\n\n\nhildelouise.no | ozellamusic.com/anders-aarum \n\n\n\nZwei exklusive Sets voller Rhythmus\, Eleganz und hypnotisierender Melodien – knackig und düster wie ein skandinavischer Thriller. Ihre neuesten Alben wurden in Deutschland bei Ozella Music veröffentlicht. \n\n\n\n\n\nNordic Noir\n\n\n\n\n\n\n\n\n\nA Swing of Its Own (Live)Hilde Louise Asbjørnsen\, Kaba Orchestra\n\n\n\n\n\nOslo PuzzleAnders Aarum Trio\n\n\n\n\n\nNordic Noir @B-Flat\n\n\n\nJazz Clubs Berlin   \n\n\n\nAlle Angaben ohne Gewähr
URL:https://jazz-in-berlin.net/event/nordic-noir/
LOCATION:B-Flat\, Dircksenstraße 40\, Berlin\, 10178
ATTACH;FMTTYPE=:
END:VEVENT
BEGIN:VEVENT
DTSTART;TZID=Europe/Berlin:20250227T210000
DTEND;TZID=Europe/Berlin:20250227T235900
DTSTAMP:20260425T155852
CREATED:20241116T085102Z
LAST-MODIFIED:20250131T131719Z
UID:8854-1740690000-1740700740@jazz-in-berlin.net
SUMMARY:Dorrey Lin Lyles
DESCRIPTION:Dorrey Lin Lyles – vocalsHelmut Bruger – keyboardJC Dook – guitarSebastian Vogel – bassConnor Fitzgerald – drums \n\n\n\nDorrey Lin Lyles\n\n\n\n \n\n\n\n\n\n\n\n\n\n\n\n\n\nMy Realized DreamDorrey Lyles\n\n\n\n\n\n\nJC DOOK Creepin‘ Travelin‘ & Talkin‘\n\n\n\n\n\n\nDorrey Lyles – Dancing In The Rain – Official Video YOUTUBE\n\n\n\nDorrey Lin Lyles @Zig Zag\n\n\n\nJazz Clubs Berlin \n\n\n\nAlle Angaben ohne Gewähr
URL:https://jazz-in-berlin.net/event/dorrey-lin-lyles/
LOCATION:Zig Zag\, Hauptstraße 89\, Berlin\, 12159
ATTACH;FMTTYPE=:
END:VEVENT
BEGIN:VEVENT
DTSTART;TZID=Europe/Berlin:20250227T210000
DTEND;TZID=Europe/Berlin:20250227T235900
DTSTAMP:20260425T155852
CREATED:20250127T130726Z
LAST-MODIFIED:20250127T130914Z
UID:13026-1740690000-1740700740@jazz-in-berlin.net
SUMMARY:BalkaNova
DESCRIPTION:Viktoria Lasaroff vocals\, accorden\, percussion Andreas Brunn guitar Robin Draganic bassVladimir Karparov saxophoneManuel Podhostnik drums Shingo Masuda kanun\, zither\, flute Mladen Stoyanov violin \n\n\n\nakustik-art-kontakt.de/balkanova \n\n\n\nDas internationale Ensemble\, mit der fantastischen bulgarischen Sängerin Viktoria Lasaroff lässt in einem innovativen Stil Balkanfolk und Worldjazz miteinander verschmelzen. \n\n\n\nBalkaNova\n\n\n\n \n\n\n\n\n\n\n\n\n\nSednalo e Djore\, dosBalkaNova\n\n\n\n\n\n\n\n\n\nEderlezi – BalkaNova – Live in Berlin\, Viktoria Lasaroff\, Andreas Brunn\, Robin Draganic YOUTUBE\n\n\n\n \n\n\n\n\n\n\n\n\n\n\n\nBalkaNova @Kunsfabrik Schlot\n\n\n\nJazz Clubs Berlin \n\n\n\nalle Angaben ohne Gewähr
URL:https://jazz-in-berlin.net/event/balkanova/
LOCATION:Kunstfabrik Schlot\, Invalidenstraße 117\, Berlin\, 10115
ATTACH;FMTTYPE=image/jpeg:https://jazz-in-berlin.net/wp-content/uploads/2024/07/Kunstfabrink-Logo-20.jpg
END:VEVENT
END:VCALENDAR