BEGIN:VCALENDAR
VERSION:2.0
PRODID:-//Berlin Jazz - ECPv6.15.11//NONSGML v1.0//EN
CALSCALE:GREGORIAN
METHOD:PUBLISH
X-WR-CALNAME:Berlin Jazz
X-ORIGINAL-URL:https://jazz-in-berlin.net
X-WR-CALDESC:Veranstaltungen für Berlin Jazz
REFRESH-INTERVAL;VALUE=DURATION:PT1H
X-Robots-Tag:noindex
X-PUBLISHED-TTL:PT1H
BEGIN:VTIMEZONE
TZID:Europe/Berlin
BEGIN:DAYLIGHT
TZOFFSETFROM:+0100
TZOFFSETTO:+0200
TZNAME:CEST
DTSTART:20240331T010000
END:DAYLIGHT
BEGIN:STANDARD
TZOFFSETFROM:+0200
TZOFFSETTO:+0100
TZNAME:CET
DTSTART:20241027T010000
END:STANDARD
BEGIN:DAYLIGHT
TZOFFSETFROM:+0100
TZOFFSETTO:+0200
TZNAME:CEST
DTSTART:20250330T010000
END:DAYLIGHT
BEGIN:STANDARD
TZOFFSETFROM:+0200
TZOFFSETTO:+0100
TZNAME:CET
DTSTART:20251026T010000
END:STANDARD
BEGIN:DAYLIGHT
TZOFFSETFROM:+0100
TZOFFSETTO:+0200
TZNAME:CEST
DTSTART:20260329T010000
END:DAYLIGHT
BEGIN:STANDARD
TZOFFSETFROM:+0200
TZOFFSETTO:+0100
TZNAME:CET
DTSTART:20261025T010000
END:STANDARD
END:VTIMEZONE
BEGIN:VEVENT
DTSTART;TZID=Europe/Berlin:20250302T200000
DTEND;TZID=Europe/Berlin:20250302T223000
DTSTAMP:20260425T155402
CREATED:20240717T054300Z
LAST-MODIFIED:20250210T165648Z
UID:4498-1740945600-1740954600@jazz-in-berlin.net
SUMMARY:Yehuda Inbar
DESCRIPTION:Yehuda Inbar – KlavierSchumann – Davidsbündlertänze op.6Schubert – Sonate B-Dur D 960 \n\n\n\nyehudainbar.co \n\n\n\n\n\nYehuda Inbar\n\n\n\n\n\n\n\n\nFrançois Lambret Yehuda Inbar\n\n\n\n\nYehuda Inbar @ Piano Salon Christophori\n\n\n\nJazz Clubs Berlin \n\n\n\nAlle Angaben ohne Gewähr
URL:https://jazz-in-berlin.net/event/yehuda-inbar/
LOCATION:Piano Salon Christophori\, Uferstr.8\, Berlin\, 13357
ATTACH;FMTTYPE=image/jpeg:https://www.konzertfluegel.com/grafix/fluegelseite1_new.gif
END:VEVENT
BEGIN:VEVENT
DTSTART;TZID=Europe/Berlin:20250302T200000
DTEND;TZID=Europe/Berlin:20250302T230000
DTSTAMP:20260425T155402
CREATED:20250227T134040Z
LAST-MODIFIED:20250227T140626Z
UID:15158-1740945600-1740956400@jazz-in-berlin.net
SUMMARY:Kühne\, Reulecke\, Möller | van Huffel\, Kneer\, Dimitriadis
DESCRIPTION:Set 1:Almut Kühne – voiceIngo Reulecke – danceWieland Möller – drums \n\n\n\nSet 2:SYNOMILIESPeter van Huffel – saxophoneMeinrad Kneer – double bassYorgos Dimitriadis – drums \n\n\n\n\n\nKühne\, Reulecke\, Möller | van Huffel\, Kneer\, Dimitriadis\n\n\n\n\n\n\n\n\n\n\n\n\n\n\n\n\n\n\n\n\n\n\n\nTühüvon HOW NOISY ARE THE ROOMS? special guest: SHELLEY HIRSCH\n\n\n\n\n\nSynomiliesvon Van Huffel/Kneer/Dimitriadis\n\n\n\n\n\nKühne\, Reulecke\, Möller | van Huffel\, Kneer\, Dimitriadis @Kühlspot Social Club\n\n\n\nJazzclubs Berlin \n\n\n\nalle Angaben ohne Gewähr
URL:https://jazz-in-berlin.net/event/kuehne-reulecke-moeller-van-huffel-kneer-dimitriadis/
LOCATION:Kühlspot Social Club\, Lehderstraße 74\, Berlin\, 13086
ATTACH;FMTTYPE=:
END:VEVENT
BEGIN:VEVENT
DTSTART;TZID=Europe/Berlin:20250302T203000
DTEND;TZID=Europe/Berlin:20250302T230000
DTSTAMP:20260425T155402
CREATED:20250226T143206Z
LAST-MODIFIED:20250416T063022Z
UID:15066-1740947400-1740956400@jazz-in-berlin.net
SUMMARY:Heinali - Гільдеґарда (Hildegard)
DESCRIPTION:Oleh Shpudeiko aka Heinali – synthesizerYasia Saienko – flute\, vocals \n\n\n\nheinali.info \n\n\n\nDer ukrainische Komponist und Klangkünstler Oleh Shpudeiko\, der unter dem Namen Heinali auftritt\, nutzt den modularen Synthesizer\, um alte Musik neu zu interpretieren und die Vergangenheit mit der Gegenwart zu verbinden. Er hat Musik für verschiedene Spiele\, Filme\, Installationen und Performances geschrieben\, und sein Soloalbum Madrigals wurde 2020 in die engere Wahl für den Shevchenko National Prize aufgenommen. Für diese besondere Uraufführung wird sich Shpudeiko mit der Komponistin\, Flötistin und Sängerin Yasia Saienko zusammentun\, um die Musik der Äbtissin\, Philosophin und Mystikerin Hildegard von Bingen aus dem 12. Jahrhundert in eine neue Zeit zu übertragen. \n\n\n\nHeinali – Гільдеґарда (Hildegard)\n\n\n\n\n\n\n\nKyiv Eternalvon Heinali\n\n\n\n\n\nMadrigalsvon Heinali\n\n\n\n\n\n\n\n\n\nHeinali – Гільдеґарда (Hildegard) @ Donau 115\n\n\n\nJazzclubs Berlin \n\n\n\nalle Angaben ohne Gewähr
URL:https://jazz-in-berlin.net/event/heinali-%d0%b3%d1%96%d0%bb%d1%8c%d0%b4%d0%b5%d2%91%d0%b0%d1%80%d0%b4%d0%b0-hildegard/
LOCATION:Donau 115\, Donaustrasse 115\, Berlin\, 12043
ATTACH;FMTTYPE=:
END:VEVENT
BEGIN:VEVENT
DTSTART;TZID=Europe/Berlin:20250302T203000
DTEND;TZID=Europe/Berlin:20250302T230000
DTSTAMP:20260425T155402
CREATED:20250302T111459Z
LAST-MODIFIED:20250302T121606Z
UID:15304-1740947400-1740956400@jazz-in-berlin.net
SUMMARY:Natalie Peters\, Sofia Borges\, Klaus Janek recording session
DESCRIPTION:Natalie Peters VoiceSofia Borges Drums\, PercussionKlaus Janek Double Bass \n\n\n\n\n\nNatalie Peters – Sofia Borges – Klaus Janek recording session\n\n\n\n\n\n\n\n\n\n\n\n\n\n\n\n\n\nNatalie Peters – Sofia Borges – Klaus Janek recording session @Morphine Records\n\n\n\nJazz Clubs Berlin \n\n\n\nAlle Angaben ohne Gewähr
URL:https://jazz-in-berlin.net/event/natalie-peters-sofia-borges-klaus-janek-recording-session/
LOCATION:Morphine Raum\, Köpenicker Straße 147\, Berlin\, 10997
ATTACH;FMTTYPE=image/jpeg:https://jazz-in-berlin.net/wp-content/uploads/2024/10/Morphine-Raum-02.jpg
END:VEVENT
BEGIN:VEVENT
DTSTART;TZID=Europe/Berlin:20250302T210000
DTEND;TZID=Europe/Berlin:20250302T230000
DTSTAMP:20260425T155402
CREATED:20250209T133015Z
LAST-MODIFIED:20250209T133132Z
UID:13686-1740949200-1740956400@jazz-in-berlin.net
SUMMARY:EPK Oliver Herlitzka Quintet
DESCRIPTION:Oliver Herlitzka – Guitar Artur Rutkevich – SaxophonPhilipp Krätzer – KeysAndreas Böhm – BassLeon Saleh – Drums \n\n\n\noliverherlitzka.com \n\n\n\nEPK Oliver Herlitzka Quintet\n\n\n\n\n\n\n\n\n\n\n\n\n\n\n\nBetween EdgesOliver Herlitzka Quintet\n\n\n\n\n\n\n\n\n\n\n\n\n\nEPK Oliver Herlitzka Quintet @B-Flat\n\n\n\nJazz Clubs Berlin   \n\n\n\nAlle Angaben ohne Gewähr
URL:https://jazz-in-berlin.net/event/epk-oliver-herlitzka-quintet/
LOCATION:B-Flat\, Dircksenstraße 40\, Berlin\, 10178
ATTACH;FMTTYPE=:
END:VEVENT
BEGIN:VEVENT
DTSTART;TZID=Europe/Berlin:20250302T210000
DTEND;TZID=Europe/Berlin:20250302T235900
DTSTAMP:20260425T155402
CREATED:20250213T113334Z
LAST-MODIFIED:20250213T113513Z
UID:14058-1740949200-1740959940@jazz-in-berlin.net
SUMMARY:Song Yi Jeon - The Best of The Great American Songbook
DESCRIPTION:Song Yi Jeon – vocalsEldar Tsalikov – saxophone\, clarinetDeclan Forde – pianoJames Banner – bassUgo Alunni – drums \n\n\n\n \n\n\n\nSong Yi Jeon – The Best of The Great American Songbook\n\n\n\n \n\n\n\n\n\n\n\n\n\n\n\n\n\nSolitary Bloomvon Song Yi JeonApril 2024Lorenzo Vitolo – pianoPaulo Almeida – drumsSong Yi Jeon – voice\, compositions\n\n\n\n\n\nHomeSong Yi Jeon\, Vinicius GomesNovember 2022Song Yi Jeon\, voiceVinicius Gomes\, guitar\n\n\n\n\n\nSong Yi Jeon – The Best of The Great American Songbook @Zig Zag\n\n\n\nJazz Clubs Berlin \n\n\n\nAlle Angaben ohne Gewähr
URL:https://jazz-in-berlin.net/event/song-yi-jeon/
LOCATION:Zig Zag\, Hauptstraße 89\, Berlin\, 12159
ATTACH;FMTTYPE=:
END:VEVENT
END:VCALENDAR