BEGIN:VCALENDAR
VERSION:2.0
PRODID:-//Berlin Jazz - ECPv6.15.11//NONSGML v1.0//EN
CALSCALE:GREGORIAN
METHOD:PUBLISH
X-WR-CALNAME:Berlin Jazz
X-ORIGINAL-URL:https://jazz-in-berlin.net
X-WR-CALDESC:Veranstaltungen für Berlin Jazz
REFRESH-INTERVAL;VALUE=DURATION:PT1H
X-Robots-Tag:noindex
X-PUBLISHED-TTL:PT1H
BEGIN:VTIMEZONE
TZID:Europe/Berlin
BEGIN:DAYLIGHT
TZOFFSETFROM:+0100
TZOFFSETTO:+0200
TZNAME:CEST
DTSTART:20240331T010000
END:DAYLIGHT
BEGIN:STANDARD
TZOFFSETFROM:+0200
TZOFFSETTO:+0100
TZNAME:CET
DTSTART:20241027T010000
END:STANDARD
BEGIN:DAYLIGHT
TZOFFSETFROM:+0100
TZOFFSETTO:+0200
TZNAME:CEST
DTSTART:20250330T010000
END:DAYLIGHT
BEGIN:STANDARD
TZOFFSETFROM:+0200
TZOFFSETTO:+0100
TZNAME:CET
DTSTART:20251026T010000
END:STANDARD
BEGIN:DAYLIGHT
TZOFFSETFROM:+0100
TZOFFSETTO:+0200
TZNAME:CEST
DTSTART:20260329T010000
END:DAYLIGHT
BEGIN:STANDARD
TZOFFSETFROM:+0200
TZOFFSETTO:+0100
TZNAME:CET
DTSTART:20261025T010000
END:STANDARD
END:VTIMEZONE
BEGIN:VEVENT
DTSTART;TZID=Europe/Berlin:20250311T200000
DTEND;TZID=Europe/Berlin:20250311T223000
DTSTAMP:20260425T210214
CREATED:20250303T093220Z
LAST-MODIFIED:20250303T093327Z
UID:15348-1741723200-1741732200@jazz-in-berlin.net
SUMMARY:Trio Abstrakt
DESCRIPTION:The FallWerke von Haukur Þór Harðarson\, Georges Aperghis und Marco Momi \n\n\n\nSalim(a) Javaid SaxophonMarlies Debacker KlavierAlexandre Silva Percussion \n\n\n\ntrioabstrakt.com \n\n\n\nMit dem Programm »The Fall« präsentiert das Trio Abstrakt drei umfangreiche\, komplexe und klang-basierte Werke unterschiedlicher Komponisten\, die jeweils ihren ganz eigenen Klangkosmos etablieren. Die beiden musikalischen »Monolithen« von Marco Momi und Haukur Þór Harðarson werden in diesem Programm durch Georges Aperghis‘ »Trio Funambule« ergänzt und kontrastiert. \n\n\n\nTrio Abstrakt\n\n\n\n\n\n\n\n\n\n\n\n\n\n\n\nIn Competence Michael EdwardsTrio Abstrakt\n\n\n\n\n\n\n\n\n\nTrio Abstrakt @BKA Theater\n\n\n\nJazz Clubs Berlin \n\n\n\nAlle Angaben ohne Gewähr
URL:https://jazz-in-berlin.net/event/trio-abstrakt/
LOCATION:BKA Theater\, Mehringdamm 34\, Berlin\, 10961
ATTACH;FMTTYPE=image/jpeg:https://jazz-in-berlin.net/wp-content/uploads/2025/03/bka-theater.jpg
END:VEVENT
BEGIN:VEVENT
DTSTART;TZID=Europe/Berlin:20250311T203000
DTEND;TZID=Europe/Berlin:20250311T235900
DTSTAMP:20260425T210214
CREATED:20250209T122415Z
LAST-MODIFIED:20250209T122526Z
UID:13662-1741725000-1741737540@jazz-in-berlin.net
SUMMARY:Niklas Lukassen Contemporary Jazz Ensemble
DESCRIPTION:Uli Kempendorff – SaxophoneKit Downes – PianoNiklas Lukassen – BassMarc Michel – Drums \n\n\n\nulikempendorff.de | kitdownesmusic.comniklaslukassen.com | wiki/Marc_Michel \n\n\n\nNiklas Lukassen Contemporary Jazz Ensemble\n\n\n\n\n\n\n\n\n\n\n\n\n\n\n\nBeauty in Chaos – Jazz Thing Next Generation Vol. 99Alexandra Ivanova\, Niklas Lukassen\, Nathan Ott\n\n\n\n\n\nUnder the SurfaceJulia Hülsmann Quartet feat. Uli Kempendorff\n\n\n\n\n\n\n\nNiklas Lukassen with \n\n\n\n\n\n\nSvetlana Marinchenko SVM 3 \n\n\n\n\n\n\n\nSandro Sáez Trio – No Perspective\n\n\n\n\n\n\nNiklas Lukassen showcases an equally lyrical sensibility and skillful command on both the upright bass and the bass guitar. After his return from New York \, he is today living between London and Berlin\, from where he establishes himself as a resilient presence within the young European jazz scene. He magnetizes as a distinct rising voice that’s sought after in manifold musical situations. Moreover\, his sound and artistic vision radiate enormous band leader potential. \n\n\n\n\n\n\n\nMarc Michel with \n\n\n\n\nTom Ollendorff Open House\n\n\n\n\n\n\n\n\n\n\n\n\n\n\nKit Downes with \n\n\n\n\nNordsnø Ensemble – Ett omaka Par\n\n\n\n\n\n\n\n\n\n\n\n\n\n\nNiklas Lukassen Contemporary Jazz Ensemble @A-Trane\n\n\n\nJazz Clubs Berlin \n\n\n\nAlle Angaben ohne Gewähr
URL:https://jazz-in-berlin.net/event/niklas-lukassen-contemporary-jazz-ensemble/
LOCATION:A-Trane\, Bleibtreustraße 1\, Berlin\, 10625
ATTACH;FMTTYPE=image/jpeg:https://jazz-in-berlin.net/wp-content/uploads/2023/01/A-Trane-Logo-20.jpg
END:VEVENT
BEGIN:VEVENT
DTSTART;TZID=Europe/Berlin:20250311T210000
DTEND;TZID=Europe/Berlin:20250311T230000
DTSTAMP:20260425T210215
CREATED:20250209T181640Z
LAST-MODIFIED:20250226T112542Z
UID:13774-1741726800-1741734000@jazz-in-berlin.net
SUMMARY:Johanna Lucia Trio @Kunstfabrik Schlot
DESCRIPTION:Johanna Lucia Pohlmann – pianoRia Rother – drumsDaire MacMághnuis – bass \n\n\n\nDie Kompositionen der Pianistin Johanna Lucia Pohlmann sind oft von außermusikalischen Phänomenen wie Alltagsempfindungen und -erfahrungen\, gesellschaftlichen Fragestellungen sowie anderen künstlerischen Disziplinen wie der Literatur\, dem Tanz und der Bildenden Kunst inspiriert.  \n\n\n\n\n\nJohanna Lucia Trio @Kunstfabrik Schlot\n\n\n\n\n\n\n\nJohanna Lucia Trio ‪@TerzoMondo‬\n\n\n\nJohanna Lucia Trio @Kunsfabrik Schlot\n\n\n\nJazz Clubs Berlin \n\n\n\nalle Angaben ohne Gewähr
URL:https://jazz-in-berlin.net/event/johanna-lucia-trio-kunstfabrik-schlot/
LOCATION:Kunstfabrik Schlot\, Invalidenstraße 117\, Berlin\, 10115
ATTACH;FMTTYPE=image/jpeg:https://jazz-in-berlin.net/wp-content/uploads/2024/07/Kunstfabrink-Logo-20.jpg
END:VEVENT
END:VCALENDAR