BEGIN:VCALENDAR
VERSION:2.0
PRODID:-//Berlin Jazz - ECPv6.15.11//NONSGML v1.0//EN
CALSCALE:GREGORIAN
METHOD:PUBLISH
X-ORIGINAL-URL:https://jazz-in-berlin.net
X-WR-CALDESC:Veranstaltungen für Berlin Jazz
REFRESH-INTERVAL;VALUE=DURATION:PT1H
X-Robots-Tag:noindex
X-PUBLISHED-TTL:PT1H
BEGIN:VTIMEZONE
TZID:Europe/Berlin
BEGIN:DAYLIGHT
TZOFFSETFROM:+0100
TZOFFSETTO:+0200
TZNAME:CEST
DTSTART:20240331T010000
END:DAYLIGHT
BEGIN:STANDARD
TZOFFSETFROM:+0200
TZOFFSETTO:+0100
TZNAME:CET
DTSTART:20241027T010000
END:STANDARD
BEGIN:DAYLIGHT
TZOFFSETFROM:+0100
TZOFFSETTO:+0200
TZNAME:CEST
DTSTART:20250330T010000
END:DAYLIGHT
BEGIN:STANDARD
TZOFFSETFROM:+0200
TZOFFSETTO:+0100
TZNAME:CET
DTSTART:20251026T010000
END:STANDARD
BEGIN:DAYLIGHT
TZOFFSETFROM:+0100
TZOFFSETTO:+0200
TZNAME:CEST
DTSTART:20260329T010000
END:DAYLIGHT
BEGIN:STANDARD
TZOFFSETFROM:+0200
TZOFFSETTO:+0100
TZNAME:CET
DTSTART:20261025T010000
END:STANDARD
END:VTIMEZONE
BEGIN:VEVENT
DTSTART;TZID=Europe/Berlin:20250314T193000
DTEND;TZID=Europe/Berlin:20250314T213000
DTSTAMP:20260425T192239
CREATED:20241116T062300Z
LAST-MODIFIED:20250216T155441Z
UID:8414-1741980600-1741987800@jazz-in-berlin.net
SUMMARY:Jazz Duo Kaluza / Meinhold
DESCRIPTION:Essen ab 18:00 Uhr„Unsere musikalischen Veranstaltungen begleiten wir mit hausgemachten Spezialitäten Küche aus Frankreich.„ \n\n\n\nNikolai Meinhold – PianoAnna Kaluza – Saxophone \n\n\n\nNikolai Meinhold Wiki | akaluza.wordpress.com \n\n\n\n\n\nJazz Duo Kaluza / Meinhold\n\n\n\n\n\n\n\nJazz Duo Kaluza / Meinhold\n\n\n\n@ Salon l’écritoire \n\n\n\nJazz Clubs Berlin \n\n\n\nAlle Angaben ohne Gewähr
URL:https://jazz-in-berlin.net/event/jazz-duo-kaluza-meinhold/
LOCATION:Salon L’écritoire\, Schönwalderstraße 20\, Berlin\, 13347
ATTACH;FMTTYPE=image/jpeg:https://lecritoire.de/wp-content/uploads/2023/11/Logo-ercitoire-blanc-DE-V-300-rectangle-e1700311982552.png
END:VEVENT
BEGIN:VEVENT
DTSTART;TZID=Europe/Berlin:20250314T200000
DTEND;TZID=Europe/Berlin:20250314T223000
DTSTAMP:20260425T192239
CREATED:20250212T165242Z
LAST-MODIFIED:20250212T165704Z
UID:13975-1741982400-1741991400@jazz-in-berlin.net
SUMMARY:Kateryna Titova\, Nikolay Medvedev
DESCRIPTION:Nikolay Medvedev – KlavierKateryna Titova – Klavier \n\n\n\nBach \n\n\n\nkaterynatitova.com | nikolaymedvedev.com \n\n\n\n\n\nKateryna Titova\, Nikolay Medvedev\n\n\n\n\n\n\n\n\n\nQuasi una fantasiaKateryna Titova\n\n\n\n\n\nGlazunov: Piano SonatasNikolay Medvedev\n\n\n\n\n\nKateryna Titova\, Nikolay Medvedev @ Piano Salon Christophori\n\n\n\nJazz Clubs Berlin \n\n\n\nAlle Angaben ohne Gewähr
URL:https://jazz-in-berlin.net/event/kateryna-titova-nikolay-medvedev/
LOCATION:Piano Salon Christophori\, Uferstr.8\, Berlin\, 13357
ATTACH;FMTTYPE=:
END:VEVENT
BEGIN:VEVENT
DTSTART;TZID=Europe/Berlin:20250314T200000
DTEND;TZID=Europe/Berlin:20250314T223000
DTSTAMP:20260425T192239
CREATED:20250225T131818Z
LAST-MODIFIED:20250226T152921Z
UID:14932-1741982400-1741991400@jazz-in-berlin.net
SUMMARY:Upward
DESCRIPTION:Omri Abramov – saxophone Bjössi Klütsch – guitar Manuel Podhostnik – drums Francesco Beccaro – bass \n\n\n\nPeppi Guggenheim Berlin Live Concert: Upward YOUTUBE\n\n\n\n\n\nUpward\n\n\n\n\n\n\n\n\n\n\n\n\n\nUpward @Peppi Guggenheim\n\n\n\nJazz Clubs Berlin \n\n\n\nAlle Angaben ohne Gewähr
URL:https://jazz-in-berlin.net/event/upward/
LOCATION:Peppi Guggenheim\, Weichselstrasse 7\, Berlin\, 12043
ATTACH;FMTTYPE=image/jpeg:https://peppi-guggenheim.de/file/i/45421591740361412.jpg
END:VEVENT
BEGIN:VEVENT
DTSTART;TZID=Europe/Berlin:20250314T200000
DTEND;TZID=Europe/Berlin:20250314T230000
DTSTAMP:20260425T192239
CREATED:20241107T060800Z
LAST-MODIFIED:20250130T141317Z
UID:8498-1741982400-1741993200@jazz-in-berlin.net
SUMMARY:The Swingin Hermlins
DESCRIPTION:RACHEL – swinging sweatheartANDREJ – bienenzüchterTHE REEFERMAN – Erfinder des DavidophonesJOYCE – BürgermeisterinJACK – der QuotenaustralierLARS – BilliardspielerDUPSI – besorgt die Uhren und KrawattenTHE DUKE – britisch höflicher KlarinettistMALTE – spielte als Mr.T. Tukur an den RandDJANGO – fährt gern AutoSWINGMACHINE – tänzelnder KornettistGENA – verwandelt amerikanischen Swing in russische Schlager \n\n\n\n\n\nThe Swingin Hermlins\n\n\n\n\n\n\nTHE SWINGIN HERMLINS\n\n\n\n\nThe Swingin Hermlins
URL:https://jazz-in-berlin.net/event/the-swingin-hermlins-3/
LOCATION:Yorckschlösschen\, Yorckstraße 15\, Berlin\, 10965
ATTACH;FMTTYPE=image/jpeg:https://jazz-in-berlin.net/wp-content/uploads/2024/06/Yorckschloesschen-Logo-30.jpg
END:VEVENT
BEGIN:VEVENT
DTSTART;TZID=Europe/Berlin:20250314T200000
DTEND;TZID=Europe/Berlin:20250314T230000
DTSTAMP:20260425T192239
CREATED:20250218T110506Z
LAST-MODIFIED:20250218T112108Z
UID:14409-1741982400-1741993200@jazz-in-berlin.net
SUMMARY:Vanessa Bedoret + NEXCYIA
DESCRIPTION:Vanessa Bedoret + NEXCYIA\n\n\n\nVanessa Bedoretvanessabedoret.com \n\n\n\nIhr tiefes Verständnis für musikalische Formen macht ihre Experimente zu einer wirklich einzigartigen Klangerfahrung\, die sich nie zu weit von ihrer ursprünglichen Liebe zur klassischen Musik entfernt.Für die Veröffentlichung ihres Debütalbums Eyes hat sie sich Scenic Route angeschlossen\, einem Label\, das dafür bekannt ist\, aufstrebende Stars auszuwählen und zu fördern. Boomkat beschrieb die Platte als „ein zeitloses Bouquet aus Entrückungen und Balladen\, die mit scherenden Streichern und bruchsicherer Elektronik garniert sind“\, während Fader sie als „geschmeidige\, avantgardistische Rekonstruktionen von Clubmusik – man denke an Björk\, produziert von Mica Levi“ bezeichnete. \n\n\n\n\n\nEyesvon Vanessa Bedoret\n\n\n\n\n\nExodusvon NEXCYIA\n\n\n\n\n\nNEXCYIAnexcyia.com \n\n\n\nNEXCYIA’s Kompositionen verschmelzen nahtlos mit immersivem Sounddesign und texturalen Klanglandschaften unter Verwendung von Elementen des Rauschens\, der Granularsynthese\, gefundenen Klängen und Rhythmen. Seine Arbeit durchläuft verschiedene Stimmungen und Emotionen und beschäftigt sich mit Themen wie Andersartigkeit und Zugehörigkeit. Durch Überlagerung und Manipulation von archivierten Audiodaten\, die er aus Heimvideos und den Tiefen des Internets zusammenstellt\, entstehen immer neue Stücke\, die zu fesselnden Klangreisen einladen. \n\n\n\n\n\n\n\n\n\nVanessa Bedoret + NEXCYIA\n\n\n\n@ Silent Green \n\n\n\nJazz Clubs Berlin \n\n\n\nAlle Angaben ohne Gewähr \n\n\n\n\n\n12/03/2025 Eli Keszler + Carina Khorkhordina\n\n\n\n\n\n15/03/2025 Laura Misch
URL:https://jazz-in-berlin.net/event/vanessa-bedoret-nexcyia/
LOCATION:Silent Green\, Gerichtstraße 35\, Berlin\, 13247
ATTACH;FMTTYPE=image/jpeg:https://verhoovensjazz.net/wp-content/uploads/2023/02/silent-green-move-1024x436.jpg
END:VEVENT
BEGIN:VEVENT
DTSTART;TZID=Europe/Berlin:20250314T200000
DTEND;TZID=Europe/Berlin:20250314T230000
DTSTAMP:20260425T192239
CREATED:20250224T135617Z
LAST-MODIFIED:20250224T135722Z
UID:14781-1741982400-1741993200@jazz-in-berlin.net
SUMMARY:Matsuno\, Alarcón\, Windisch\, Takara
DESCRIPTION:Keisuke Matsuno electric guitar Lara Alarcón voice\, electronics Julius Windisch synth\, electronics\, cembalo Mauricio Takara drums \n\n\n\nkeisukematsuno.tumblr.com | lara-alarcon.bandcamp.com | juliuswindisch.com \n\n\n\n\n\n\n\n\n\nMatsuno\, Alarcón\, Windisch\, Takara\n\n\n\n\n\nOrgelalbumvon julius windisch\n\n\n\n\n\nM. TAKARA – „REMINISCÊNCIAS“von M. Takara\n\n\n\n\n\nMatsuno\, Alarcón\, Windisch\, Takara @sowieso\n\n\n\nJazz Clubs Berlin \n\n\n\nAlle Angaben ohne Gewähr
URL:https://jazz-in-berlin.net/event/matsuno-alarcon-windisch-takara/
LOCATION:Sowieso\, Weisestraße 24\, Berlin\, 12049
ATTACH;FMTTYPE=image/jpeg:https://cortex.persona.co/w/696/q/67/i/ef08edefeaf2227488ee7ad85924c3612b27dea492d11a9145417efdc766b789/wallpaper-green.jpg
END:VEVENT
BEGIN:VEVENT
DTSTART;TZID=Europe/Berlin:20250314T200000
DTEND;TZID=Europe/Berlin:20250314T230000
DTSTAMP:20260425T192239
CREATED:20250227T143103Z
LAST-MODIFIED:20250227T143521Z
UID:15185-1741982400-1741993200@jazz-in-berlin.net
SUMMARY:OKTOPUZZLE
DESCRIPTION:Felix Broman – soprano saxophoneTobias Zerbe – trumpet\, flugelhornAndres Reifgerst – alto saxophoneEvgeny Abin – tenor saxophoneJulius Hopf – trumpetAdrian Mücke – pianoRafael Maleh – bassJulius Leistritz – drums \n\n\n\noktopuzzle.com \n\n\n\n\n\nOKTOPUZZLE\n\n\n\n\n\n\n\n\n\n\n\n\n\n\n\n\n\n\n\n\n\n\n\nOktopuzzle #4 Freeway Junctionvon Oktopuzzle\n\n\n\n\n\nOktopuzzle #5 Tracesvon Oktopuzzle\n\n\n\n\n\nOKTOPUZZLE @Kühlspot Social Club\n\n\n\nJazzclubs Berlin \n\n\n\nalle Angaben ohne Gewähr
URL:https://jazz-in-berlin.net/event/oktopuzzle/
LOCATION:Kühlspot Social Club\, Lehderstraße 74\, Berlin\, 13086
ATTACH;FMTTYPE=:
END:VEVENT
BEGIN:VEVENT
DTSTART;TZID=Europe/Berlin:20250314T200000
DTEND;TZID=Europe/Berlin:20250314T233000
DTSTAMP:20260425T192239
CREATED:20250226T074531Z
LAST-MODIFIED:20250226T093856Z
UID:14978-1741982400-1741995000@jazz-in-berlin.net
SUMMARY:United Big Band
DESCRIPTION:zu Gast im SchlotSwing\, Fusion\, Pop und Rock \n\n\n\nWie der Name schon verrät\, vereint die UBB musikalisch besonders interessierte Berliner SchülerInnen der 9.-12. Klasse von mehreren Schulen. \n\n\n\nDas Dahlemer Arndt-Gymnasium ist im Südwesten Berlins gelegen und wird von etwa 750 Schülerinnen und Schülern ab der fünften bzw. siebten Klasse besucht. Neben der Tradition einer umfassenden humanistischen Ausbildung verfügt unsere Schule über eine besondere ästhetisch-musische Profilierung. Diese zeigt sich nicht nur in den sogenannten Werkstattklassen\, in denen das Fach „Werkstatt ästhetische Bildung“ angeboten wird. Allen Schülerinnen und Schülern steht ein großes Nachmittagsangebot an musikalischer Förderung zur Verfügung. Derzeit engagieren sich weit über 250 Schüler in unseren Orchestern\, Bigbands und Chören\, die Sie bei den viermal jährlich stattfindenden Schulkonzerten und vielen außerschulischen Auftritten hören können. \n\n\n\nmusik-am-agd.de \n\n\n\nUnited Big Band\n\n\n\n\n\n\n\n\n\n\n\n\n\n\n\nUnited Big Band @Kunsfabrik Schlot\n\n\n\nJazz Clubs Berlin \n\n\n\nalle Angaben ohne Gewähr
URL:https://jazz-in-berlin.net/event/united-big-band/
LOCATION:Kunstfabrik Schlot\, Invalidenstraße 117\, Berlin\, 10115
ATTACH;FMTTYPE=:
END:VEVENT
BEGIN:VEVENT
DTSTART;TZID=Europe/Berlin:20250314T202500
DTEND;TZID=Europe/Berlin:20250314T223000
DTSTAMP:20260425T192239
CREATED:20241112T061800Z
LAST-MODIFIED:20250226T073956Z
UID:8797-1741983900-1741991400@jazz-in-berlin.net
SUMMARY:Akiro Ando & The Japs
DESCRIPTION:Akira Ando – contrabass\, voiceHan Sato – tenor saxophoneFelix Komoll – fluteShiomi Kawaguchi – shamisen\, voiceZam Johnson – drums& guest artist Lito Tabora – pianoKenji Endo – shakuhachi flute \n\n\n\n\n\nAkiro Ando & The Japs\n\n\n\n\n\n\n\n\n\n\n\n\n\n\n\n\n\n\n\nJazz as Pure SpiritAkira Ando and the Japs\n\n\n\n\n\n\n\n\n\nAkiro Ando & The Japs @Badenscher Hof\n\n\n\nJazz Clubs Berlin \n\n\n\nAlle Angaben ohne Gewähr
URL:https://jazz-in-berlin.net/event/akiro-ando-the-japs/
LOCATION:Badenscher Hof\, Badensche Straße 29\, Berlin\, 10715
ATTACH;FMTTYPE=image/jpeg:https://lirp.cdn-website.com/d05763ec/dms3rep/multi/opt/Logo_banner_new-5e2a17ee-1920w.png
END:VEVENT
BEGIN:VEVENT
DTSTART;TZID=Europe/Berlin:20250314T203000
DTEND;TZID=Europe/Berlin:20250314T233000
DTSTAMP:20260425T192239
CREATED:20250213T133120Z
LAST-MODIFIED:20250310T112827Z
UID:14084-1741984200-1741995000@jazz-in-berlin.net
SUMMARY:Christian Frentzen - Second Encounter
DESCRIPTION:Christian Frentzen Piano-KeysNorbert Scholly GuitarThomas Stieger BassJulian Külpmann DrumsFola Dada Vocal \n\n\n\ncfrentzen.de \n\n\n\nChristian Frentzen is a pianist\, keyboardist and recording engineer currently based in Cologne\, Germany. He has played with Till Brönner\, Max Mutzke\, Nils Landgren\, Rüdiger Baldauf\, Teddy Teclebrhan\, Stefanie Heinzmann\, Julia Neigel and many more.  \n\n\n\nChristian Frentzen – Second Encounter\n\n\n\n\n\nSecond Encountervon Christian Frentzen\n\n\n\n\n\nFirst Encountervon Christian Frentzen\n\n\n\n\n\n\n\n\n\n\n\nChristian Frentzen – Second Encounter @A-Trane\n\n\n\nJazz Clubs Berlin \n\n\n\nAlle Angaben ohne Gewähr
URL:https://jazz-in-berlin.net/event/christian-frentzen-second-encounter/
LOCATION:A-Trane\, Bleibtreustraße 1\, Berlin\, 10625
ATTACH;FMTTYPE=:
END:VEVENT
BEGIN:VEVENT
DTSTART;TZID=Europe/Berlin:20250314T203000
DTEND;TZID=Europe/Berlin:20250314T235900
DTSTAMP:20260425T192239
CREATED:20241227T111907Z
LAST-MODIFIED:20241227T112017Z
UID:10623-1741984200-1741996740@jazz-in-berlin.net
SUMMARY:Duo Oxymoron
DESCRIPTION:Jazz am HelmholtzplatzRaumerweiterungshalle[Kopenhagener Str. 17\, 10437 Berlin]\n\n\n\nAnna Steinkogler – harpValentin Butt – accordion \n\n\n\nannasteinkogler.de \n\n\n\nDuo Oxymoron\n\n\n\n\n\n\n\nScented RushesDuo Oxymoron\, Anna Steinkogler\, Valentin Butt\n\n\n\n\n\n\n\n\n\n\n\n\n\n\n\n\n\nDuo Oxymoron @ Jazz am Helmholtzplatz – REH\n\n\n\nJazz Clubs Berlin
URL:https://jazz-in-berlin.net/event/duo-oxymoron/
ATTACH;FMTTYPE=image/jpeg:https://www.jackie-inhalt.net/reh/bilder/reh_line_better.gif
END:VEVENT
BEGIN:VEVENT
DTSTART;TZID=Europe/Berlin:20250314T203000
DTEND;TZID=Europe/Berlin:20250314T235900
DTSTAMP:20260425T192239
CREATED:20250226T160650Z
LAST-MODIFIED:20250226T160925Z
UID:15107-1741984200-1741996740@jazz-in-berlin.net
SUMMARY:KRISE
DESCRIPTION:Emil Bø – tromboneAnna Ueland – synthKristian Enkerud Lien – refretted guitar\, lap steelBjørn André Syverinsen – drums \n\n\n\nKRISE basiert auf mikrotonalen Studien und mischt Elemente aus Volksmusik\, Rock\, zeitgenössischer Musik und Club. Inspiriert von den Theorien von Eivind Groven\, Ben Johnston und Harry Partch\, schärft KRISE das Bewusstsein für experimentelle Tonalität\, indem es Klänge erforscht\, die außerhalb des traditionellen gleichschwebenden Systems liegen. Die musikalische Erkundung des Ensembles konzentriert sich darauf\, die Essenz des Klangs eines jeden Instruments freizulegen und wie sie in einem dynamischen und improvisierten Zusammenspiel ineinandergreifen. \n\n\n\nKRISE\n\n\n\n \n\n\n\n\n\n\n\n\n\n\n\n\n\nSvartsymravon Kristian Enkerud Lien’s KRISE\n\n\n\n\n\nMe lét etter ossvon Kristian Enkerud Lien\n\n\n\n\n\nKRISE @ Donau 115\n\n\n\nJazzclubs Berlin \n\n\n\nalle Angaben ohne Gewähr
URL:https://jazz-in-berlin.net/event/krise/
LOCATION:Donau 115\, Donaustrasse 115\, Berlin\, 12043
ATTACH;FMTTYPE=image/jpeg:https://jazz-in-berlin.net/wp-content/uploads/2024/07/Donau115-Windowview-22-scaled.jpg
END:VEVENT
BEGIN:VEVENT
DTSTART;TZID=Europe/Berlin:20250314T203000
DTEND;TZID=Europe/Berlin:20250314T235959
DTSTAMP:20260425T192239
CREATED:20250214T125753Z
LAST-MODIFIED:20250214T125900Z
UID:14167-1741984200-1741996799@jazz-in-berlin.net
SUMMARY:Jembaa Groove
DESCRIPTION:Eric Owusu (Ghana) – Vocals/PercussionYannick Nolting (Germany) – Bass/BandleaderBabatunde Agonglo (Benin) – GuitarNir Sabag (Israel) – DrumsDaniel „El Congo“ Allen (Cuba) – TrumpetGoncalo Mortagua (Portugal) – SaxDoron Segal (Israel) – Keys \n\n\n\njembaamusic.com \n\n\n\nJembaa Groove\, 2020 von Yannick Nolting und Eric Owusu gegründet\, verbindet westafrikanische Einflüsse wie Highlife\, Adowa und Wassoulou mit Soul\, Jazz\, Reggae und Funk. Auf mittlerweile zwei Alben feiert die siebenköpfige Band das Leben und die Gemeinschaft mit warmen Melodien\, positiven Texten\, lebendigen Rhythmen und viel Groove. Live bringen sie eine berauschende Mischung aus straffen Arrangements und spontaner Improvisationsfreude auf die Bühne\, voll von verträumten Bläsersätzen\, mitreißenden Gitarren und himmlischen Vocals. \n\n\n\n\n\nYe Ankasa | We Ourselvesvon Jembaa Groove\n\n\n\n\n\nSusumavon Jembaa Groove\n\n\n\n\n\n \n\n\n\n\n\n\n\n\n\n\n\n\n\n\n\nJembaa Groove\n\n\n\n\n\n\n\nJembaa Groove @ Gretchen Berlin\n\n\n\nJazz Clubs Berlin \n\n\n\nAlle Angaben ohne Gewähr
URL:https://jazz-in-berlin.net/event/jembaa-groove/
LOCATION:Gretchen\, Obentrautstraße 19-21\, Berlin\, 10963
ATTACH;FMTTYPE=image/jpeg:https://www.gretchen-club.de/css/images/logo.png
END:VEVENT
BEGIN:VEVENT
DTSTART;TZID=Europe/Berlin:20250314T210000
DTEND;TZID=Europe/Berlin:20250314T235900
DTSTAMP:20260425T192239
CREATED:20250209T153745Z
LAST-MODIFIED:20250209T153746Z
UID:13737-1741986000-1741996740@jazz-in-berlin.net
SUMMARY:Kenneth Dahl Knudsen PERSONEL Gloomers Bigband
DESCRIPTION:CONDUCTOR Malte SchillerVOCALSCamilla HaugbjergTRUMPETSJimmy Nyborg\, Lisa Buchholz\, Frida Beck\, Suzan Veneman SAXOPHONESToms Rudzinskis\, Olga Amelchenko\, Oleksii Kolosii\, Lars Zander\, Elli Soos TROMBONESLis Wesberg\, Anton Langdahl\, Kamilė Makarevičiūtė\, Maxine Troglauer RHYTHM SECTION Lucas Illanes – guitarDavide Incorvaia – pianoKenneth Dahl Knudsen – bass Matias Fischer – drums \n\n\n\nkennethdahlknudsen.net \n\n\n\nKenneth Dahl Knudsen PERSONEL Gloomers Bigband\n\n\n\n \n\n\n\n\n\n\n\n\n\n\n\n\n\nGanna Gryniva – vocalsEmilie Fleig – vocalsCamilla Haugbjerg – vocalsViola Okos – vocalsIngrid Halle – vocalsSofie Trolle – vocalsUndine Rovala – vocalsJimmy Nyborg – trumpetToms Rudzinskis – alto saxOleksandr Kolosii – tenor saxAndre Kassen – tenor saxLucas Illanes – guitarBernhard Ludescher – keyboardEyal Lovett – keyboardsMatias Fischer – drumsKenneth – bass\n\n\n\n\n\nATLASvon Kenneth Dahl KnudsenGanna Gryniva – Vocal\,Ertan Tekin – Duduk\, ZurnaMarius Ungureanu – Viola\, VoiceWassim Mukdad – Oud\,Eyal Lovett – Piano\,Kenneth Dahl Knudsen – Bass\n\n\n\n\n\nKenneth Dahl Knudsen PERSONEL Gloomers Bigband @B-Flat\n\n\n\nJazz Clubs Berlin   \n\n\n\nAlle Angaben ohne Gewähr
URL:https://jazz-in-berlin.net/event/kenneth-dahl-knudsen-2/
LOCATION:B-Flat\, Dircksenstraße 40\, Berlin\, 10178
ATTACH;FMTTYPE=image/jpeg:https://jazz-in-berlin.net/wp-content/uploads/2024/08/B-Flat-Logo-50.jpg
END:VEVENT
BEGIN:VEVENT
DTSTART;TZID=Europe/Berlin:20250314T210000
DTEND;TZID=Europe/Berlin:20250314T235900
DTSTAMP:20260425T192239
CREATED:20250302T134904Z
LAST-MODIFIED:20250309T110543Z
UID:8243-1741986000-1741996740@jazz-in-berlin.net
SUMMARY:Ant Law & Alex Hitchcock @Zig Zag
DESCRIPTION:Ant Law – Guitar & CompositionsAlex Hitchcock – Tenor Saxophone & CompositionsNiklas Lukassen – BassAnanda Brandão – Drums \n\n\n\n\n\nAnt Law & Alex Hitchcock @Zig Zag\n\n\n\n\n\n\n\n\n\n\n\n\n\nSame Moon In The Same WorldAnt Law\, Alex Hitchcock\n\n\n\n\n\n\n\n\n\nAnt Law & Alex Hitchcock @Zig Zag\n\n\n\nJazz Clubs Berlin   \n\n\n\nAlle Angaben ohne Gewähr
URL:https://jazz-in-berlin.net/event/ant-law-alex-hitchcock-22/
LOCATION:Zig Zag\, Hauptstraße 89\, Berlin\, 12159
ATTACH;FMTTYPE=image/jpeg:https://images.squarespace-cdn.com/content/v1/55146be5e4b0392be71840b6/1431516196750-KT8J11AC198OTFSL66PV/ZZ+full+burgundy+transparent.png?format=1500w
END:VEVENT
END:VCALENDAR