BEGIN:VCALENDAR
VERSION:2.0
PRODID:-//Berlin Jazz - ECPv6.15.11//NONSGML v1.0//EN
CALSCALE:GREGORIAN
METHOD:PUBLISH
X-ORIGINAL-URL:https://jazz-in-berlin.net
X-WR-CALDESC:Veranstaltungen für Berlin Jazz
REFRESH-INTERVAL;VALUE=DURATION:PT1H
X-Robots-Tag:noindex
X-PUBLISHED-TTL:PT1H
BEGIN:VTIMEZONE
TZID:Europe/Berlin
BEGIN:DAYLIGHT
TZOFFSETFROM:+0100
TZOFFSETTO:+0200
TZNAME:CEST
DTSTART:20240331T010000
END:DAYLIGHT
BEGIN:STANDARD
TZOFFSETFROM:+0200
TZOFFSETTO:+0100
TZNAME:CET
DTSTART:20241027T010000
END:STANDARD
BEGIN:DAYLIGHT
TZOFFSETFROM:+0100
TZOFFSETTO:+0200
TZNAME:CEST
DTSTART:20250330T010000
END:DAYLIGHT
BEGIN:STANDARD
TZOFFSETFROM:+0200
TZOFFSETTO:+0100
TZNAME:CET
DTSTART:20251026T010000
END:STANDARD
BEGIN:DAYLIGHT
TZOFFSETFROM:+0100
TZOFFSETTO:+0200
TZNAME:CEST
DTSTART:20260329T010000
END:DAYLIGHT
BEGIN:STANDARD
TZOFFSETFROM:+0200
TZOFFSETTO:+0100
TZNAME:CET
DTSTART:20261025T010000
END:STANDARD
END:VTIMEZONE
BEGIN:VEVENT
DTSTART;TZID=Europe/Berlin:20250317T200000
DTEND;TZID=Europe/Berlin:20250317T223000
DTSTAMP:20260425T192117
CREATED:20250224T142105Z
LAST-MODIFIED:20250224T142201Z
UID:14794-1742241600-1742250600@jazz-in-berlin.net
SUMMARY:Maria Ioudenitch\, Dina Ivanova
DESCRIPTION:Maria Ioudenitch – ViolinDina Ivanova – Klavier \n\n\n\nBartok – Sonate No.1Poulenc – Violinsonate op.119Debussy – Violinsonate \n\n\n\nmariaioudenitch.com | dinaivanova.com \n\n\n\n\n\nMaria Ioudenitch\, Dina Ivanova\n\n\n\n\n\n\n\nSongbirdMaria Ioudenitch\, Kenny Broberg\n\n\n\n\n\nSarasvatiMerel Vercammen\, Dina Ivanova\n\n\n\n\n\n\n\n\n\n\n\n\n\nMaria Ioudenitch\, Dina Ivanova \n\n\n\n@ Piano Salon Christophori \n\n\n\nJazz Clubs Berlin \n\n\n\nAlle Angaben ohne Gewähr
URL:https://jazz-in-berlin.net/event/maria-ioudenitch-dina-ivanova/
LOCATION:Piano Salon Christophori\, Uferstr.8\, Berlin\, 13357
ATTACH;FMTTYPE=image/jpeg:https://www.konzertfluegel.com/grafix/fluegelseite1_new.gif
END:VEVENT
BEGIN:VEVENT
DTSTART;TZID=Europe/Berlin:20250317T200000
DTEND;TZID=Europe/Berlin:20250317T230000
DTSTAMP:20260425T192117
CREATED:20240712T101228Z
LAST-MODIFIED:20241105T063237Z
UID:4863-1742241600-1742252400@jazz-in-berlin.net
SUMMARY:Kamasi Washington
DESCRIPTION:Kamasi Washington – Fearless Movement \n\n\n\n\n\nKamasi Washington\n\n\n\n\n\n\n\nKamasi Washington
URL:https://jazz-in-berlin.net/event/kamasi-washington/
LOCATION:Theater des Westens\, Kantstraße 12\, Berlin\, 10623
ATTACH;FMTTYPE=image/jpeg:https://jazz-in-berlin.net/wp-content/uploads/2024/11/Theater-des-Westens.jpg
END:VEVENT
BEGIN:VEVENT
DTSTART;TZID=Europe/Berlin:20250317T210000
DTEND;TZID=Europe/Berlin:20250317T235900
DTSTAMP:20260425T192117
CREATED:20250222T192152Z
LAST-MODIFIED:20250222T192348Z
UID:14611-1742245200-1742255940@jazz-in-berlin.net
SUMMARY:Bill Evans - Vansband Allstars
DESCRIPTION:Bill Evans – saxophoneGary Husband – keyboardFelix Pastorius – bassKeith Carlock – drums \n\n\n\nbillevanssax.com \n\n\n\n\n\nBill Evans – Vansband Allstars\n\n\n\n\n\n\n\n\n\nWho I AmBill Evans\n\n\n\n\n\nModern StandardsNiels Lan Doky\, Bill Evans\, Harvey Mason\, Darryl Jones\n\n\n\n\n\nCommon GroundRobben Ford\, Bill Evans\n\n\n\n\n\nBill Evans – Vansband Allstars @Zig Zag\n\n\n\nJazz Clubs Berlin \n\n\n\nAlle Angaben ohne Gewähr
URL:https://jazz-in-berlin.net/event/bill-evans-vansband-allstars/
LOCATION:Zig Zag\, Hauptstraße 89\, Berlin\, 12159
ATTACH;FMTTYPE=image/jpeg:https://images.squarespace-cdn.com/content/v1/55146be5e4b0392be71840b6/1431516196750-KT8J11AC198OTFSL66PV/ZZ+full+burgundy+transparent.png?format=1500w
END:VEVENT
END:VCALENDAR