BEGIN:VCALENDAR
VERSION:2.0
PRODID:-//Berlin Jazz - ECPv6.15.11//NONSGML v1.0//EN
CALSCALE:GREGORIAN
METHOD:PUBLISH
X-ORIGINAL-URL:https://jazz-in-berlin.net
X-WR-CALDESC:Veranstaltungen für Berlin Jazz
REFRESH-INTERVAL;VALUE=DURATION:PT1H
X-Robots-Tag:noindex
X-PUBLISHED-TTL:PT1H
BEGIN:VTIMEZONE
TZID:Europe/Berlin
BEGIN:DAYLIGHT
TZOFFSETFROM:+0100
TZOFFSETTO:+0200
TZNAME:CEST
DTSTART:20240331T010000
END:DAYLIGHT
BEGIN:STANDARD
TZOFFSETFROM:+0200
TZOFFSETTO:+0100
TZNAME:CET
DTSTART:20241027T010000
END:STANDARD
BEGIN:DAYLIGHT
TZOFFSETFROM:+0100
TZOFFSETTO:+0200
TZNAME:CEST
DTSTART:20250330T010000
END:DAYLIGHT
BEGIN:STANDARD
TZOFFSETFROM:+0200
TZOFFSETTO:+0100
TZNAME:CET
DTSTART:20251026T010000
END:STANDARD
BEGIN:DAYLIGHT
TZOFFSETFROM:+0100
TZOFFSETTO:+0200
TZNAME:CEST
DTSTART:20260329T010000
END:DAYLIGHT
BEGIN:STANDARD
TZOFFSETFROM:+0200
TZOFFSETTO:+0100
TZNAME:CET
DTSTART:20261025T010000
END:STANDARD
END:VTIMEZONE
BEGIN:VEVENT
DTSTART;TZID=Europe/Berlin:20250323T153000
DTEND;TZID=Europe/Berlin:20250323T180000
DTSTAMP:20260425T191501
CREATED:20250212T154104Z
LAST-MODIFIED:20250212T155231Z
UID:13955-1742743800-1742752800@jazz-in-berlin.net
SUMMARY:Thomas Borgmann 70: Keys & Screws
DESCRIPTION:Thomas Borgmann – reeds\, fluteJan Roder – bassWilli Kellers – drums \n\n\n\nSaxophon trifft Drums trifft Bass – und das mit aller Wucht. In langen\, häufig fließenden Stücken erschaffen Thomas Borgmann\, Willi Kellers und Jan Roder eine Musik\, die sich zwischen lyrisch friedlichen und ekstatischen Phasen\, zwischen weiträumigem und dichtem Spiel hin und her bewegt. \n\n\n\n\n\nThomas Borgmann 70: Keys & Screws\n\n\n\n\n\n\n\n\n\n\n\n\n\nKeys & Screws – Some More Jazzby Thomas Borgmann / Jan Roder / Willi Kellers\n\n\n\n\n\n\n\n\n\nThomas Borgmann 70: Keys & Screws @jazzkeller\n\n\n\nJazzclubs Berlin \n\n\n\nAlle Angaben ohne Gewähr
URL:https://jazz-in-berlin.net/event/thomas-borgmann-70-keys-screws/
LOCATION:Industriesalon Schöneweide\, Reinbeckstraße 9\, Berlin\, 12459
ATTACH;FMTTYPE=image/jpeg:https://jazz-in-berlin.net/wp-content/uploads/2024/09/Jazzkeller-69-EV-Logo.jpg
END:VEVENT
BEGIN:VEVENT
DTSTART;TZID=Europe/Berlin:20250323T190000
DTEND;TZID=Europe/Berlin:20250323T235900
DTSTAMP:20260425T191501
CREATED:20250310T103106Z
LAST-MODIFIED:20250310T103222Z
UID:8552-1742756400-1742774340@jazz-in-berlin.net
SUMMARY:Ingrid Arthur and her Workshop Students
DESCRIPTION:Ingrid Arthur – vocalsCARLY – PianoMANU – BassCHARIS – GuitarBRIAN – DrumsGuests:Kadisha – Vocal \n\n\n\nIngrid Arthur and her Workshop Students\n\n\n\n \n\n\n\n\n\n\n\n\n\n\n\n\nIngrid Arthur vocal\n\n\n\n\nIngrid Arthur and her Workshop Students @A-Trane\n\n\n\nJazz Clubs Berlin \n\n\n\nAlle Angaben ohne Gewähr
URL:https://jazz-in-berlin.net/event/ingrid-arthur-ingrid-arthur-and-her-workshop-students/
LOCATION:A-Trane\, Bleibtreustraße 1\, Berlin\, 10625
ATTACH;FMTTYPE=image/jpeg:https://jazz-in-berlin.net/wp-content/uploads/2023/01/A-Trane-Logo-20.jpg
END:VEVENT
BEGIN:VEVENT
DTSTART;TZID=Europe/Berlin:20250323T200000
DTEND;TZID=Europe/Berlin:20250323T223000
DTSTAMP:20260425T191501
CREATED:20240722T054600Z
LAST-MODIFIED:20250224T150354Z
UID:4500-1742760000-1742769000@jazz-in-berlin.net
SUMMARY:Vitalii Kyianytsia Trio
DESCRIPTION:Vitalii Kyianytsia Trio \n\n\n\nVitalii Kyianytsia – PianoMakar Novikov – Double bassMathias Ruppnig – Drums \n\n\n\nVitaliy Kyianytsia – wikipedia \n\n\n\n\n\nVitalii Kyianytsia Trio\n\n\n\n\n\n\n\n\n\nLast Day of SpringVitalii Kyianytsia Trio\n\n\n\n\n\nNight MusicVitalii Kyianytsia\n\n\n\n\n\nVitalii Kyianytsia Trio @ Piano Salon Christophori\n\n\n\nJazz Clubs Berlin \n\n\n\nAlle Angaben ohne Gewähr
URL:https://jazz-in-berlin.net/event/vitalii-kyianytsia-trio/
LOCATION:Piano Salon Christophori\, Uferstr.8\, Berlin\, 13357
ATTACH;FMTTYPE=image/jpeg:https://www.konzertfluegel.com/grafix/fluegelseite1_new.gif
END:VEVENT
BEGIN:VEVENT
DTSTART;TZID=Europe/Berlin:20250323T200000
DTEND;TZID=Europe/Berlin:20250323T230000
DTSTAMP:20260425T191501
CREATED:20250119T154344Z
LAST-MODIFIED:20250119T154345Z
UID:12452-1742760000-1742770800@jazz-in-berlin.net
SUMMARY:Moses Yoofee Trio
DESCRIPTION:Moses Yoofee – pianoNoah Fürbringer – drumsRoman Klobe – bass \n\n\n\nmosesyoofeetrio.com \n\n\n\nausgezeichnet mit dem Deutschen Jazzpreis in der Kategorie„Live Act des Jahres 2024“ \n\n\n\nMoses Yoofee Trio\n\n\n\n\n\n\n\n\n\n\n\nMYTvon Moses Yoofee TrioRelease 07.02.2025\n\n\n\n\n\nOCEANvon Moses Yoofee Trio\n\n\n\n\n\nMoses Yoofee Trio Festsaal Kreuzberg\n\n\n\nJazz Clubs Berlin \n\n\n\nAlle Angaben ohne Gewähr
URL:https://jazz-in-berlin.net/event/moses-yoofee-trio/
LOCATION:Festsaal Kreuzberg\, Am Flutgraben 2\, Berlin\, 12435
ATTACH;FMTTYPE=image/jpeg:https://v2.files.funkhaus.io/fsk-1170-media/images/Logo_Festsaal_Kreuzberg_sch.min-1000x1000.jpegquality-75.png
END:VEVENT
BEGIN:VEVENT
DTSTART;TZID=Europe/Berlin:20250323T200000
DTEND;TZID=Europe/Berlin:20250323T230000
DTSTAMP:20260425T191501
CREATED:20250227T152927Z
LAST-MODIFIED:20250316T104759Z
UID:15200-1742760000-1742770800@jazz-in-berlin.net
SUMMARY:Klare\, Schick\, Roder\, Hertenstein
DESCRIPTION:Jan Klare – alto saxophoneIgnaz Schick – alto saxophoneJan Roder – double bassJoe Hertenstein – drums \n\n\n\n\n\nKlare\, Schick\, Roder\, Hertenstein\n\n\n\n\n\n\n\n\n\n\n\n\n\n\n\n\n\n\n\n\n\n\n\nUnrepeatablevon 3000Bart Maris – trumpetJan Klare – altosaxophone\, fluteSteve Swell – tromboneWilbert de Joode – bassMichael Vatcher – drums\n\n\n\n\n\nThe Cliffhanger Sessionvon Ignaz Schick/Ingebrigt Håker Flaten/Oliver SteidleIgnaz Schick (alto & baritone saxophone)Ingebrigt HåkerFlaten (double bass)Oliver Steidle (drums\, percussion)\n\n\n\n\n\nKlare\, Schick\, Roder\, Hertenstein @Kühlspot Social Club\n\n\n\nJazzclubs Berlin \n\n\n\nalle Angaben ohne Gewähr
URL:https://jazz-in-berlin.net/event/klare-schick-roder-hertenstein/
LOCATION:Kühlspot Social Club\, Lehderstraße 74\, Berlin\, 13086
ATTACH;FMTTYPE=:
END:VEVENT
BEGIN:VEVENT
DTSTART;TZID=Europe/Berlin:20250323T210000
DTEND;TZID=Europe/Berlin:20250323T230000
DTSTAMP:20260425T191501
CREATED:20241113T061900Z
LAST-MODIFIED:20250225T093109Z
UID:8550-1742763600-1742770800@jazz-in-berlin.net
SUMMARY:Diego Pinera «Underground Rollercoaster»
DESCRIPTION:«ALBUM RELEASE CONCERT» \n\n\n\nPeter Ehwald – SaxophoneIgor Osypov – GuitarMarcel Krömker – BassDiego Pinera – Drums/Compositions \n\n\n\ndiegopinera.com \n\n\n\nDiego Pinera\, preisgekrönter Jazzvirtuose\, ist eine einzigartige Persönlichkeit\, die der Musik wirklich neue Wege weist\, indem er die poetisch-rhythmische Freiheit des Jazz anderen metrischen Systemen gegenüberstellt. Sein charakterstarker persönlicher Stil ist geprägt durch ein avanciert rhythmisches Spielkonzept\, ein Jazz-Sound mit Latin-Touch sowie dem Freiheitdrang der Improvisation. Musikalische Komplexität sowie Virtuosität bleiben bei Pinera aber stets subtil\, eine besondere Frische und Leichtigkeit durchströmt sein künstlerisches Schaffen \n\n\n\n\n\nDiego Pinera «Underground Rollercoaster»\n\n\n\n\n\n\n\n\n\n\n\n\n\n\n\n\n\n\n\n\n\n\n\nUnderground Roller CoasterDiego Pinera\, Peter Ehwald\, lgor Osypov\, Marcel Krömker\n\n\n\n\n\n\n\n\n\nDiego Pinera\, award-winning jazz virtuoso\, is a unique personality who is truly breaking new ground in music by juxtaposing the poetic-rhythmic freedom of jazz with other metric systems. His strong personal style is characterised by an advanced rhythmic playing concept\, a jazz sound with a Latin touch and the freedom of improvisation. Pinera’s musical complexity and virtuosity always remain subtle\, however\, and a special freshness and lightness permeates his artistic work. \n\n\n\nDiego Pinera «Underground Rollercoaster» @B-Flat\n\n\n\nJazz Clubs Berlin   \n\n\n\nAlle Angaben ohne Gewähr
URL:https://jazz-in-berlin.net/event/diego-pinera-underground-rollercoaster-2/
LOCATION:B-Flat\, Dircksenstraße 40\, Berlin\, 10178
ATTACH;FMTTYPE=image/jpeg:https://jazz-in-berlin.net/wp-content/uploads/2024/08/B-Flat-Logo-50.jpg
END:VEVENT
BEGIN:VEVENT
DTSTART;TZID=Europe/Berlin:20250323T210000
DTEND;TZID=Europe/Berlin:20250323T235900
DTSTAMP:20260425T191501
CREATED:20241231T093204Z
LAST-MODIFIED:20250302T140926Z
UID:10872-1742763600-1742774340@jazz-in-berlin.net
SUMMARY:Eldar Tsalikov Quartet
DESCRIPTION:Eldar Tsalikov saxophoneJeremy Viner saxophoneDeclan Forde pianoIgor Spallati bassUgo Alunni drums \n\n\n\n\n\nEldar Tsalikov Quartet\n\n\n\n\n\n\n\n\n\n\n\n\n\nMonkMarcin Masecki\, Jan Pieniążekfeat. Eldar Tsalikov\n\n\n\n\n\nForde/Cohen/Dinsdalevon Forde/Cohen/Dinsdale\n\n\n\n\n\nGreen of Wintervon Battle TranceBattle Trance’s four members\, Travis Laplante\, Patrick Breiner\, Matt Nelson\, and Jeremy Viner\n\n\n\n\n\nEldar Tsalikov Quartet @Zig Zag\n\n\n\nJazz Clubs Berlin   \n\n\n\nAlle Angaben ohne Gewähr
URL:https://jazz-in-berlin.net/event/eldar-tsalikov-quartet/
LOCATION:Zig Zag\, Hauptstraße 89\, Berlin\, 12159
ATTACH;FMTTYPE=image/jpeg:https://images.squarespace-cdn.com/content/v1/55146be5e4b0392be71840b6/1431516196750-KT8J11AC198OTFSL66PV/ZZ+full+burgundy+transparent.png?format=1500w
END:VEVENT
END:VCALENDAR