BEGIN:VCALENDAR
VERSION:2.0
PRODID:-//Berlin Jazz - ECPv6.15.11//NONSGML v1.0//EN
CALSCALE:GREGORIAN
METHOD:PUBLISH
X-WR-CALNAME:Berlin Jazz
X-ORIGINAL-URL:https://jazz-in-berlin.net
X-WR-CALDESC:Veranstaltungen für Berlin Jazz
REFRESH-INTERVAL;VALUE=DURATION:PT1H
X-Robots-Tag:noindex
X-PUBLISHED-TTL:PT1H
BEGIN:VTIMEZONE
TZID:Europe/Berlin
BEGIN:DAYLIGHT
TZOFFSETFROM:+0100
TZOFFSETTO:+0200
TZNAME:CEST
DTSTART:20240331T010000
END:DAYLIGHT
BEGIN:STANDARD
TZOFFSETFROM:+0200
TZOFFSETTO:+0100
TZNAME:CET
DTSTART:20241027T010000
END:STANDARD
BEGIN:DAYLIGHT
TZOFFSETFROM:+0100
TZOFFSETTO:+0200
TZNAME:CEST
DTSTART:20250330T010000
END:DAYLIGHT
BEGIN:STANDARD
TZOFFSETFROM:+0200
TZOFFSETTO:+0100
TZNAME:CET
DTSTART:20251026T010000
END:STANDARD
BEGIN:DAYLIGHT
TZOFFSETFROM:+0100
TZOFFSETTO:+0200
TZNAME:CEST
DTSTART:20260329T010000
END:DAYLIGHT
BEGIN:STANDARD
TZOFFSETFROM:+0200
TZOFFSETTO:+0100
TZNAME:CET
DTSTART:20261025T010000
END:STANDARD
END:VTIMEZONE
BEGIN:VEVENT
DTSTART;TZID=Europe/Berlin:20250324T200000
DTEND;TZID=Europe/Berlin:20250324T223000
DTSTAMP:20260425T191816
CREATED:20250224T152219Z
LAST-MODIFIED:20250224T152315Z
UID:14815-1742846400-1742855400@jazz-in-berlin.net
SUMMARY:Annette von Hehn\, Thomas Hoppe
DESCRIPTION:Annette von Hehn – ViolineThomas Hoppe – Klavier  \n\n\n\natostrio.de | thomashoppe.com \n\n\n\n\n\nAnnette von Hehn\, Thomas Hoppe\n\n\n\n\n\n\n\n\n\nThe French AlbumAtos Trio feat. Annette von Hehn\n\n\n\n\n\nNovellaJinjoo Cho\, Thomas Hoppe\n\n\n\n\n\nAnnette von Hehn\, Thomas Hoppe @ Piano Salon Christophori\n\n\n\nJazz Clubs Berlin \n\n\n\nAlle Angaben ohne Gewähr
URL:https://jazz-in-berlin.net/event/annette-von-hehn-thomas-hoppe/
LOCATION:Piano Salon Christophori\, Uferstr.8\, Berlin\, 13357
ATTACH;FMTTYPE=image/jpeg:https://www.konzertfluegel.com/grafix/fluegelseite1_new.gif
END:VEVENT
BEGIN:VEVENT
DTSTART;TZID=Europe/Berlin:20250324T203000
DTEND;TZID=Europe/Berlin:20250324T230000
DTSTAMP:20260425T191816
CREATED:20250316T110325Z
LAST-MODIFIED:20250316T110326Z
UID:15925-1742848200-1742857200@jazz-in-berlin.net
SUMMARY:Schlot Session : Kempendorf\, Allemano\, Ott\, Westergaard
DESCRIPTION:Uli Kempendorff – saxLina Allemano – trumpetNathan Ott – drumsJonas Westergaard – bass \n\n\n\n\n\nSchlot Session : Kempendorf\, Allemano\, Ott\, Westergaard\n\n\n\n\n\n\n\nSchlot Session : Kempendorf\, Allemano\, Ott\, Westergaard @Kunsfabrik Schlot\n\n\n\nJazz Clubs Berlin \n\n\n\nalle Angaben ohne Gewähr
URL:https://jazz-in-berlin.net/event/schlot-session-kempendorf-allemano-ott-westergaard/
LOCATION:Kunstfabrik Schlot\, Invalidenstraße 117\, Berlin\, 10115
ATTACH;FMTTYPE=:
END:VEVENT
END:VCALENDAR