BEGIN:VCALENDAR
VERSION:2.0
PRODID:-//Berlin Jazz - ECPv6.15.11//NONSGML v1.0//EN
CALSCALE:GREGORIAN
METHOD:PUBLISH
X-WR-CALNAME:Berlin Jazz
X-ORIGINAL-URL:https://jazz-in-berlin.net
X-WR-CALDESC:Veranstaltungen für Berlin Jazz
REFRESH-INTERVAL;VALUE=DURATION:PT1H
X-Robots-Tag:noindex
X-PUBLISHED-TTL:PT1H
BEGIN:VTIMEZONE
TZID:Europe/Berlin
BEGIN:DAYLIGHT
TZOFFSETFROM:+0100
TZOFFSETTO:+0200
TZNAME:CEST
DTSTART:20240331T010000
END:DAYLIGHT
BEGIN:STANDARD
TZOFFSETFROM:+0200
TZOFFSETTO:+0100
TZNAME:CET
DTSTART:20241027T010000
END:STANDARD
BEGIN:DAYLIGHT
TZOFFSETFROM:+0100
TZOFFSETTO:+0200
TZNAME:CEST
DTSTART:20250330T010000
END:DAYLIGHT
BEGIN:STANDARD
TZOFFSETFROM:+0200
TZOFFSETTO:+0100
TZNAME:CET
DTSTART:20251026T010000
END:STANDARD
BEGIN:DAYLIGHT
TZOFFSETFROM:+0100
TZOFFSETTO:+0200
TZNAME:CEST
DTSTART:20260329T010000
END:DAYLIGHT
BEGIN:STANDARD
TZOFFSETFROM:+0200
TZOFFSETTO:+0100
TZNAME:CET
DTSTART:20261025T010000
END:STANDARD
END:VTIMEZONE
BEGIN:VEVENT
DTSTART;TZID=Europe/Berlin:20250327T173000
DTEND;TZID=Europe/Berlin:20250327T230000
DTSTAMP:20260425T191943
CREATED:20250223T092635Z
LAST-MODIFIED:20250327T064006Z
UID:14664-1743096600-1743116400@jazz-in-berlin.net
SUMMARY:Nils Kugelmann Trio - Life Score
DESCRIPTION:Nils Kugelmann – Bass\, CompositionLuca Zambito – PianoSebastian Wolfgruber – Drums \n\n\n\n„All the tracks are true masterpieces.“Paris Move \n\n\n\n\n\nNils Kugelmann Trio – Life Score\n\n\n\n\n\n\n\n\n\nLife ScoreNils Kugelmann\, Luca Zambito\, Sebastian WolfgruberRelease 25.04.2025\n\n\n\n\n\nStormy Beautyby Nils Kugelmann\n\n\n\n\n\n \n\n\n\nNils Kugelmann Trio – Life Score @A-Trane\n\n\n\nJazz Clubs Berlin \n\n\n\nAlle Angaben ohne Gewähr
URL:https://jazz-in-berlin.net/event/nils-kugelmann-trio-life-score/
LOCATION:A-Trane\, Bleibtreustraße 1\, Berlin\, 10625
ATTACH;FMTTYPE=image/jpeg:https://jazz-in-berlin.net/wp-content/uploads/2023/01/A-Trane-Logo-20.jpg
END:VEVENT
BEGIN:VEVENT
DTSTART;TZID=Europe/Berlin:20250327T200000
DTEND;TZID=Europe/Berlin:20250327T220000
DTSTAMP:20260425T191943
CREATED:20250303T102019Z
LAST-MODIFIED:20250303T102020Z
UID:15364-1743105600-1743112800@jazz-in-berlin.net
SUMMARY:Max Arsava Trio
DESCRIPTION:Max Arsava – PianoErnst Bier – Drums Johannes Fink – Cello  \n\n\n\nIn diesem neu formierten akustischen Jazztrio spielen Max Arsava\, Ernst Bier und Johannes Fink Repertoire in der Tradition der 50er und 60er Jahre\, sowie Stücke aus eigener Feder. Us-Amerikanische Komponisten wie Herbie Nichols\, Thelonious Monk oder Dick Twardzik stehen dabei ebenso Pate wie der schepp schwingende Hauptstadtjazz der Jahrtausendwende \n\n\n\njohannesfink.com | maxarsava.com | jazzdrumming.de |  \n\n\n\n\n\nMax Arsava Trio\n\n\n\n\n\n\n\n\n\nPersuasive FreedomErnst Bier – Mack Goldsbury Quartet\n\n\n\n\n\nthe circle is unbrokenLarry Porter\, Johannes Fink\, Oliver Steidle\n\n\n\n\n\nTen BullsMax Koch\, Bill Elgart\, Stephan Deller\, Max Hirth\, Max Arsava\n\n\n\n\n\nMax Arsava Trio @Zimmer 16\n\n\n\nJazz Clubs Berlin \n\n\n\nAlle Angaben ohne Gewähr
URL:https://jazz-in-berlin.net/event/max-arsava-trio/
LOCATION:Zimmer 16\, Florastraße 16\, Berlin\, 13187
ATTACH;FMTTYPE=image/jpeg:https://jazz-in-berlin.net/wp-content/uploads/2025/03/zimmer-16.jpg
END:VEVENT
BEGIN:VEVENT
DTSTART;TZID=Europe/Berlin:20250327T200000
DTEND;TZID=Europe/Berlin:20250327T223000
DTSTAMP:20260425T191943
CREATED:20250224T154452Z
LAST-MODIFIED:20250224T154613Z
UID:14823-1743105600-1743114600@jazz-in-berlin.net
SUMMARY:Shelly Ezra - Else Ensemble
DESCRIPTION:Else EnsembleShelly Ezra – Clarinet \n\n\n\nEnsembles: Trio Radial\, Else Ensemble\, Frankfurt WInds\, Trio Frühling\, Trio Noa\, Trio Shulamit \n\n\n\nshellyezra.com \n\n\n\n\n\nShelly Ezra – Else Ensemble\n\n\n\n\n\n\n\n\n\n\n\n\n\nSenfter: Chamber MusicElse Ensemble feat. Shelly Ezra\n\n\n\n\n\n\n\n\n\nShelly Ezra – Else Ensemble @ Piano Salon Christophori\n\n\n\nJazz Clubs Berlin \n\n\n\nAlle Angaben ohne Gewähr
URL:https://jazz-in-berlin.net/event/shelly-ezra-else-ensemble/
LOCATION:Piano Salon Christophori\, Uferstr.8\, Berlin\, 13357
ATTACH;FMTTYPE=image/jpeg:https://www.konzertfluegel.com/grafix/fluegelseite1_new.gif
END:VEVENT
BEGIN:VEVENT
DTSTART;TZID=Europe/Berlin:20250327T200000
DTEND;TZID=Europe/Berlin:20250327T223000
DTSTAMP:20260425T191943
CREATED:20250317T085752Z
LAST-MODIFIED:20250317T090347Z
UID:3459-1743105600-1743114600@jazz-in-berlin.net
SUMMARY:Jako Quartett feat: Thomas Hähnlein
DESCRIPTION:Jako QuartettIakovos ‚Jako‘ Symeonidis: guitarMaik Kleer: bassGeorge Potamianos: drumsThomas Hähnlein: saxophone \n\n\n\n\n\nJako Quartett\n\n\n\n\n\n\n\n\nJako Organ Trio\n\n\n\n\nJako Quartett @ Terzomondo\n\n\n\nJazz Clubs Berlin \n\n\n\nAlle Angaben ohne Gewähr
URL:https://jazz-in-berlin.net/event/jako-quartett/
LOCATION:Terzo Mondo\, Grolmanstraße 28\, Berlin\, 10623
ATTACH;FMTTYPE=:
END:VEVENT
BEGIN:VEVENT
DTSTART;TZID=Europe/Berlin:20250327T200000
DTEND;TZID=Europe/Berlin:20250327T230000
DTSTAMP:20260425T191943
CREATED:20250227T154705Z
LAST-MODIFIED:20250227T154756Z
UID:15209-1743105600-1743116400@jazz-in-berlin.net
SUMMARY:Shake Hands
DESCRIPTION:Jan Klare – saxophoneMatthias Müller – tromboneMeinrad Kneer – double bassChristian Marien – drums \n\n\n\njanklare.de | matthiasmueller.net \n\n\n\n\n\nShake Hands\n\n\n\n\n\n\n\n\n\n\n\n\n\n\n\n\n\n\n\n\n\n\n\nsolo trombonevon Matthias Müller solo\n\n\n\n\n\nBring You 10 Evergreens In Stereovon RKeT\n\n\n\n\n\nShake Hands @Kühlspot Social Club\n\n\n\nJazzclubs Berlin \n\n\n\nalle Angaben ohne Gewähr
URL:https://jazz-in-berlin.net/event/shake-hands/
LOCATION:Kühlspot Social Club\, Lehderstraße 74\, Berlin\, 13086
ATTACH;FMTTYPE=:
END:VEVENT
BEGIN:VEVENT
DTSTART;TZID=Europe/Berlin:20250327T200000
DTEND;TZID=Europe/Berlin:20250327T235900
DTSTAMP:20260425T191943
CREATED:20240925T053500Z
LAST-MODIFIED:20250224T163539Z
UID:6985-1743105600-1743119940@jazz-in-berlin.net
SUMMARY:Leo's Jam Fresh Blues Jam Session
DESCRIPTION:Leos’s JamFresh Blues Jam Session \n\n\n\nLeo’s Jam Fresh Blues Jam Session\n\n\n\n\n\n\n\nLeo’s Jam Fresh Blues Jam Session @Yorckschlösschen\n\n\n\nJazz Clubs Berlin \n\n\n\nAlle Angaben ohne Gewähr
URL:https://jazz-in-berlin.net/event/leos-jamfresh-blues-jam-session/
LOCATION:Yorckschlösschen\, Yorckstraße 15\, Berlin\, 10965
ATTACH;FMTTYPE=image/jpeg:https://jazz-in-berlin.net/wp-content/uploads/2024/06/Yorckschloesschen-Logo-30.jpg
END:VEVENT
BEGIN:VEVENT
DTSTART;TZID=Europe/Berlin:20250327T203000
DTEND;TZID=Europe/Berlin:20250327T235900
DTSTAMP:20260425T191943
CREATED:20250310T091002Z
LAST-MODIFIED:20250310T091100Z
UID:15532-1743107400-1743119940@jazz-in-berlin.net
SUMMARY:Filó Machado
DESCRIPTION:Filó Machado – vocals\, guitar& special guests \n\n\n\nfilomachado.com \n\n\n\nFiló Machado\n\n\n\n\n\n\n\n\n\nA Música Negra de Filó MachadoFiló Machado\n\n\n\n\n\nTom BrasileiroFiló Machado\, Cibele Codonho\n\n\n\n\n\nFiló Machado @ Donau 115\n\n\n\nJazzclubs Berlin \n\n\n\nAlle Angaben ohne Gewähr
URL:https://jazz-in-berlin.net/event/filo-machado/
LOCATION:Donau 115\, Donaustrasse 115\, Berlin\, 12043
ATTACH;FMTTYPE=image/jpeg:https://jazz-in-berlin.net/wp-content/uploads/2024/07/Donau115-Windowview-22-scaled.jpg
END:VEVENT
BEGIN:VEVENT
DTSTART;TZID=Europe/Berlin:20250327T210000
DTEND;TZID=Europe/Berlin:20250327T230000
DTSTAMP:20260425T191943
CREATED:20250225T102432Z
LAST-MODIFIED:20250225T102552Z
UID:14890-1743109200-1743116400@jazz-in-berlin.net
SUMMARY:Philip Weyands - Kosmee
DESCRIPTION:Aitzi Cofre Real vocalsPhilip Weyands composition\, pianoKristina Shamgunova saxophone\, fluteNico Klöffer bassMicha Jesske drums \n\n\n\nphilipweyand.de \n\n\n\nAuf sein Debütalbum MYOSOTIS (dt. ‚Vergissmeinnicht‘\, 2022) folgt nun KOSMEE – eine Zierblume\, deren Name dem griechischen Wort ‚Kosmos‘ entlehnt ist. Eine Musik\, die schwerelos wirkt und doch fest mit den inneren Songstrukturen verbunden ist. KOSMEE kreiert einen einzigartigen Sound aus einer Vielzahl von Einflüssen und lässt Philip Weyands musikalischen Kosmos weiter wachsen. \n\n\n\n\n\nPhilip Weyands – Kosmee\n\n\n\n\n\n\n\n\n\n\n\n\n\n\n\n\n\n\n\nKOSMEEvon Philip Weyand\n\n\n\n\n\nMYOSOTISvon Philip Weyand\n\n\n\n\n\nPhilip Weyands – Kosmee @B-Flat\n\n\n\nJazz Clubs Berlin   \n\n\n\nAlle Angaben ohne Gewähr
URL:https://jazz-in-berlin.net/event/philip-weyands-kosmee/
LOCATION:B-Flat\, Dircksenstraße 40\, Berlin\, 10178
ATTACH;FMTTYPE=image/jpeg:https://jazz-in-berlin.net/wp-content/uploads/2024/08/B-Flat-Logo-50.jpg
END:VEVENT
BEGIN:VEVENT
DTSTART;TZID=Europe/Berlin:20250327T210000
DTEND;TZID=Europe/Berlin:20250327T233000
DTSTAMP:20260425T191943
CREATED:20240604T134016Z
LAST-MODIFIED:20250226T114554Z
UID:2124-1743109200-1743118200@jazz-in-berlin.net
SUMMARY:Max Hacker Quartet
DESCRIPTION:Max Hacker – Saxophone\, Clarinet\, FluteTino Derado – PianoLars Gühlcke – BassRoland Schneider – Drums \n\n\n\nmaxhacker.de | verhoovensjazz.net \n\n\n\nMax Hacker Quartet\n\n\n\n\n\n\n\n \n\n\n\n\n\nMax Hacker Quartett \n\n\n\nText Kunstfabrik Schlot: Die deutsch–lettische Trompeterin Līva Strazdiņa und der Saxophonist Max Hacker lernten sich vor einigen Jahren in Berlin kennen und bringen für diesen Abend ihre liebsten MusikerInnen zusammen. Nachdem die Trompeterin ihr Studium in Dresden absolviert und in ihrer Heimatstadt Berlin wieder Fuß gefasst hat\, formt Līva eine neue Band mit alten und neuen Weggefährten. Mit dem Schlagzeuger Bastian Menz hat sie früher im Berliner Jugendjazzorchester gespielt. Neu hinzugekommen\, aber doch bekannt\, ist die schottische Bassistin Roz Macdonald und der schwedische Gitarrist Johan Leijonhufvud. Es erwarten sie Jazz–Standards und Eigenkompositionen. \n\n\n\n\n\nNifty Fiftyby JLT – Johan Leijonhufvud TrioJohan Leijonhufvud – guitarJohnny Åman – bassNiclas Campagnol – drums\n\n\n\n\n\nMake Doby Roz Macdonald TrioBéla Meinberg – PianoRoz Macdonald – Double Bass/CompositionsJordan Dinsdale – Drums\n\n\n\n\n\nSeasonsBastian Menz QuintettBand Members: Martin Löcken\, Björn Atle Anfinsen\, Sandro Sàez\, Nico Bauckholt\, Bastian Menz – unitrecords\n\n\n\n\n\n\n\n\n\n\n\n\n\nRezensionen zu der CD „What Do You Mean?“ (In&Out Records) sind im Jazzpodium\, Jazzthetik\, Jazzthing\, Silberhorn und Rondo Magazin und – im Rahmen unserer Tournee Konzerte – in der regionalen Presse erschienen (siehe „Presse“). \n\n\n\n[Text Website maxhacker.de]\n\n\n\nMax Hacker mit den Toughest Tenors 2006 \n\n\n\n\n\n\n\n \n\n\n\n\n\n\n\n\n\nMax Hacker Quartet @Kunsfabrik Schlot\n\n\n\nJazz Clubs Berlin \n\n\n\nalle Angaben ohne Gewähr
URL:https://jazz-in-berlin.net/event/max-hacker-quartet/
LOCATION:Kunstfabrik Schlot\, Invalidenstraße 117\, Berlin\, 10115
ATTACH;FMTTYPE=image/jpeg:https://jazz-in-berlin.net/wp-content/uploads/2024/07/Kunstfabrink-Logo-20.jpg
END:VEVENT
BEGIN:VEVENT
DTSTART;TZID=Europe/Berlin:20250327T210000
DTEND;TZID=Europe/Berlin:20250327T233000
DTSTAMP:20260425T191943
CREATED:20250226T135224Z
LAST-MODIFIED:20250226T135416Z
UID:15054-1743109200-1743118200@jazz-in-berlin.net
SUMMARY:Nesrine Belmokh
DESCRIPTION:Nesrine Belmokh – Vocals & Electric celloAnissa Nehari – Percussion & vocalsLéo Jassef – drums \n\n\n\nnesrinemusic.com \n\n\n\n„es war einmal“ so etwas wie eine moderne Geschichtensammlung aus tausendundeiner Nacht. Die britische TIMES nennt Nesrine „ein leuchtendes\, multilinguales Talent“\, die SZ konstatiert: „Nesrine demonstriert\, welche Schönheit aus Freiheit entstehen kann.“ Ihre Songs in arabischer\, französischer und englischer Sprache sind die Essenz einer bewegten persönlichen Biografie – zwischen Algerien\, dem Herkunftsland ihrer Familie\, und ihrer aktuellen Heimat Paris. Auch sind Nesrines kunstvolle\, facettenreiche Songs das Spiegelbild ihrer vielfältigen musikalischen Laufbahn: Sie spielte als klassische Cellistin unter anderem in Daniel Barenboims East-Western Divan Orchestra und im Orchester der Oper von Valencia unterLorin Maazel und trat als Gaststar mit dem Cirque de Soleil auf. \n\n\n\nNesrine Belmokh\n\n\n\n \n\n\n\n\n\n\n\n\n\nKan Ya Makan (Once Upon a Time)von Nesrine\n\n\n\n\n\nNesrinevon Nesrine\n\n\n\n\n\nAhlamvon Nesrine\n\n\n\n\n\n\n\n\n\nNesrine Belmokh @Zig Zag\n\n\n\nJazz Clubs Berlin   \n\n\n\nAlle Angaben ohne Gewähr
URL:https://jazz-in-berlin.net/event/nesrine-belmokh/
LOCATION:Zig Zag\, Hauptstraße 89\, Berlin\, 12159
ATTACH;FMTTYPE=image/jpeg:https://images.squarespace-cdn.com/content/v1/55146be5e4b0392be71840b6/1431516196750-KT8J11AC198OTFSL66PV/ZZ+full+burgundy+transparent.png?format=1500w
END:VEVENT
BEGIN:VEVENT
DTSTART;TZID=Europe/Berlin:20250327T210000
DTEND;TZID=Europe/Berlin:20250327T235959
DTSTAMP:20260425T191943
CREATED:20250119T121403Z
LAST-MODIFIED:20250227T083211Z
UID:12401-1743109200-1743119999@jazz-in-berlin.net
SUMMARY:Brass Riot
DESCRIPTION:Constantin von Estorff – saxophoneCarl Weiß – saxophoneSimon Sasse – drums \n\n\n\nSupport: Der MondmannBruneauReina3000 \n\n\n\nbrassriot.com \n\n\n\nBRASS RIOT bringen seit Corona die Party auf Demos und in die Clubs und veröffentlichen bei Fun In The Church … \n\n\n\n\n\nThe Never Acting Storyvon Brass Riot\n\n\n\n\n\nMatschsafarivon Brass Riot\n\n\n\n\n\n \n\n\n\n\n\n\n\n\n\n\n\n\n\n\n\nBrass Riot\n\n\n\n\n\n\n\nBrass Riot Gretchen Berlin\n\n\n\nJazz Clubs Berlin \n\n\n\nAlle Angaben ohne Gewähr
URL:https://jazz-in-berlin.net/event/brass-riot/
LOCATION:Gretchen\, Obentrautstraße 19-21\, Berlin\, 10963
ATTACH;FMTTYPE=image/jpeg:https://www.gretchen-club.de/css/images/logo.png
END:VEVENT
END:VCALENDAR