BEGIN:VCALENDAR
VERSION:2.0
PRODID:-//Berlin Jazz - ECPv6.15.11//NONSGML v1.0//EN
CALSCALE:GREGORIAN
METHOD:PUBLISH
X-WR-CALNAME:Berlin Jazz
X-ORIGINAL-URL:https://jazz-in-berlin.net
X-WR-CALDESC:Veranstaltungen für Berlin Jazz
REFRESH-INTERVAL;VALUE=DURATION:PT1H
X-Robots-Tag:noindex
X-PUBLISHED-TTL:PT1H
BEGIN:VTIMEZONE
TZID:Europe/Berlin
BEGIN:DAYLIGHT
TZOFFSETFROM:+0100
TZOFFSETTO:+0200
TZNAME:CEST
DTSTART:20240331T010000
END:DAYLIGHT
BEGIN:STANDARD
TZOFFSETFROM:+0200
TZOFFSETTO:+0100
TZNAME:CET
DTSTART:20241027T010000
END:STANDARD
BEGIN:DAYLIGHT
TZOFFSETFROM:+0100
TZOFFSETTO:+0200
TZNAME:CEST
DTSTART:20250330T010000
END:DAYLIGHT
BEGIN:STANDARD
TZOFFSETFROM:+0200
TZOFFSETTO:+0100
TZNAME:CET
DTSTART:20251026T010000
END:STANDARD
BEGIN:DAYLIGHT
TZOFFSETFROM:+0100
TZOFFSETTO:+0200
TZNAME:CEST
DTSTART:20260329T010000
END:DAYLIGHT
BEGIN:STANDARD
TZOFFSETFROM:+0200
TZOFFSETTO:+0100
TZNAME:CET
DTSTART:20261025T010000
END:STANDARD
END:VTIMEZONE
BEGIN:VEVENT
DTSTART;TZID=Europe/Berlin:20250331T200000
DTEND;TZID=Europe/Berlin:20250331T230000
DTSTAMP:20260425T191816
CREATED:20241028T073312Z
LAST-MODIFIED:20250201T112349Z
UID:8343-1743451200-1743462000@jazz-in-berlin.net
SUMMARY:Hania Rani & Ensemble
DESCRIPTION:Großer Saal \n\n\n\nGhostsHania Rani & Ensemble \n\n\n\nHania Rani & Ensemble\n\n\n\n\n\n\n\n\n\nHania Rani & Ensemble@ Philharmonie Berlin\n\n\n\nAlle Angaben ohne Gewähr \n\n\n\n\n\n01/02 Maria Baptist\n\n\n\n\n\n04/02 Kruder Dorfmeister\n\n\n\n\n\n07/02 Andrej Hermlin\n\n\n\n\n\n\n\n15/02 Late Night: »Cantando hacia el Sur«\n\n\n\n\n\n07/03 ACT Night The Art of the Duo\n\n\n\n\n\n12/03 Jazz at Berlin Philharmonic: »Berlin ‒ Berlin«\n\n\n\n\n\n\n\n19/03 Michael Wollny Trio\n\n\n\n\n\n28/03 World-Reihe Philharmonie – Souad Massi \n\n\n\n\n\n31/03 Hania Rani & Ensemble\n\n\n\n\n\n\n\n23/04 Anouar Brahem Quartet\n\n\n\n\n\n29/04 Jan Garbarek Group\n\n\n\n\n\n01/05 Klezmer – Ginzburg Dynastie\n\n\n\n\n\n\n\n16/05 Jazz at Berlin Philharmonic: »Europeana«\n\n\n\n\n\n29/05 World-Reihe Philharmonie – Sonah Jobarteh
URL:https://jazz-in-berlin.net/event/hania-rani-ensemble/
LOCATION:Philharmonie\, Herbert-von-Karajan-Straße 1\, Berlin\, 10785
ATTACH;FMTTYPE=image/jpeg:https://upload.wikimedia.org/wikipedia/commons/thumb/b/bc/Berliner_Philharmoniker_logo.svg/2560px-Berliner_Philharmoniker_logo.svg.png
END:VEVENT
BEGIN:VEVENT
DTSTART;TZID=Europe/Berlin:20250331T200000
DTEND;TZID=Europe/Berlin:20250331T230000
DTSTAMP:20260425T191816
CREATED:20241029T064400Z
LAST-MODIFIED:20250316T110216Z
UID:8089-1743451200-1743462000@jazz-in-berlin.net
SUMMARY:Super One Eleven
DESCRIPTION:Lew Spigl\, Edddie Hayes\, Peter Tüllmann – trumpet\, flugelhornPaul Gebauer – trombone\, tubaDieter Jalowietzki – saxophoneFrank Lüdecke – saxophoneThomas Langlotz – bassTobias Tinker – pianoJoe Gehlmann – guitarThomas Holm – drumsMichelle Palka – vocals \n\n\n\n\n\nSuper One Eleven\n\n\n\n\n\n\n\n\n\n\n\n\n\nSuper One Eleven @Kunsfabrik Schlot\n\n\n\nJazz Clubs Berlin \n\n\n\nalle Angaben ohne Gewähr
URL:https://jazz-in-berlin.net/event/super-one-eleven/
LOCATION:Kunstfabrik Schlot\, Invalidenstraße 117\, Berlin\, 10115
ATTACH;FMTTYPE=image/jpeg:https://jazz-in-berlin.net/wp-content/uploads/2024/07/Kunstfabrink-Logo-20.jpg
END:VEVENT
END:VCALENDAR