BEGIN:VCALENDAR
VERSION:2.0
PRODID:-//Berlin Jazz - ECPv6.15.11//NONSGML v1.0//EN
CALSCALE:GREGORIAN
METHOD:PUBLISH
X-WR-CALNAME:Berlin Jazz
X-ORIGINAL-URL:https://jazz-in-berlin.net
X-WR-CALDESC:Veranstaltungen für Berlin Jazz
REFRESH-INTERVAL;VALUE=DURATION:PT1H
X-Robots-Tag:noindex
X-PUBLISHED-TTL:PT1H
BEGIN:VTIMEZONE
TZID:Europe/Berlin
BEGIN:DAYLIGHT
TZOFFSETFROM:+0100
TZOFFSETTO:+0200
TZNAME:CEST
DTSTART:20240331T010000
END:DAYLIGHT
BEGIN:STANDARD
TZOFFSETFROM:+0200
TZOFFSETTO:+0100
TZNAME:CET
DTSTART:20241027T010000
END:STANDARD
BEGIN:DAYLIGHT
TZOFFSETFROM:+0100
TZOFFSETTO:+0200
TZNAME:CEST
DTSTART:20250330T010000
END:DAYLIGHT
BEGIN:STANDARD
TZOFFSETFROM:+0200
TZOFFSETTO:+0100
TZNAME:CET
DTSTART:20251026T010000
END:STANDARD
BEGIN:DAYLIGHT
TZOFFSETFROM:+0100
TZOFFSETTO:+0200
TZNAME:CEST
DTSTART:20260329T010000
END:DAYLIGHT
BEGIN:STANDARD
TZOFFSETFROM:+0200
TZOFFSETTO:+0100
TZNAME:CET
DTSTART:20261025T010000
END:STANDARD
END:VTIMEZONE
BEGIN:VEVENT
DTSTART;TZID=Europe/Berlin:20250403T200000
DTEND;TZID=Europe/Berlin:20250403T223000
DTSTAMP:20260425T191623
CREATED:20250314T152720Z
LAST-MODIFIED:20250314T153210Z
UID:15807-1743710400-1743719400@jazz-in-berlin.net
SUMMARY:Simone Drescher\, Amadeus Wiesensee
DESCRIPTION:Simone Drescher – CelloAmadeus Wiesensee – Klavier \n\n\n\nBohuslav Martinu: Variationen über ein slowakisches Thema Antonin Dvorak: Waldesruhe op. 68 Nr. 5 Leos Janacek: PohadkaMiloslav Kabelic: Sonate für Violoncello und Klavier op. 9I. Passacaglia. GraveII. Fantasia. Molto adagioIII. Scherzo. Allegro giocosoIV. Allegro energicoSergei Rachmaninoff: Sonate für Klavier und Violoncello g-moll op. 19I. Lento Allegro moderatoII. Allegro scherzandoIII. AndanteIV. Allegro mosso \n\n\n\nsimonedrescher.com | amadeuswiesensee.com \n\n\n\n\n\nSimone Drescher\, Amadeus Wiesensee\n\n\n\n\n\n\n\n\n\nCellologueSimone Drescher\n\n\n\n\n\n\n\n\n\nAmadeus Wiesensee plays Skrjabin Sonata No. 9 YOUTUBE\n\n\n\n\n\n\n\n\n\n\n\n\n\n\n\nSimone Drescher\, Amadeus Wiesensee@ Piano Salon Christophori\n\n\n\nJazz Clubs Berlin \n\n\n\nAlle Angaben ohne Gewähr
URL:https://jazz-in-berlin.net/event/simone-drescher-amadeus-wiesensee/
LOCATION:Piano Salon Christophori\, Uferstr.8\, Berlin\, 13357
ATTACH;FMTTYPE=image/jpeg:https://www.konzertfluegel.com/grafix/fluegelseite1_new.gif
END:VEVENT
BEGIN:VEVENT
DTSTART;TZID=Europe/Berlin:20250403T200000
DTEND;TZID=Europe/Berlin:20250403T230000
DTSTAMP:20260425T191623
CREATED:20241008T053200Z
LAST-MODIFIED:20250323T154214Z
UID:6622-1743710400-1743721200@jazz-in-berlin.net
SUMMARY:Berlin Blues Jam Session
DESCRIPTION:Berlin Blues Jam Session\n\n\n\n\n\nBerlin Blues Jam Session\n\n\n\n\n\n\n\n\n\n\n\nBerlin Blues Jam Session @Yorckschlösschen\n\n\n\nJazz Clubs Berlin \n\n\n\nAlle Angaben ohne Gewähr
URL:https://jazz-in-berlin.net/event/berlin-blues-jam-session/
LOCATION:Yorckschlösschen\, Yorckstraße 15\, Berlin\, 10965
ATTACH;FMTTYPE=image/jpeg:https://jazz-in-berlin.net/wp-content/uploads/2024/06/Yorckschloesschen-Logo-30.jpg
END:VEVENT
BEGIN:VEVENT
DTSTART;TZID=Europe/Berlin:20250403T200000
DTEND;TZID=Europe/Berlin:20250403T230000
DTSTAMP:20260425T191623
CREATED:20250328T144821Z
LAST-MODIFIED:20250401T060626Z
UID:16586-1743710400-1743721200@jazz-in-berlin.net
SUMMARY:Wagner solo | Takahashi\, Schmolling
DESCRIPTION:SET 1 Eliad Wagner – modular synthesizer (SOLO) \n\n\n\nSET 2 silent film “La Souriante Madame Beudet” by Germaine Dulac (1923)Accompanied by:Marie Takahashi – violaMarc Schmolling – piano \n\n\n\neliadwagner.com | marietakahashi.info | marc-schmolling.de \n\n\n\n\n\nWagner solo | Takahashi\, Schmolling\n\n\n\n\n\n\n\n\n\n\n\n\n\n\n\n\n\n\n\n\n\n\n\nbefore it begins / 4am lullabiesvon Eliad Wagner\n\n\n\n\n\nqmvon Marie Takahashi – Quentin Stokart\n\n\n\n\n\nSuvenýrvon Marc Schmolling\n\n\n\n\n\nWagner solo | Takahashi\, Schmolling @Kühlspot Social Club\n\n\n\nJazz Clubs Berlin \n\n\n\nalle Angaben ohne Gewähr
URL:https://jazz-in-berlin.net/event/wagner-solo-takahashi-schmolling/
LOCATION:Kühlspot Social Club\, Lehderstraße 74\, Berlin\, 13086
ATTACH;FMTTYPE=image/jpeg:https://jazz-in-berlin.net/wp-content/uploads/2024/08/kuehlspot-social-club-logo.jpg
END:VEVENT
BEGIN:VEVENT
DTSTART;TZID=Europe/Berlin:20250403T203000
DTEND;TZID=Europe/Berlin:20250403T230000
DTSTAMP:20260425T191623
CREATED:20250401T062226Z
LAST-MODIFIED:20250401T062906Z
UID:16727-1743712200-1743721200@jazz-in-berlin.net
SUMMARY:Kiki Annette\, Josephine Pia Wild
DESCRIPTION:Kiki Annette – guitar\, vocals \n\n\n\nJosephine Pia WildJosephine Pia Wild – handpan\, voiceMathilde Vendramin – cello\, backing vocalsEric Pan – piano\, backing vocalspiawild.com \n\n\n\n \n\n\n\n\n\nKiki Annette\, Josephine Pia Wild\n\n\n\n\n\n\n\n\n\nRomanticKiki Annette\n\n\n\n\n\nMultipleby Josephine Pia Wild\n\n\n\n\n\nKiki Annette\, Josephine Pia Wild @ Donau 115\n\n\n\nJazz Clubs Berlin \n\n\n\nAlle Angaben ohne Gewähr
URL:https://jazz-in-berlin.net/event/kiki-annette-josephine-pia-wild/
LOCATION:Donau 115\, Donaustrasse 115\, Berlin\, 12043
ATTACH;FMTTYPE=image/jpeg:https://jazz-in-berlin.net/wp-content/uploads/2024/07/Donau115-Windowview-22-scaled.jpg
END:VEVENT
BEGIN:VEVENT
DTSTART;TZID=Europe/Berlin:20250403T203000
DTEND;TZID=Europe/Berlin:20250403T230000
DTSTAMP:20260425T191623
CREATED:20250401T082429Z
LAST-MODIFIED:20250401T082540Z
UID:16747-1743712200-1743721200@jazz-in-berlin.net
SUMMARY:Kruttli\, Sandsjö\, Strönen
DESCRIPTION:Marie Kruttli piano Otis Sandsjö saxophone Thomas Strönen drums \n\n\n\nmariekruttli.com \n\n\n\n\n\nKruttli\, Sandsjö\, Strönen\n\n\n\n\n\n\n\n\n\nScoriavon MARIE KRÜTTLI TRIO with Lukas Traxel and Gautier Garrigue\n\n\n\n\n\nTransparencevon Marie Kruttli\n\n\n\n\n\nKruttli\, Sandsjö\, Strönen\n\n\n\nJazz Clubs Berlin \n\n\n\nAlle Angaben ohne Gewähr
URL:https://jazz-in-berlin.net/event/kruttli-sandsjoe-stroenen/
LOCATION:Sowieso\, Weisestraße 24\, Berlin\, 12049
ATTACH;FMTTYPE=image/jpeg:https://cortex.persona.co/w/696/q/67/i/ef08edefeaf2227488ee7ad85924c3612b27dea492d11a9145417efdc766b789/wallpaper-green.jpg
END:VEVENT
BEGIN:VEVENT
DTSTART;TZID=Europe/Berlin:20250403T210000
DTEND;TZID=Europe/Berlin:20250403T235900
DTSTAMP:20260425T191623
CREATED:20250310T133958Z
LAST-MODIFIED:20250310T134202Z
UID:6830-1743714000-1743724740@jazz-in-berlin.net
SUMMARY:Francesco Beccaro – UPWARD
DESCRIPTION:Omri Abramov – saxophoneBjössi Klütsch – guitarAndrea Beccaro – drumsFrancesco Beccaro – bass \n\n\n\nfrancescobeccaro.com \n\n\n\n\n\nFrancesco Beccaro – UPWARD\n\n\n\n\n\n\n\n\n\n\n\n\n\n\n\n\n\n\n\n\n\n\n\nUpwardvon Francesco Beccaro\n\n\n\n\n\n\n\n\n\nFrancesco Beccaro – UPWARD @B-Flat\n\n\n\nJazz Clubs Berlin   \n\n\n\nAlle Angaben ohne Gewähr
URL:https://jazz-in-berlin.net/event/francesco-beccaro-upward/
LOCATION:B-Flat\, Dircksenstraße 40\, Berlin\, 10178
ATTACH;FMTTYPE=image/jpeg:https://jazz-in-berlin.net/wp-content/uploads/2024/08/B-Flat-Logo-50.jpg
END:VEVENT
BEGIN:VEVENT
DTSTART;TZID=Europe/Berlin:20250403T210000
DTEND;TZID=Europe/Berlin:20250403T235900
DTSTAMP:20260425T191623
CREATED:20250311T085934Z
LAST-MODIFIED:20250311T091458Z
UID:15672-1743714000-1743724740@jazz-in-berlin.net
SUMMARY:Ari Hoenig Trio
DESCRIPTION:Ari Hoenig Trio\n\n\n\nAri Hoenig – drumsGadi Lehavi – pianoBen Tibero – bass  \n\n\n\narihoenig.com \n\n\n\nAri Hoenig ist ein Jazz-Schlagzeuger\, Komponist und Pädagoge\, der für seine ungewöhnliche und intensive Herangehensweise an das Schlagzeugspiel bekannt ist und komplexe Rhythmen in direkter Harmonie mit anderen Gruppenmitgliedern betont.Ari Hoenig ist vor allem dafür bekannt\, dass sein Schlagzeugspiel nicht nur dazu dient\, das Tempo zu halten oder ein Nebenaspekt der Musik zu sein\, in der er spielt\, sondern dass er das Schlagzeugspiel zu einem unverzichtbaren Teil der Performance macht. Bandcamp \n\n\n\narihoenig.bandcamp.com \n\n\n\nAri Hoenig is a jazz drummer\, composer and educator known for his unusual and intense approach to drumming emphasizing complex rhythms in direct harmony with other group members.Ari is widely noted particularly for his drumming not being relegated to just keeping tempo\, or being a side issue to the music he plays in\, but rather for elevating drumming as an indispensable part of the performance. \n\n\n\n \n\n\n\n\n\n\n\n\n\n\n\nTea for threeAri Hoenig\, Gadi Lehavi\, Ben Tiberio\n\n\n\n\n\nAri Hoenig (drums)\, Gadi Lehavi (piano)\, Ben Tiberio (bass).Special guest: Yoav Eshed (guitar\, on #2 & 5).\n\n\n\n\n\nAri Hoenig Trio @Zig Zag\n\n\n\nJazz Clubs Berlin   \n\n\n\nAlle Angaben ohne Gewähr
URL:https://jazz-in-berlin.net/event/ari-hoenig-trio/
LOCATION:Zig Zag\, Hauptstraße 89\, Berlin\, 12159
ATTACH;FMTTYPE=image/jpeg:https://images.squarespace-cdn.com/content/v1/55146be5e4b0392be71840b6/1431516196750-KT8J11AC198OTFSL66PV/ZZ+full+burgundy+transparent.png?format=1500w
END:VEVENT
END:VCALENDAR