BEGIN:VCALENDAR
VERSION:2.0
PRODID:-//Berlin Jazz - ECPv6.15.11//NONSGML v1.0//EN
CALSCALE:GREGORIAN
METHOD:PUBLISH
X-ORIGINAL-URL:https://jazz-in-berlin.net
X-WR-CALDESC:Veranstaltungen für Berlin Jazz
REFRESH-INTERVAL;VALUE=DURATION:PT1H
X-Robots-Tag:noindex
X-PUBLISHED-TTL:PT1H
BEGIN:VTIMEZONE
TZID:Europe/Berlin
BEGIN:DAYLIGHT
TZOFFSETFROM:+0100
TZOFFSETTO:+0200
TZNAME:CEST
DTSTART:20240331T010000
END:DAYLIGHT
BEGIN:STANDARD
TZOFFSETFROM:+0200
TZOFFSETTO:+0100
TZNAME:CET
DTSTART:20241027T010000
END:STANDARD
BEGIN:DAYLIGHT
TZOFFSETFROM:+0100
TZOFFSETTO:+0200
TZNAME:CEST
DTSTART:20250330T010000
END:DAYLIGHT
BEGIN:STANDARD
TZOFFSETFROM:+0200
TZOFFSETTO:+0100
TZNAME:CET
DTSTART:20251026T010000
END:STANDARD
BEGIN:DAYLIGHT
TZOFFSETFROM:+0100
TZOFFSETTO:+0200
TZNAME:CEST
DTSTART:20260329T010000
END:DAYLIGHT
BEGIN:STANDARD
TZOFFSETFROM:+0200
TZOFFSETTO:+0100
TZNAME:CET
DTSTART:20261025T010000
END:STANDARD
END:VTIMEZONE
BEGIN:VEVENT
DTSTART;TZID=Europe/Berlin:20250404T193000
DTEND;TZID=Europe/Berlin:20250404T223000
DTSTAMP:20260425T192148
CREATED:20250213T104744Z
LAST-MODIFIED:20250213T105130Z
UID:14044-1743795000-1743805800@jazz-in-berlin.net
SUMMARY:Conny Bauer & Rieko Okuda (2 Jazz Radicals)
DESCRIPTION:Conny Bauer tromboneRieko Okuda piano \n\n\n\nagentur-artischocke.de/conny-bauer | riekookuda.com \n\n\n\nTwo of the most radical voices in improvised music \n\n\n\nConny Bauer & Rieko Okuda (2 Jazz Radicals)\n\n\n\n\n\n\n\n\n\n\n\nDas BassposaunenConny Bauer\n\n\n\n\n\nPINK CITRONSvon Rieko Okuda\n\n\n\n\n\nConny Bauer & Rieko Okuda (2 Jazz Radicals)\n\n\n\n@Galiläa-Kirche\n\n\n\nJazz Clubs Berlin \n\n\n\nAlle Angaben ohne Gewähr
URL:https://jazz-in-berlin.net/event/conny-bauer-rieko-okuda-2-jazz-radicals/
LOCATION:Galiläakirche Berlin\, Rigaer Str. 9\, Berlin\, 10247
ATTACH;FMTTYPE=image/jpeg:https://jazz-in-berlin.net/wp-content/uploads/2024/12/galilaeakirche.jpg
END:VEVENT
BEGIN:VEVENT
DTSTART;TZID=Europe/Berlin:20250404T200000
DTEND;TZID=Europe/Berlin:20250404T223000
DTSTAMP:20260425T192148
CREATED:20250314T160951Z
LAST-MODIFIED:20250314T162245Z
UID:15810-1743796800-1743805800@jazz-in-berlin.net
SUMMARY:Gareth Lubbe\, Claudio Bohorquez\, Luis Magalhaes
DESCRIPTION:Gareth Lubbe – ViolineClaudio Bohorquez – CelloLuis Magalhaes – Klavier \n\n\n\nTaneyev  –  Klaviertrio op. 22Tschaikowski – Klaviertrio op.50 \n\n\n\nwiki/Gareth_Lubbe | claudiobohorquez.net | luismagalhaes.com  \n\n\n\n\n\nGareth Lubbe\, Claudio Bohorquez\, Luis Magalhaes\n\n\n\n\n\n\n\n\n\nSituationsSimon Nabatov\, Gareth Lubbe\, Ben Davis\n\n\n\n\n\nSchumann & Elgar: Piano Quintets (Live)Lars Vogt\, Christian Tetzlaff\, Antje Weithaas\, Radoslaw Szulc\, Tatjana Masurenko\, Gustav Rivinius\, Claudio Bohorquez\n\n\n\n\n\nBach: Goldberg Variations (Arr. J.G. Rheinberger & M. Reger)Luis Magalhães\, Nina Schumann\n\n\n\n\n\n\n\n\n\n\n\n\n\n\n\nGareth Lubbe\, Claudio Bohorquez\, Luis Magalhaes@ Piano Salon Christophori\n\n\n\nJazz Clubs Berlin \n\n\n\nAlle Angaben ohne Gewähr
URL:https://jazz-in-berlin.net/event/gareth-lubbe-claudio-bohorquez-luis-magalhaes/
LOCATION:Piano Salon Christophori\, Uferstr.8\, Berlin\, 13357
ATTACH;FMTTYPE=image/jpeg:https://www.konzertfluegel.com/grafix/fluegelseite1_new.gif
END:VEVENT
BEGIN:VEVENT
DTSTART;TZID=Europe/Berlin:20250404T200000
DTEND;TZID=Europe/Berlin:20250404T223000
DTSTAMP:20260425T192148
CREATED:20250323T142239Z
LAST-MODIFIED:20250323T143604Z
UID:16447-1743796800-1743805800@jazz-in-berlin.net
SUMMARY:Chaos Theory
DESCRIPTION:Uri Gincel – Synths\, RhodesOri Jacobson – Tenorsax\, effectsLuca Curcio – bassLucas Johnson – drums\, effects \n\n\n\nPeppi Guggenheim Berlin Live Concert: Chaos Theory YOUTUBE\n\n\n\n\n\nChaos Theory\n\n\n\n\n\n\n\n\n\n\n\n\n\nChaos Theory @Peppi Guggenheim\n\n\n\nJazz Clubs Berlin \n\n\n\nAlle Angaben ohne Gewähr
URL:https://jazz-in-berlin.net/event/chaos-theory/
LOCATION:Peppi Guggenheim\, Weichselstrasse 7\, Berlin\, 12043
ATTACH;FMTTYPE=image/jpeg:https://peppi-guggenheim.de/file/i/45421591740361412.jpg
END:VEVENT
BEGIN:VEVENT
DTSTART;TZID=Europe/Berlin:20250404T200000
DTEND;TZID=Europe/Berlin:20250404T230000
DTSTAMP:20260425T192148
CREATED:20250323T133317Z
LAST-MODIFIED:20250323T134512Z
UID:16422-1743796800-1743807600@jazz-in-berlin.net
SUMMARY:Doria\, Dahlgren\, Dondero
DESCRIPTION:Incense of Music 62 \n\n\n\nPedro Alcàcer Doria: Theorbe\, LauteChris  Dahlgren\, Viola da gambaFabio Dondero (Incense burning): Labdanum \n\n\n\npedroalcacer.com | incenseofmusic.com \n\n\n\n\n\nSongs from a dystopian utopiavon DHALGREN\n\n\n\n\n\nLuis Milán – Primer libro intitulado „El Maestro“von Pedro Alcacer – Vihuela\n\n\n\n\n\nDoria\, Dahlgren\, Dondero\n\n\n\n\n\n\n\n\n\nDoria\, Dahlgren\, Dondero //#pandajazz\n\n\n\nJazz Clubs Berlin \n\n\n\nAlle Angaben ohne Gewähr
URL:https://jazz-in-berlin.net/event/doria-dahlgren-dondero/
ATTACH;FMTTYPE=image/jpeg:https://panda-platforma.berlin/wp-content/uploads/panda-logo-2020-_2_.svg
END:VEVENT
BEGIN:VEVENT
DTSTART;TZID=Europe/Berlin:20250404T200000
DTEND;TZID=Europe/Berlin:20250404T230000
DTSTAMP:20260425T192148
CREATED:20250323T150729Z
LAST-MODIFIED:20250323T151439Z
UID:16462-1743796800-1743807600@jazz-in-berlin.net
SUMMARY:Matthias Harig Quintett
DESCRIPTION:Matthias Harig Trompete\, Flügelhorn\, VocalDan-Robin Matthies PianoRobin Draganic KontrabassRalf Ruh Schlagzeug \n\n\n\njazz-harig.de \n\n\n\n\n\nMatthias Harig Quintett\n\n\n\n\n\n\n\n\n\n\n\nState Of ThingsJürgen KnieperEngelhardt\, DirkHarig\, MathiasBahner\, MichaelThimm\, Stefan2000\n\n\n\n\n\n\n\n\n\n\n\nMatthias Harig Quintett @Yorckschlösschen\n\n\n\nJazz Clubs Berlin \n\n\n\nAlle Angaben ohne Gewähr
URL:https://jazz-in-berlin.net/event/matthias-harig-quintett/
LOCATION:Yorckschlösschen\, Yorckstraße 15\, Berlin\, 10965
ATTACH;FMTTYPE=image/jpeg:https://jazz-in-berlin.net/wp-content/uploads/2024/06/Yorckschloesschen-Logo-30.jpg
END:VEVENT
BEGIN:VEVENT
DTSTART;TZID=Europe/Berlin:20250404T200000
DTEND;TZID=Europe/Berlin:20250404T230000
DTSTAMP:20260425T192148
CREATED:20250328T151205Z
LAST-MODIFIED:20250401T060644Z
UID:16596-1743796800-1743807600@jazz-in-berlin.net
SUMMARY:The Circle 5.0
DESCRIPTION:Hans Peter Hiby – tenor saxophoneTobias Delius – tenor saxophone\, clarinetReza Askari – double bassWilli Kellers – drums \n\n\n\nhanspeterhiby.com | wiki/Tobias_Delius | reza-askari.com | willikellers.de \n\n\n\n\n\nThe Circle 5.0\n\n\n\n\n\n\n\n\n\n\n\n\n\n\n\n\n\n\n\n\n\n\n\nRootsHans Peter Hiby\, Michael Bardon\, Paul Hession\n\n\n\n\n\nBanquet of consequencesvon Antonio Borghini\n\n\n\n\n\nZen World Cablesvon Reza Askari\n\n\n\n\n\nOne For Ciscovon Thomas Borgmann\, Max Johnson\, Willi Kellers\n\n\n\n\n\n \n\n\n\nThe Circle 5.0 @Kühlspot Social Club\n\n\n\nJazz Clubs Berlin \n\n\n\nalle Angaben ohne Gewähr
URL:https://jazz-in-berlin.net/event/the-circle-5-0/
LOCATION:Kühlspot Social Club\, Lehderstraße 74\, Berlin\, 13086
ATTACH;FMTTYPE=image/jpeg:https://jazz-in-berlin.net/wp-content/uploads/2024/08/kuehlspot-social-club-logo.jpg
END:VEVENT
BEGIN:VEVENT
DTSTART;TZID=Europe/Berlin:20250404T200000
DTEND;TZID=Europe/Berlin:20250404T233000
DTSTAMP:20260425T192148
CREATED:20250401T082712Z
LAST-MODIFIED:20250401T083827Z
UID:16750-1743796800-1743809400@jazz-in-berlin.net
SUMMARY:Takase\, Erdmann\, Mahall
DESCRIPTION:Aki Takase piano Daniel Erdmann saxophone Rudi Mahall bass clarinet  \n\n\n\nTakase\, Erdmann\, Mahall\n\n\n\n\n\n\n\n\n\n\n\nEllingtonAki Takase\, Daniel Erdmann\n\n\n\n\n\nEvergreenby AKI TAKASE – RUDI MAHALL\n\n\n\n\n\nTakase\, Erdmann\, Mahall\n\n\n\nJazz Clubs Berlin \n\n\n\nAlle Angaben ohne Gewähr
URL:https://jazz-in-berlin.net/event/takase-erdmann-mahall/
LOCATION:Sowieso\, Weisestraße 24\, Berlin\, 12049
ATTACH;FMTTYPE=image/jpeg:https://cortex.persona.co/w/696/q/67/i/ef08edefeaf2227488ee7ad85924c3612b27dea492d11a9145417efdc766b789/wallpaper-green.jpg
END:VEVENT
BEGIN:VEVENT
DTSTART;TZID=Europe/Berlin:20250404T201500
DTEND;TZID=Europe/Berlin:20250404T230000
DTSTAMP:20260425T192148
CREATED:20250323T075957Z
LAST-MODIFIED:20250323T080912Z
UID:6896-1743797700-1743807600@jazz-in-berlin.net
SUMMARY:Ron Spielman presents his Organ Trio
DESCRIPTION:Ron Spielman – guitar\, vocalYasmin Hadisubrata – organMichael Dau – drums \n\n\n\n\n\nRon Spielman presents his Organ Trio\n\n\n\n\n\n\n\n\n\n\n\n\nRon Spielman Trio\n\n\n\n\n\n\nParallel RealRüdiger Krause feat. Michael Dau & Yasmin Hadisubrata\n\n\n\n\n\nCyclesDaisam Jalo\, Yasmin Hadisubrata\, Felix Barth\, David Johannes Louis Guy\n\n\n\n\n\nRon Spielman presents his Organ Trio\n\n\n\n@Badenscher Hof \n\n\n\nJazz Clubs Berlin \n\n\n\nAlle Angaben ohne Gewähr
URL:https://jazz-in-berlin.net/event/ron-spielman-presents-his-organ-trio/
LOCATION:Badenscher Hof\, Badensche Straße 29\, Berlin\, 10715
ATTACH;FMTTYPE=:
END:VEVENT
BEGIN:VEVENT
DTSTART;TZID=Europe/Berlin:20250404T203000
DTEND;TZID=Europe/Berlin:20250404T230000
DTSTAMP:20260425T192148
CREATED:20250401T063508Z
LAST-MODIFIED:20250401T064346Z
UID:16732-1743798600-1743807600@jazz-in-berlin.net
SUMMARY:Liv Andrea Hauge Trio
DESCRIPTION:Liv Andrea Hauge – pianoGeorgia Wartel Collins – bassAugust Glännestrand – drumslivandreahauge.com \n\n\n\n \n\n\n\n\n\nLiv Andrea Hauge Trio\n\n\n\n\n\n\n\n\n\nVille Blomsterby Liv Andrea Hauge TrioGeorgia Wartel Collins – Double bassAugust Glännestrand – DrumsLiv Andrea Hauge – Piano\n\n\n\n\n\nHva nå\, Ekko?by Liv Andrea Hauge EnsembleRagnhild Moan – vocalsMarte Eberson – synth\, vocalsSigne Emmeluth – saxophoneTorstein Lavik Larsen – trumpetFredrik Luhr Dietrichson – double bassAndreas Winther – drumsLiv Andrea Hauge – piano\, vocals\n\n\n\n\n\nLiv Andrea Hauge Trio @ Donau 115\n\n\n\nJazz Clubs Berlin \n\n\n\nAlle Angaben ohne Gewähr
URL:https://jazz-in-berlin.net/event/liv-andrea-hauge-trio/
LOCATION:Donau 115\, Donaustrasse 115\, Berlin\, 12043
ATTACH;FMTTYPE=image/jpeg:https://jazz-in-berlin.net/wp-content/uploads/2024/07/Donau115-Windowview-22-scaled.jpg
END:VEVENT
BEGIN:VEVENT
DTSTART;TZID=Europe/Berlin:20250404T210000
DTEND;TZID=Europe/Berlin:20250404T235900
DTSTAMP:20260425T192148
CREATED:20250311T091144Z
LAST-MODIFIED:20250311T091435Z
UID:3919-1743800400-1743811140@jazz-in-berlin.net
SUMMARY:Hila Kulik Group
DESCRIPTION:Hila Kulik – pianoBen Kraef – saxophoneJosh Ginsburg – bassJordan Dinsdale – drums \n\n\n\nhilakulik.com \n\n\n\n\n\nHila Kulik Group\n\n\n\n\n\n\n\n\nHila Kulik piano – More than a Change\n\n\n\n\nHila Kulik Group @Zig Zag\n\n\n\nJazz Clubs Berlin \n\n\n\nAlle Angaben ohne Gewähr
URL:https://jazz-in-berlin.net/event/hila-kulik-group/
LOCATION:Zig Zag\, Hauptstraße 89\, Berlin\, 12159
ATTACH;FMTTYPE=image/jpeg:https://images.squarespace-cdn.com/content/v1/55146be5e4b0392be71840b6/1431516196750-KT8J11AC198OTFSL66PV/ZZ+full+burgundy+transparent.png?format=1500w
END:VEVENT
BEGIN:VEVENT
DTSTART;TZID=Europe/Berlin:20250404T210000
DTEND;TZID=Europe/Berlin:20250404T235900
DTSTAMP:20260425T192148
CREATED:20250319T102311Z
LAST-MODIFIED:20250319T110623Z
UID:2479-1743800400-1743811140@jazz-in-berlin.net
SUMMARY:Maria Baptist Orchestra
DESCRIPTION:10 Jahre Maria Baptist Orchestra – Zwei Jubiläumskonzerte im Schlot \n\n\n\nRhythm: Piano – Maria Baptist\, Bass – Fabian Timm\, Drums – Heinz LichiusReeds: Jonas Schoen\, Paulo Cedraz\, Nils Feldmann\, Patrick Hamacher\, Nik LeistleTrumpets: Philip Sindy\, Fabian Engwicht\, Ruben Giannotti\, Alexander GibsonTrombones: Will Pethick\, Geoffroy de Masure\, Laszlo Griese\, Christopher Sauloff \n\n\n\nAm 4. April 2025 (99. Konzert) steht die Nacht der Suiten im Fokus – Werke\, die die besondere Handschrift des Ensembles tragen: inspiriert von symphonischen Klangkörpern\, durchkomponiert und doch voller improvisatorischer Freiheit. \n\n\n\n\n\nMaria Baptist Orchestra\n\n\n\n\n\n\n\n\nMaria Baptist piano arrangement\n\n\n\n\nMaria Baptist Orchestra @Kunsfabrik Schlot\n\n\n\nJazz Clubs Berlin \n\n\n\nAlle Angaben ohne Gewähr
URL:https://jazz-in-berlin.net/event/maria-baptist-orchestra/
LOCATION:Kunstfabrik Schlot\, Invalidenstraße 117\, Berlin\, 10115
ATTACH;FMTTYPE=image/jpeg:https://jazz-in-berlin.net/wp-content/uploads/2024/07/Kunstfabrink-Logo-20.jpg
END:VEVENT
END:VCALENDAR