BEGIN:VCALENDAR
VERSION:2.0
PRODID:-//Berlin Jazz - ECPv6.15.11//NONSGML v1.0//EN
CALSCALE:GREGORIAN
METHOD:PUBLISH
X-ORIGINAL-URL:https://jazz-in-berlin.net
X-WR-CALDESC:Veranstaltungen für Berlin Jazz
REFRESH-INTERVAL;VALUE=DURATION:PT1H
X-Robots-Tag:noindex
X-PUBLISHED-TTL:PT1H
BEGIN:VTIMEZONE
TZID:Europe/Berlin
BEGIN:DAYLIGHT
TZOFFSETFROM:+0100
TZOFFSETTO:+0200
TZNAME:CEST
DTSTART:20230326T010000
END:DAYLIGHT
BEGIN:STANDARD
TZOFFSETFROM:+0200
TZOFFSETTO:+0100
TZNAME:CET
DTSTART:20231029T010000
END:STANDARD
BEGIN:DAYLIGHT
TZOFFSETFROM:+0100
TZOFFSETTO:+0200
TZNAME:CEST
DTSTART:20240331T010000
END:DAYLIGHT
BEGIN:STANDARD
TZOFFSETFROM:+0200
TZOFFSETTO:+0100
TZNAME:CET
DTSTART:20241027T010000
END:STANDARD
BEGIN:DAYLIGHT
TZOFFSETFROM:+0100
TZOFFSETTO:+0200
TZNAME:CEST
DTSTART:20250330T010000
END:DAYLIGHT
BEGIN:STANDARD
TZOFFSETFROM:+0200
TZOFFSETTO:+0100
TZNAME:CET
DTSTART:20251026T010000
END:STANDARD
END:VTIMEZONE
BEGIN:VEVENT
DTSTART;TZID=Europe/Berlin:20241201T150000
DTEND;TZID=Europe/Berlin:20241201T180000
DTSTAMP:20260425T143402
CREATED:20241028T064827Z
LAST-MODIFIED:20241028T065650Z
UID:8315-1733065200-1733076000@jazz-in-berlin.net
SUMMARY:Andrej Hermlin and his Swing Dance Orchestra
DESCRIPTION:RACHEL – swinging sweatheartANDREJ – bienenzüchterTHE REEFERMAN – Erfinder des DavidophonesJOYCE – BürgermeisterinJACK – der QuotenaustralierLARS – BilliardspielerDUPSI – besorgt die Uhren und KrawattenTHE DUKE – britisch höflicher KlarinettistMALTE – spielte als Mr.T. Tukur an den RandDJANGO – fährt gern AutoSWINGMACHINE – tänzelnder KornettistGENA – verwandelt amerikanischen Swing in russische Schlager \n\n\n\n\n\nAndrej Hermlin and his Swing Dance Orchestra\n\n\n\n\n\n\n\n\nTHE SWINGIN HERMLINS\n\n\n\n\nAndrej Hermlin and his Swing Dance Orchestra
URL:https://jazz-in-berlin.net/event/andrej-hermlin-and-his-swing-dance-orchestra/
LOCATION:Philharmonie\, Herbert-von-Karajan-Straße 1\, Berlin\, 10785
ATTACH;FMTTYPE=image/jpeg:https://upload.wikimedia.org/wikipedia/commons/thumb/b/bc/Berliner_Philharmoniker_logo.svg/2560px-Berliner_Philharmoniker_logo.svg.png
END:VEVENT
BEGIN:VEVENT
DTSTART;TZID=Europe/Berlin:20241201T153000
DTEND;TZID=Europe/Berlin:20241201T180000
DTSTAMP:20260425T143402
CREATED:20241102T062100Z
LAST-MODIFIED:20241201T072820Z
UID:8263-1733067000-1733076000@jazz-in-berlin.net
SUMMARY:BROM & INSOMNIA BRASS BAND
DESCRIPTION:BROMAlexander Beierbach – tenor- & soprano saxophoneJan Roder – bassChristian Marien – drums \n\n\n\nINSOMNIA BRASS BANDAnke Lucks – tromboneAlmut Schlichting – baritone saxophoneChristian Marien – drums \n\n\n\n\n\nBROM & INSOMNIA BRASS BAND\n\n\n\n\n\n\n\nBROM & INSOMNIA BRASS BAND
URL:https://jazz-in-berlin.net/event/brom-insomnia-brass-band/
LOCATION:Industriesalon Schöneweide\, Reinbeckstraße 9\, Berlin\, 12459
ATTACH;FMTTYPE=image/jpeg:https://jazz-in-berlin.net/wp-content/uploads/2024/09/Jazzkeller-69-EV-Logo.jpg
END:VEVENT
BEGIN:VEVENT
DTSTART;TZID=Europe/Berlin:20241201T200000
DTEND;TZID=Europe/Berlin:20241201T223000
DTSTAMP:20260425T143402
CREATED:20241103T153402Z
LAST-MODIFIED:20241103T153403Z
UID:8594-1733083200-1733092200@jazz-in-berlin.net
SUMMARY:Round Midlife Bigband präsentiert
DESCRIPTION:Trumpets: Thomas Kramps\, Momchil Hristov\, Astrid Gräff\, Michael Kern\, Gabriele Stuckmann\, Henning KrauseTrombones: Philipp Droste zu Senden\, Martina Bartl-Stahl\, Jenny Kanus\, Gerhard KrügerSaxophone: Viola Hecht-Schwabenbauer\, Christoph Sanft\, Hans-Peter Mohr\, Christa Schütt-Heinrich\, Klaus BernerRhythm: Volker Boest (p)\, Pablo Mentzinis (g)\, Dirk Baumann (b)\, Tilman Kellersmann (d)\, Christiane Holtz (perc)Gesang: Ute Fischer-Kramps \n\n\n\nBandleader: Michael Rowalska \n\n\n\nround-midlife.de \n\n\n\n\n\nRound Midlife Bigband präsentiert\n\n\n\n\n\n\n\n\n\n\n\n\n\n\n\n\n\nRound Midlife Bigband präsentiert
URL:https://jazz-in-berlin.net/event/round-midlife-bigband-praesentiert/
LOCATION:Kunstfabrik Schlot\, Invalidenstraße 117\, Berlin\, 10115
ATTACH;FMTTYPE=image/jpeg:https://jazz-in-berlin.net/wp-content/uploads/2024/07/Kunstfabrink-Logo-20.jpg
END:VEVENT
BEGIN:VEVENT
DTSTART;TZID=Europe/Berlin:20241201T203000
DTEND;TZID=Europe/Berlin:20241201T230000
DTSTAMP:20260425T143402
CREATED:20241102T060600Z
LAST-MODIFIED:20241031T102049Z
UID:8432-1733085000-1733094000@jazz-in-berlin.net
SUMMARY:TOYTOY X UMBERTO ECHO
DESCRIPTION:Allynx b2b Sean Steinfeger (Opening DJ-Set/IL/D) \n\n\n\nTOYTOY X Umberto Echo (Oneness Rec./D) *live*Alex Eckert – GuitarsSilvan Strauss – DrumsSamuel Wootton – Percussion / MalletsUmberto Echo – sound enginieer Frank Pollak – KeyboardMoritz von Korff – Bass \n\n\n\n\n\nTOYTOY X UMBERTO ECHO\n\n\n\n\n\n\n\nSurprise SurpriseUmberto Echo\, TOYTOY\n\n\n\nTOYTOY X UMBERTO ECHO
URL:https://jazz-in-berlin.net/event/toytoy-x-umberto-echo/
LOCATION:Gretchen\, Obentrautstraße 19-21\, Berlin\, 10963
ATTACH;FMTTYPE=image/jpeg:https://www.gretchen-club.de/css/images/logo.png
END:VEVENT
BEGIN:VEVENT
DTSTART;TZID=Europe/Berlin:20241201T203000
DTEND;TZID=Europe/Berlin:20241201T235900
DTSTAMP:20260425T143402
CREATED:20241123T171419Z
LAST-MODIFIED:20241123T173859Z
UID:9014-1733085000-1733097540@jazz-in-berlin.net
SUMMARY:Anna Setton
DESCRIPTION:Anna Setton – voice and guitarEdu Sangirardi – pianoRogério Pitomba – drums \n\n\n\nAnna Setton\n\n\n\n\n\n\n\n\n\n\n\nO Futuro É Mais BonitoAnna Setton2023\n\n\n\n\n\nOnde mora meu cora​ç​ã​ovon ANNA SETTON2021\n\n\n\n\n\nANNA SETTONvon Anna Setton2018\n\n\n\n\n\nAnna Setton
URL:https://jazz-in-berlin.net/event/anna-setton/
LOCATION:Donau 115\, Donaustrasse 115\, Berlin\, 12043
ATTACH;FMTTYPE=:
END:VEVENT
BEGIN:VEVENT
DTSTART;TZID=Europe/Berlin:20241201T210000
DTEND;TZID=Europe/Berlin:20241201T235900
DTSTAMP:20260425T143402
CREATED:20240610T071650Z
LAST-MODIFIED:20241110T074534Z
UID:3202-1733086800-1733097540@jazz-in-berlin.net
SUMMARY:Greek Night: Anonimi
DESCRIPTION:Despoina Paraschou – vocalsLeonidas Kyriakides – vocals\, bouzoukiOdysseas Sariannidis – bazoukiIoannis Stergiou – guitarThanassis Boulis – bassLeonidas Adamidis – baglama\, persussions
URL:https://jazz-in-berlin.net/event/greek-night-anonimi/
LOCATION:Zig Zag\, Hauptstraße 89\, Berlin\, 12159
ATTACH;FMTTYPE=image/jpeg:https://images.squarespace-cdn.com/content/v1/55146be5e4b0392be71840b6/1431516196750-KT8J11AC198OTFSL66PV/ZZ+full+burgundy+transparent.png?format=1500w
END:VEVENT
BEGIN:VEVENT
DTSTART;TZID=Europe/Berlin:20241201T210000
DTEND;TZID=Europe/Berlin:20241201T235900
DTSTAMP:20260425T143402
CREATED:20241102T114153Z
LAST-MODIFIED:20241102T114154Z
UID:8485-1733086800-1733097540@jazz-in-berlin.net
SUMMARY:Jive Park Swing
DESCRIPTION:Julia Alsheimer & Boris Bläske – vocalTorsten Roske & Amadeo Bonaiuto – trumpetAndreas Kallenborn – tromboneJochen Wiechen & Thomas Zwerger – saxophoneBernd Rosso – guitarHolger Dressler – pianoKai Wiegert – bassKim Sung Wook – drumsThomas Germer – clarinet\, conductor \n\n\n\njivepark.de \n\n\n\nJive Park Swing\n\n\n\n \n\n\n\n\n\n\n\n\n\n\n\nJive Park Swing
URL:https://jazz-in-berlin.net/event/jive-park-swing/
LOCATION:B-Flat\, Dircksenstraße 40\, Berlin\, 10178
ATTACH;FMTTYPE=image/jpeg:https://jazz-in-berlin.net/wp-content/uploads/2024/08/B-Flat-Logo-50.jpg
END:VEVENT
BEGIN:VEVENT
DTSTART;TZID=Europe/Berlin:20241202T200000
DTEND;TZID=Europe/Berlin:20241202T220000
DTSTAMP:20260425T143402
CREATED:20241130T141537Z
LAST-MODIFIED:20241130T141537Z
UID:9115-1733169600-1733176800@jazz-in-berlin.net
SUMMARY:Ishikawa\, Ário | Death\, Gogol\, Okuda
DESCRIPTION:Set 1:Mizuki Ishikawa – cleaningLun Ário – electronics\, melodica\, found objects \n\n\n\nSet 2:Naabtal Death – electronicsAndreas Gogol – electronicsRieko Okuda – piano \n\n\n\n\n\nIshikawa\, Ário | Death\, Gogol\, Okuda\n\n\n\n\n\n\n\nIshikawa\, Ário | Death\, Gogol\, Okuda
URL:https://jazz-in-berlin.net/event/ishikawa-ario-death-gogol-okuda/
LOCATION:Kühlspot Social Club\, Lehderstraße 74\, Berlin\, 13086
ATTACH;FMTTYPE=:
END:VEVENT
BEGIN:VEVENT
DTSTART;TZID=Europe/Berlin:20241202T200000
DTEND;TZID=Europe/Berlin:20241202T223000
DTSTAMP:20260425T143402
CREATED:20241102T090436Z
LAST-MODIFIED:20241130T125442Z
UID:8469-1733169600-1733178600@jazz-in-berlin.net
SUMMARY:Klavierabend mit Benjamin Hochman
DESCRIPTION:Benjamin Hochman – Klavier  \n\n\n\n„Resonance“ CD Release ConcertBeethoven  – Piano Sonata No. 7 Op. 10/3Josquin des Prez c. 1450/55- 1521 – Ave ChristeBeethoven – Piano Sonata No. 30 Op. 109George Benjamin b. 1960 – Shadowlines6 Canonic Preludes for PianoJohn Dowland 1563- 1626 Set by William Byrd 1543- 1623Pavana Lachrymae MB 54 after John Dowland’s pavan for lute Lachrimae P15 \n\n\n\nBeethoven – Piano Sonata No. 31 in A flat Op. 110 \n\n\n\nbenjaminhochman.com \n\n\n\n\n\nKlavierabend mit Benjamin Hochman\n\n\n\n\n\n\n\n\n\nResonance: Beethoven • Benjamin • Dowland • JosquinBenjamin Hochman\n\n\n\n\n\nHomage to Schubert: György Kurtág • Jörg Widmann • Franz SchubertBenjamin Hochman\n\n\n\n\n\nKlavierabend mit Benjamin Hochman
URL:https://jazz-in-berlin.net/event/klavierabend-mit-benjamin-hochman/
LOCATION:Piano Salon Christophori\, Uferstr.8\, Berlin\, 13357
ATTACH;FMTTYPE=image/jpeg:https://www.konzertfluegel.com/grafix/fluegelseite1_new.gif
END:VEVENT
BEGIN:VEVENT
DTSTART;TZID=Europe/Berlin:20241202T203000
DTEND;TZID=Europe/Berlin:20241202T230000
DTSTAMP:20260425T143402
CREATED:20241201T082035Z
LAST-MODIFIED:20241201T082036Z
UID:9145-1733171400-1733180400@jazz-in-berlin.net
SUMMARY:Peder Simonsen & Jo David Meyer Lysne with Otis Sandsjö // Henrik Nørstebø (solo)
DESCRIPTION:20:30Henrik Nørstebø (solo) \n\n\n\n21:30Peder SimonsenJo David Meyer Lysne with Otis Sandsjö \n\n\n\n\n\nPeder Simonsen & Jo David Meyer Lysne with Otis Sandsjö // Henrik Nørstebø (solo)\n\n\n\n\n\n\n\nPeder Simonsen & Jo David Meyer Lysne with Otis Sandsjö // Henrik Nørstebø (solo)
URL:https://jazz-in-berlin.net/event/peder-simonsen-jo-david-meyer-lysne-with-otis-sandsjoe-henrik-norstebo-solo/
LOCATION:Morphine Raum\, Köpenicker Straße 147\, Berlin\, 10997
ATTACH;FMTTYPE=image/jpeg:https://jazz-in-berlin.net/wp-content/uploads/2024/10/Morphine-Raum-02.jpg
END:VEVENT
BEGIN:VEVENT
DTSTART;TZID=Europe/Berlin:20241202T210000
DTEND;TZID=Europe/Berlin:20241202T233000
DTSTAMP:20260425T143402
CREATED:20241103T153758Z
LAST-MODIFIED:20241103T153759Z
UID:8596-1733173200-1733182200@jazz-in-berlin.net
SUMMARY:Rehm Meissner Henkelhausen Spallati
DESCRIPTION:Vincent Meissner – pianoFelix Henkelhausen – bassIgor Spallati – bassLenny Rehm – drums \n\n\n\n\n\nRehm Meissner Henkelhausen Spallati\n\n\n\n\n\n\n\n\n\n\n\n\n\nRehm Meissner Henkelhausen Spallati
URL:https://jazz-in-berlin.net/event/rehm-meissner-henkelhausen-spallati/
LOCATION:Kunstfabrik Schlot\, Invalidenstraße 117\, Berlin\, 10115
ATTACH;FMTTYPE=image/jpeg:https://jazz-in-berlin.net/wp-content/uploads/2024/07/Kunstfabrink-Logo-20.jpg
END:VEVENT
BEGIN:VEVENT
DTSTART;TZID=Europe/Berlin:20241203T200000
DTEND;TZID=Europe/Berlin:20241203T220000
DTSTAMP:20260425T143402
CREATED:20241130T142148Z
LAST-MODIFIED:20241130T142337Z
UID:9117-1733256000-1733263200@jazz-in-berlin.net
SUMMARY:Yoon\, Steyer\, Stolyar | Teller\, Dörner
DESCRIPTION:Set 1:Min Yoon – butoh danceEdith Steyer – clarinet\, alto saxophoneRoman Stolyar – piano \n\n\n\ndancetotheedge.com | romanstolyar.bandcamp.com | edith-steyer.de \n\n\n\nSet 2:Jørgen Teller – guitarAxel Dörner – trumpet \n\n\n\njorgenteller.bandcamp.com | axeldoerner.org \n\n\n\n\n\nYoon\, Steyer\, Stolyar | Teller\, Dörner\n\n\n\n\n\n\n\nYoon\, Steyer\, Stolyar | Teller\, Dörner
URL:https://jazz-in-berlin.net/event/yoon-steyer-stolyar-teller-doerner/
LOCATION:Kühlspot Social Club\, Lehderstraße 74\, Berlin\, 13086
ATTACH;FMTTYPE=:
END:VEVENT
BEGIN:VEVENT
DTSTART;TZID=Europe/Berlin:20241203T200000
DTEND;TZID=Europe/Berlin:20241203T223000
DTSTAMP:20260425T143402
CREATED:20241104T061200Z
LAST-MODIFIED:20241102T091848Z
UID:8473-1733256000-1733265000@jazz-in-berlin.net
SUMMARY:Sergey Malov Irina Zahharenkova
DESCRIPTION:Sergey Malov – Violine & Violoncello da SpallaIrina Zahharenkova – Klavier \n\n\n\nSchubert –  Grand Duo A- Dur für Violine und Klavier D574 Schubert – Sonate „Arpeggione“ für Violoncello da Spalla und Klavier D821 Schubert – Fantasie C-Dur D934  \n\n\n\n\n\nSergey Malov Irina Zahharenkova\n\n\n\n\n\n\n\n\n\nBach – 300 Years Of SolitudeSergey Malov\n\n\n\n\n\nDomenico Scarlatti: Piano sonatasIrina Zahharenkova\n\n\n\n\n\nSergey Malov Irina Zahharenkova
URL:https://jazz-in-berlin.net/event/sergey-malov-irina-zahharenkova/
LOCATION:Piano Salon Christophori\, Uferstr.8\, Berlin\, 13357
ATTACH;FMTTYPE=:
END:VEVENT
BEGIN:VEVENT
DTSTART;TZID=Europe/Berlin:20241203T200000
DTEND;TZID=Europe/Berlin:20241203T230000
DTSTAMP:20260425T143402
CREATED:20240614T103829Z
LAST-MODIFIED:20241203T064647Z
UID:3495-1733256000-1733266800@jazz-in-berlin.net
SUMMARY:Jazz at Berlin Philharmonic: »Piano Night«
DESCRIPTION:Jazz at Berlin Philharmonic: »Piano Night« \n\n\n\nMichael Wollny – KlavierIiro Rantala – KlavierLeszek Możdżer – KlavierGrégory Privat – Klavier
URL:https://jazz-in-berlin.net/event/jazz-at-berlin-philharmonic-piano-night/
LOCATION:Philharmonie\, Herbert-von-Karajan-Straße 1\, Berlin\, 10785
ATTACH;FMTTYPE=image/jpeg:https://upload.wikimedia.org/wikipedia/commons/thumb/b/bc/Berliner_Philharmoniker_logo.svg/2560px-Berliner_Philharmoniker_logo.svg.png
END:VEVENT
BEGIN:VEVENT
DTSTART;TZID=Europe/Berlin:20241203T200000
DTEND;TZID=Europe/Berlin:20241203T230000
DTSTAMP:20260425T143402
CREATED:20241104T062600Z
LAST-MODIFIED:20241102T120131Z
UID:3598-1733256000-1733266800@jazz-in-berlin.net
SUMMARY:Musethica e.V. präsentiert
DESCRIPTION:Musethica e.V. präsentiertKlassik Session \n\n\n\n\n\nMusethica e.V. präsentiert\n\n\n\n\n\n\n\nMusethica e.V. präsentiert
URL:https://jazz-in-berlin.net/event/musethica-e-v-praesentiert/
LOCATION:Yorckschlösschen\, Yorckstraße 15\, Berlin\, 10965
ATTACH;FMTTYPE=image/jpeg:https://jazz-in-berlin.net/wp-content/uploads/2024/06/Yorckschloesschen-Logo-30.jpg
END:VEVENT
BEGIN:VEVENT
DTSTART;TZID=Europe/Berlin:20241203T210000
DTEND;TZID=Europe/Berlin:20241203T233000
DTSTAMP:20260425T143402
CREATED:20241104T064300Z
LAST-MODIFIED:20241103T154559Z
UID:8598-1733259600-1733268600@jazz-in-berlin.net
SUMMARY:MTJQ
DESCRIPTION:Kenneth Berkel – pianoNiko Zeidler – saxophoneAlex Will – bassJohannes Koch – drums \n\n\n\n\n\nMTJQ\n\n\n\n\n\n\n\n\n\n\n\n\n\n\nKenneth Berkel Niko Zeidler Dizzy Dodo\n\n\n\n\nMTJQ
URL:https://jazz-in-berlin.net/event/mtjq/
LOCATION:Kunstfabrik Schlot\, Invalidenstraße 117\, Berlin\, 10115
ATTACH;FMTTYPE=image/jpeg:https://jazz-in-berlin.net/wp-content/uploads/2024/07/Kunstfabrink-Logo-20.jpg
END:VEVENT
BEGIN:VEVENT
DTSTART;TZID=Europe/Berlin:20241203T210000
DTEND;TZID=Europe/Berlin:20241203T235900
DTSTAMP:20260425T143402
CREATED:20241104T064300Z
LAST-MODIFIED:20241102T114916Z
UID:8487-1733259600-1733270340@jazz-in-berlin.net
SUMMARY:Blaž Švagan - “Sound in Time”
DESCRIPTION:Blaž Švagan – tenor saxophoneGrgur Savić – alto saxophoneOto Gvardjančič – piano Gal Golob – bassSteven Moser – drums \n\n\n\nblaz-svagan.com \n\n\n\nBlaž Švagan – “Sound in Time”\n\n\n\n \n\n\n\n\n\n\n\n\n\n\n\n\n\nSound In Timevon Blaž Švagan – tenor saxophone\, composition\, arrangementsNazareno Caputo – vibraphoneMiha Koren – double bassMatheus Jardim – drumsFeaturing: Boris Majcen – trumpet on “13th Warrior”\n\n\n\n\n\n\n\n\n\nBlaž Švagan – “Sound in Time”
URL:https://jazz-in-berlin.net/event/blaz-svagan-sound-in-time/
LOCATION:B-Flat\, Dircksenstraße 40\, Berlin\, 10178
ATTACH;FMTTYPE=image/jpeg:https://jazz-in-berlin.net/wp-content/uploads/2024/08/B-Flat-Logo-50.jpg
END:VEVENT
BEGIN:VEVENT
DTSTART;TZID=Europe/Berlin:20241204T200000
DTEND;TZID=Europe/Berlin:20241204T220000
DTSTAMP:20260425T143402
CREATED:20241130T142700Z
LAST-MODIFIED:20241202T065111Z
UID:9121-1733342400-1733349600@jazz-in-berlin.net
SUMMARY:Thieke Kakaliagou Janek Teichmann
DESCRIPTION:Michael Thieke – clarinetElena Kakaliagou – french hornKlaus Janek – doublebass fxHannes Teichmann – processing and live electronicsKatsia Kaya – voice\, processing \n\n\n\n\n\nThieke Kakaliagou Janek Teichmann\n\n\n\n\n\n\n\nThieke Kakaliagou Janek Teichmann
URL:https://jazz-in-berlin.net/event/paramilitary-wagner-group/
LOCATION:Kühlspot Social Club\, Lehderstraße 74\, Berlin\, 13086
ATTACH;FMTTYPE=:
END:VEVENT
BEGIN:VEVENT
DTSTART;TZID=Europe/Berlin:20241204T200000
DTEND;TZID=Europe/Berlin:20241204T223000
DTSTAMP:20260425T143402
CREATED:20241105T060400Z
LAST-MODIFIED:20241109T081532Z
UID:8471-1733342400-1733351400@jazz-in-berlin.net
SUMMARY:Klavierabend mit Martina Consonni
DESCRIPTION:Martina Consonni – Klavier  \n\n\n\nHaydn – Sonata per pianoforte Hob:XVI:50Schubert – Sonata per pianoforte  D 664Mendelssohn Bartholdy – Variations serieusesSchumann – Papillons per pianoforte op. 2Chopin – Scherzo per pianoforte n. 2 op. 11 \n\n\n\nmartinaconsonni.com \n\n\n\n\n\nKlavierabend mit Martina Consonni\n\n\n\n\n\n\n\n\n\nMartina Consonni\, Sarah Jégou-Sageman\, Jeein You – Fondation Gautier CapuçonMartina Consonni\, Sarah Jégou-Sageman\, Jeein You\n\n\n\n\n\nKinderszenen\, Op. 15Martina Consonni\n\n\n\n\n\nKlavierabend mit Martina Consonni
URL:https://jazz-in-berlin.net/event/klavierabend-mit-martina-consonni/
LOCATION:Piano Salon Christophori\, Uferstr.8\, Berlin\, 13357
ATTACH;FMTTYPE=image/jpeg:https://www.konzertfluegel.com/grafix/fluegelseite1_new.gif
END:VEVENT
BEGIN:VEVENT
DTSTART;TZID=Europe/Berlin:20241204T200000
DTEND;TZID=Europe/Berlin:20241204T230000
DTSTAMP:20260425T143402
CREATED:20241105T060100Z
LAST-MODIFIED:20241102T120545Z
UID:8494-1733342400-1733353200@jazz-in-berlin.net
SUMMARY:Mrs. King and her Juwels
DESCRIPTION:Mrs. King and her JuwelsBlues’n Boogie \n\n\n\nMeike König – GesangMarius Labsch – PianoFrank Rihm – HarpAndreas Bock – Drums \n\n\n\n\n\nMrs. King and her Juwels\n\n\n\n\n\n\n\nMrs. King and her Juwels
URL:https://jazz-in-berlin.net/event/mrs-king-and-her-juwels/
LOCATION:Yorckschlösschen\, Yorckstraße 15\, Berlin\, 10965
ATTACH;FMTTYPE=:
END:VEVENT
BEGIN:VEVENT
DTSTART;TZID=Europe/Berlin:20241204T200000
DTEND;TZID=Europe/Berlin:20241204T230000
DTSTAMP:20260425T143402
CREATED:20241105T062400Z
LAST-MODIFIED:20241020T113329Z
UID:8058-1733342400-1733353200@jazz-in-berlin.net
SUMMARY:ROSE – GERIGK // PANDA
DESCRIPTION:Jonas Gerigk – KontrabassSimon Rose – Baritonsaxophon \n\n\n\njonasgerigk.de | simonrose.org \n\n\n\nROSE – GERIGK // PANDAjazz\n\n\n\n\n\n\n\n\n\n\n\nS​é​ancevon Philippe Lemoine / Simon Rose\n\n\n\n\n\nParaglidingJonas Gerigk\, Marco Fiorini\, Michal Wróblewski\n\n\n\n\n\nROSE – GERIGK // PANDAjazz
URL:https://jazz-in-berlin.net/event/rose-gerigk-panda/
ATTACH;FMTTYPE=:
END:VEVENT
BEGIN:VEVENT
DTSTART;TZID=Europe/Berlin:20241204T203000
DTEND;TZID=Europe/Berlin:20241204T230000
DTSTAMP:20260425T143402
CREATED:20241105T064700Z
LAST-MODIFIED:20241103T135216Z
UID:8533-1733344200-1733353200@jazz-in-berlin.net
SUMMARY:Julian & Roman Wasserfuhr «MOSAIC»
DESCRIPTION:Julian Wasserfuhr – TrompeteRoman Wasserfuhr – PianoJörg Brinkmann – Cello \n\n\n\n\n\nJulian & Roman Wasserfuhr «MOSAIC»\n\n\n\n\n\n\n\n\n\nMosaicJulian & Roman Wasserfuhr\n\n\n\n\n\n\n\n\n\nJulian & Roman Wasserfuhr «MOSAIC»
URL:https://jazz-in-berlin.net/event/julian-roman-wasserfuhr-mosaic/
LOCATION:A-Trane\, Bleibtreustraße 1\, Berlin\, 10625
ATTACH;FMTTYPE=:
END:VEVENT
BEGIN:VEVENT
DTSTART;TZID=Europe/Berlin:20241204T203000
DTEND;TZID=Europe/Berlin:20241204T230000
DTSTAMP:20260425T143402
CREATED:20241107T063000Z
LAST-MODIFIED:20241123T171740Z
UID:8529-1733344200-1733353200@jazz-in-berlin.net
SUMMARY:JIB Wednesday SPK 𝗔𝗻𝗻𝗮 𝗕𝗼𝗿𝘀𝗱𝗼𝗿𝗳
DESCRIPTION:𝗦𝗣𝗞 \n\n\n\nPaolo de Jesus – trumpet/flugelhornJohannes Schwarting – altosaxMads Riis – GuitarVictor Vollmer – GuitarChris Sergeant – BassSteven Moser – Drums \n\n\n\n𝗔𝗻𝗻𝗮 𝗕𝗼𝗿𝘀𝗱𝗼𝗿𝗳 \n\n\n\nAnna Borsdorf – VoiceKäthe Johanning – KeysMax Feig – GuitarJohann Greve – BassSteven Moser – Drums \n\n\n\nJIB Wednesday SPK 𝗔𝗻𝗻𝗮 𝗕𝗼𝗿𝘀𝗱𝗼𝗿𝗳\n\n\n\n\n\n\n\n\n\nJIB Wednesday SPK 𝗔𝗻𝗻𝗮 𝗕𝗼𝗿𝘀𝗱𝗼𝗿𝗳
URL:https://jazz-in-berlin.net/event/jib-wednesday-neumueller-sjoestroem-2/
LOCATION:Donau 115\, Donaustrasse 115\, Berlin\, 12043
ATTACH;FMTTYPE=image/jpeg:https://jazz-in-berlin.net/wp-content/uploads/2024/07/Donau115-Windowview-22-scaled.jpg
END:VEVENT
BEGIN:VEVENT
DTSTART;TZID=Europe/Berlin:20241204T203000
DTEND;TZID=Europe/Berlin:20241204T230000
DTSTAMP:20260425T143402
CREATED:20241123T185422Z
LAST-MODIFIED:20241123T185423Z
UID:9029-1733344200-1733353200@jazz-in-berlin.net
SUMMARY:Festival Sacred Realism Day 1
DESCRIPTION:Laura Steenberge\, Piriforms (low version) (2010)Owen Gardner\, Catherine Lamb\, Bryan Eubanks\, Dylan Kerr (voices) \n\n\n\nLaura Steenberge\, The Ademar Studies (2024)Talk and performance by Laura Steenberge on 72 Verses for St. Martial by Ademar de Chabannes\, an eleventh-century monk \n\n\n\nLaura Steenberge\, Ademar Studies 2-4 (2024) for voice and viola da gamba \n\n\n\n\n\nFestival Sacred Realism Day 1\n\n\n\n\n\n\n\n\n\n\n\n\n\n\n\n\n\nFestival Sacred Realism Day 1
URL:https://jazz-in-berlin.net/event/festival-sacred-realism-day-1/
LOCATION:KM 28\, Karl-Marx-Straße 28\, Berlin\, 12043
ATTACH;FMTTYPE=image/jpeg:https://jazz-in-berlin.net/wp-content/uploads/2023/06/KM-28-Logo-20.jpg
END:VEVENT
BEGIN:VEVENT
DTSTART;TZID=Europe/Berlin:20241204T203000
DTEND;TZID=Europe/Berlin:20241204T230000
DTSTAMP:20260425T143402
CREATED:20241201T082245Z
LAST-MODIFIED:20241201T082245Z
UID:9147-1733344200-1733353200@jazz-in-berlin.net
SUMMARY:Carla Boregas presents “Zona Morta”
DESCRIPTION:20:30Carla Boregas presents “Zona Morta” with Elshan Ghasimi (setar) Juliana Perdigão (bass clarinet)  Réka Csiszér (cello) \n\n\n\n\n\nCarla Boregas presents “Zona Morta”\n\n\n\n\n\n\n\n\n\n\n\n\n\n\n\n\n\nCarla Boregas presents “Zona Morta”
URL:https://jazz-in-berlin.net/event/carla-boregas-presents-zona-morta/
LOCATION:Morphine Raum\, Köpenicker Straße 147\, Berlin\, 10997
ATTACH;FMTTYPE=image/jpeg:https://jazz-in-berlin.net/wp-content/uploads/2024/10/Morphine-Raum-02.jpg
END:VEVENT
BEGIN:VEVENT
DTSTART;TZID=Europe/Berlin:20241204T203000
DTEND;TZID=Europe/Berlin:20241204T233000
DTSTAMP:20260425T143402
CREATED:20241123T155033Z
LAST-MODIFIED:20241123T155033Z
UID:8985-1733344200-1733355000@jazz-in-berlin.net
SUMMARY:The Still
DESCRIPTION:Chris Abrahams – pianoSteve Heather – drumsDerek Shirley – bassRico Lee – guitar \n\n\n\nchrisabrahams.com | steveheather.net | ricolee.de \n\n\n\nThe Still\n\n\n\n\n\n\n\n\n\n\n\nGot Itvon The StillSteve Heather – drumsChris Abrahams – pianoDerek Shirley – bassRico Lee – guitar\n\n\n\n\n\nThe Stillvon The Still\n\n\n\n\n\nThe Still
URL:https://jazz-in-berlin.net/event/the-still-2/
LOCATION:Sowieso\, Weisestraße 24\, Berlin\, 12049
ATTACH;FMTTYPE=image/jpeg:https://cortex.persona.co/w/696/q/67/i/ef08edefeaf2227488ee7ad85924c3612b27dea492d11a9145417efdc766b789/wallpaper-green.jpg
END:VEVENT
BEGIN:VEVENT
DTSTART;TZID=Europe/Berlin:20241204T210000
DTEND;TZID=Europe/Berlin:20241204T233000
DTSTAMP:20260425T143402
CREATED:20241105T064500Z
LAST-MODIFIED:20241103T154639Z
UID:8600-1733346000-1733355000@jazz-in-berlin.net
SUMMARY:Musikschule Paul Hindemith Neukölln
DESCRIPTION:zu Gast im SchlotJazz-Standards und Eigenkompositionen auf die Bühne \n\n\n\nBöhlen\, Werner & ErdemSebastian Böhlen – GitarreSidney Werner – BassJulian Erdem – Schlagzeug \n\n\n\n\n\nMusikschule Paul Hindemith Neukölln\n\n\n\n\n\n\n\n\n\n\n\n\n\nMusikschule Paul Hindemith Neukölln
URL:https://jazz-in-berlin.net/event/musikschule-paul-hindemith-neukoelln-2/
LOCATION:Kunstfabrik Schlot\, Invalidenstraße 117\, Berlin\, 10115
ATTACH;FMTTYPE=:
END:VEVENT
BEGIN:VEVENT
DTSTART;TZID=Europe/Berlin:20241204T210000
DTEND;TZID=Europe/Berlin:20241204T235900
DTSTAMP:20260425T143402
CREATED:20241110T075056Z
LAST-MODIFIED:20241110T075057Z
UID:8764-1733346000-1733356740@jazz-in-berlin.net
SUMMARY:Erik Leuthäuser Quartett - Sucht
DESCRIPTION:Erik Leuthäuser  – voclasJulius Windisch – piano\, synthsSofia Eftychidou – bassAndi Haberl – drums \n\n\n\nErik Leuthäuser Quartett – Sucht\n\n\n\n \n\n\n\n\n\n\n\n\n\n\n\n\n\nSuchtvon Erik Leuthäuser\n\n\n\n\n\n\n\n\n\nErik Leuthäuser Quartett – Sucht
URL:https://jazz-in-berlin.net/event/erik-leuthaeuser-quartett-sucht/
LOCATION:Zig Zag\, Hauptstraße 89\, Berlin\, 12159
ATTACH;FMTTYPE=:
END:VEVENT
BEGIN:VEVENT
DTSTART;TZID=Europe/Berlin:20241204T220000
DTEND;TZID=Europe/Berlin:20241204T235900
DTSTAMP:20260425T143402
CREATED:20241122T114126Z
LAST-MODIFIED:20241122T114126Z
UID:8937-1733349600-1733356740@jazz-in-berlin.net
SUMMARY:ÁRSTÍÐIR – A Story of Harmony & Passion
DESCRIPTION:Daníel Auðunsson – vocalsGunnar Már Jakobsson – vocalsRagnar Ólafsson – vocalsJean-Samuel Bez – violinGuillaume Lagravière – cello \n\n\n\narstidir.com \n\n\n\n\n\nÁRSTÍÐIR – A Story of Harmony & Passion\n\n\n\n\n\n\n\n\n\nVetrars​ó​lby Árstíðir\n\n\n\n\n\n\n\n\n\nÁRSTÍÐIR – A Story of Harmony & Passion
URL:https://jazz-in-berlin.net/event/arstidir-a-story-of-harmony-passion/
LOCATION:Quasimodo\, Kantstrasse 12a\, Berlin\, 10623
ATTACH;FMTTYPE=image/jpeg:https://quasimodo.club/wp-content/uploads/2018/07/Quasimodo_Logo.png
END:VEVENT
BEGIN:VEVENT
DTSTART;TZID=Europe/Berlin:20241205T183000
DTEND;TZID=Europe/Berlin:20241205T235900
DTSTAMP:20260425T143402
CREATED:20241110T080507Z
LAST-MODIFIED:20241110T080508Z
UID:8769-1733423400-1733443140@jazz-in-berlin.net
SUMMARY:Bill Stewart Trio with Walter Smith III & Larry Grenadier
DESCRIPTION:Doppelkonzert 18:30 und 21:00 \n\n\n\nBill Stewart – drumsWalter Smith III – saxLarry Grenadier – bass \n\n\n\nBill Stewart Trio with Walter Smith III & Larry Grenadier\n\n\n\n \n\n\n\n\n\n\n\n\n\n\n\n\n\nShort StoriesVicente Archer\, Gerald Clayton\, Bill Stewart\n\n\n\n\n\nthree of us are from Houston and Reuben is notWalter Smith III\n\n\n\n\n\nThe GleanersLarry Grenadier\n\n\n\n\n\nBill Stewart Trio with Walter Smith III & Larry Grenadier
URL:https://jazz-in-berlin.net/event/bill-stewart-trio-with-walter-smith-iii-larry-grenadier/
LOCATION:Zig Zag\, Hauptstraße 89\, Berlin\, 12159
ATTACH;FMTTYPE=:
END:VEVENT
END:VCALENDAR